BEGIN:VCALENDAR
VERSION:2.0
PRODID:-//Óbudai Egyetem - Neumann János Informatikai Kar - ECPv6.15.0.1//NONSGML v1.0//EN
CALSCALE:GREGORIAN
METHOD:PUBLISH
X-WR-CALNAME:Óbudai Egyetem - Neumann János Informatikai Kar
X-ORIGINAL-URL:https://nik.uni-obuda.hu
X-WR-CALDESC:Események Óbudai Egyetem - Neumann János Informatikai Kar
REFRESH-INTERVAL;VALUE=DURATION:PT1H
X-Robots-Tag:noindex
X-PUBLISHED-TTL:PT1H
BEGIN:VTIMEZONE
TZID:Europe/Paris
BEGIN:DAYLIGHT
TZOFFSETFROM:+0100
TZOFFSETTO:+0200
TZNAME:CEST
DTSTART:20230326T010000
END:DAYLIGHT
BEGIN:STANDARD
TZOFFSETFROM:+0200
TZOFFSETTO:+0100
TZNAME:CET
DTSTART:20231029T010000
END:STANDARD
END:VTIMEZONE
BEGIN:VEVENT
DTSTART;VALUE=DATE:20230220
DTEND;VALUE=DATE:20230225
DTSTAMP:20260424T163631
CREATED:20230224T180321Z
LAST-MODIFIED:20230224T180321Z
UID:5026-1676851200-1677283199@nik.uni-obuda.hu
SUMMARY:Regisztrációs hét
DESCRIPTION:
URL:https://nik.uni-obuda.hu/event/regisztracios-het-4/
CATEGORIES:magyar
END:VEVENT
BEGIN:VEVENT
DTSTART;VALUE=DATE:20230220
DTEND;VALUE=DATE:20230225
DTSTAMP:20260424T163631
CREATED:20230303T202253Z
LAST-MODIFIED:20230303T202253Z
UID:5101-1676851200-1677283199@nik.uni-obuda.hu
SUMMARY:Registration week
DESCRIPTION:
URL:https://nik.uni-obuda.hu/event/registration-week/
CATEGORIES:angol
END:VEVENT
BEGIN:VEVENT
DTSTART;TZID=Europe/Paris:20230223T170000
DTEND;TZID=Europe/Paris:20230223T193000
DTSTAMP:20260424T163631
CREATED:20230224T180421Z
LAST-MODIFIED:20230224T180507Z
UID:5028-1677171600-1677180600@nik.uni-obuda.hu
SUMMARY:Gábor Dénes-díjasok Klubja - "A holográfia fejlődése"
DESCRIPTION:Gábor Dénes-díjasok Klubja az ÓE-n
URL:https://nik.uni-obuda.hu/event/gabor-denes-dijasok-klubja-a-holografia-fejlodese/
LOCATION:1034 Budapest\, Bécsi út 96/B.
CATEGORIES:magyar
END:VEVENT
BEGIN:VEVENT
DTSTART;TZID=Europe/Paris:20230223T170000
DTEND;TZID=Europe/Paris:20230223T193000
DTSTAMP:20260424T163631
CREATED:20230303T202929Z
LAST-MODIFIED:20230303T202935Z
UID:5103-1677171600-1677180600@nik.uni-obuda.hu
SUMMARY:Gábor Dénes Awarded Club "Development of hologram”
DESCRIPTION:Gábor Dénes-díjasok Klubja az ÓE-n
URL:https://nik.uni-obuda.hu/event/gabor-denes-awarded-club-development-of-hologram/
LOCATION:1034 Budapest\, Bécsi út 96/B.
CATEGORIES:angol
END:VEVENT
END:VCALENDAR