BEGIN:VCALENDAR
VERSION:2.0
PRODID:-//Óbudai Egyetem - Neumann János Informatikai Kar - ECPv6.15.0.1//NONSGML v1.0//EN
CALSCALE:GREGORIAN
METHOD:PUBLISH
X-ORIGINAL-URL:https://nik.uni-obuda.hu
X-WR-CALDESC:Események Óbudai Egyetem - Neumann János Informatikai Kar
REFRESH-INTERVAL;VALUE=DURATION:PT1H
X-Robots-Tag:noindex
X-PUBLISHED-TTL:PT1H
BEGIN:VTIMEZONE
TZID:Europe/Paris
BEGIN:DAYLIGHT
TZOFFSETFROM:+0100
TZOFFSETTO:+0200
TZNAME:CEST
DTSTART:20230326T010000
END:DAYLIGHT
BEGIN:STANDARD
TZOFFSETFROM:+0200
TZOFFSETTO:+0100
TZNAME:CET
DTSTART:20231029T010000
END:STANDARD
END:VTIMEZONE
BEGIN:VEVENT
DTSTART;VALUE=DATE:20230831
DTEND;VALUE=DATE:20230904
DTSTAMP:20260422T173457
CREATED:20230910T174101Z
LAST-MODIFIED:20230910T174120Z
UID:5931-1693440000-1693785599@nik.uni-obuda.hu
SUMMARY:Gólyatábor
DESCRIPTION:
URL:https://nik.uni-obuda.hu/event/golyatabor/
LOCATION:Tiszafüred
CATEGORIES:magyar
END:VEVENT
BEGIN:VEVENT
DTSTART;VALUE=DATE:20230831
DTEND;VALUE=DATE:20230904
DTSTAMP:20260422T173457
CREATED:20230911T001530Z
LAST-MODIFIED:20230911T001530Z
UID:6018-1693440000-1693785599@nik.uni-obuda.hu
SUMMARY:Freshers Camp
DESCRIPTION:https://nikhok.hu/en/golyatabor-2023/
URL:https://nik.uni-obuda.hu/event/freshers-camp/
LOCATION:Tiszafüred
CATEGORIES:angol
END:VEVENT
END:VCALENDAR