BEGIN:VCALENDAR
VERSION:2.0
PRODID:-//Óbudai Egyetem - Neumann János Informatikai Kar - ECPv6.15.0.1//NONSGML v1.0//EN
CALSCALE:GREGORIAN
METHOD:PUBLISH
X-WR-CALNAME:Óbudai Egyetem - Neumann János Informatikai Kar
X-ORIGINAL-URL:https://nik.uni-obuda.hu
X-WR-CALDESC:Események Óbudai Egyetem - Neumann János Informatikai Kar
REFRESH-INTERVAL;VALUE=DURATION:PT1H
X-Robots-Tag:noindex
X-PUBLISHED-TTL:PT1H
BEGIN:VTIMEZONE
TZID:Europe/Paris
BEGIN:DAYLIGHT
TZOFFSETFROM:+0100
TZOFFSETTO:+0200
TZNAME:CEST
DTSTART:20230326T010000
END:DAYLIGHT
BEGIN:STANDARD
TZOFFSETFROM:+0200
TZOFFSETTO:+0100
TZNAME:CET
DTSTART:20231029T010000
END:STANDARD
END:VTIMEZONE
BEGIN:VEVENT
DTSTART;VALUE=DATE:20230904
DTEND;VALUE=DATE:20231217
DTSTAMP:20260422T172536
CREATED:20230910T174712Z
LAST-MODIFIED:20230910T174712Z
UID:5938-1693785600-1702771199@nik.uni-obuda.hu
SUMMARY:Szorgalmi időszak
DESCRIPTION:
URL:https://nik.uni-obuda.hu/event/szorgalmi-idoszak-5/
CATEGORIES:magyar
END:VEVENT
BEGIN:VEVENT
DTSTART;VALUE=DATE:20230904
DTEND;VALUE=DATE:20231217
DTSTAMP:20260422T172536
CREATED:20230911T001949Z
LAST-MODIFIED:20230911T001949Z
UID:6022-1693785600-1702771199@nik.uni-obuda.hu
SUMMARY:Lecture period
DESCRIPTION:
URL:https://nik.uni-obuda.hu/event/lecture-period-2/
CATEGORIES:angol
END:VEVENT
BEGIN:VEVENT
DTSTART;VALUE=DATE:20230911
DTEND;VALUE=DATE:20230912
DTSTAMP:20260422T172536
CREATED:20230910T174858Z
LAST-MODIFIED:20230910T174858Z
UID:5943-1694390400-1694476799@nik.uni-obuda.hu
SUMMARY:Első tanítási nap
DESCRIPTION:
URL:https://nik.uni-obuda.hu/event/elso-tanitasi-nap-2/
LOCATION:1034 Budapest\, Bécsi út 96/B.
CATEGORIES:magyar
END:VEVENT
BEGIN:VEVENT
DTSTART;VALUE=DATE:20230911
DTEND;VALUE=DATE:20230912
DTSTAMP:20260422T172536
CREATED:20230911T002011Z
LAST-MODIFIED:20230911T002011Z
UID:6023-1694390400-1694476799@nik.uni-obuda.hu
SUMMARY:First lecture day
DESCRIPTION:
URL:https://nik.uni-obuda.hu/event/first-lecture-day-2/
LOCATION:1034 Budapest\, Bécsi út 96/B.
CATEGORIES:angol
END:VEVENT
BEGIN:VEVENT
DTSTART;TZID=Europe/Paris:20230911T140000
DTEND;TZID=Europe/Paris:20230911T170000
DTSTAMP:20260422T172536
CREATED:20230910T174819Z
LAST-MODIFIED:20230910T174819Z
UID:5940-1694440800-1694451600@nik.uni-obuda.hu
SUMMARY:Évnyitó
DESCRIPTION:
URL:https://nik.uni-obuda.hu/event/evnyito/
LOCATION:Várkert Bazár\, 1013 Budapest\, Ybl Miklós tér 2-6
CATEGORIES:magyar
END:VEVENT
BEGIN:VEVENT
DTSTART;TZID=Europe/Paris:20230911T140000
DTEND;TZID=Europe/Paris:20230911T170000
DTSTAMP:20260422T172537
CREATED:20230911T002031Z
LAST-MODIFIED:20230911T002044Z
UID:6024-1694440800-1694451600@nik.uni-obuda.hu
SUMMARY:Opening ceremony
DESCRIPTION:
URL:https://nik.uni-obuda.hu/event/opening-ceremony/
LOCATION:Várkert Bazár\, 1013 Budapest\, Ybl Miklós tér 2-6
CATEGORIES:angol
END:VEVENT
END:VCALENDAR