BEGIN:VCALENDAR
VERSION:2.0
PRODID:-//Óbudai Egyetem - Neumann János Informatikai Kar - ECPv6.15.0.1//NONSGML v1.0//EN
CALSCALE:GREGORIAN
METHOD:PUBLISH
X-ORIGINAL-URL:https://nik.uni-obuda.hu
X-WR-CALDESC:Események Óbudai Egyetem - Neumann János Informatikai Kar
REFRESH-INTERVAL;VALUE=DURATION:PT1H
X-Robots-Tag:noindex
X-PUBLISHED-TTL:PT1H
BEGIN:VTIMEZONE
TZID:Europe/Paris
BEGIN:DAYLIGHT
TZOFFSETFROM:+0100
TZOFFSETTO:+0200
TZNAME:CEST
DTSTART:20230326T010000
END:DAYLIGHT
BEGIN:STANDARD
TZOFFSETFROM:+0200
TZOFFSETTO:+0100
TZNAME:CET
DTSTART:20231029T010000
END:STANDARD
END:VTIMEZONE
BEGIN:VEVENT
DTSTART;VALUE=DATE:20230904
DTEND;VALUE=DATE:20231217
DTSTAMP:20260422T155502
CREATED:20230910T174712Z
LAST-MODIFIED:20230910T174712Z
UID:5938-1693785600-1702771199@nik.uni-obuda.hu
SUMMARY:Szorgalmi időszak
DESCRIPTION:
URL:https://nik.uni-obuda.hu/event/szorgalmi-idoszak-5/
CATEGORIES:magyar
END:VEVENT
BEGIN:VEVENT
DTSTART;VALUE=DATE:20230904
DTEND;VALUE=DATE:20231217
DTSTAMP:20260422T155502
CREATED:20230911T001949Z
LAST-MODIFIED:20230911T001949Z
UID:6022-1693785600-1702771199@nik.uni-obuda.hu
SUMMARY:Lecture period
DESCRIPTION:
URL:https://nik.uni-obuda.hu/event/lecture-period-2/
CATEGORIES:angol
END:VEVENT
BEGIN:VEVENT
DTSTART;VALUE=DATE:20231013
DTEND;VALUE=DATE:20231023
DTSTAMP:20260422T155502
CREATED:20231009T133648Z
LAST-MODIFIED:20231009T134753Z
UID:6169-1697155200-1698019199@nik.uni-obuda.hu
SUMMARY:CyberQuest - Online forduló
DESCRIPTION:Online forduló: 2023. október 13-22.\nDöntő: 2023. november 3. | Bosch Budapest Innovációs Kampusz\nA versenyt lehetővé tevő infrastruktúrát a HUN-REN biztosítja.\nRészletes információ és regisztráció: https://honeylab.hu/events/
URL:https://nik.uni-obuda.hu/event/cyberquest-online-fordulo/
CATEGORIES:magyar
END:VEVENT
END:VCALENDAR