BEGIN:VCALENDAR
VERSION:2.0
PRODID:-//Óbudai Egyetem - Neumann János Informatikai Kar - ECPv6.15.0.1//NONSGML v1.0//EN
CALSCALE:GREGORIAN
METHOD:PUBLISH
X-ORIGINAL-URL:https://nik.uni-obuda.hu
X-WR-CALDESC:Események Óbudai Egyetem - Neumann János Informatikai Kar
REFRESH-INTERVAL;VALUE=DURATION:PT1H
X-Robots-Tag:noindex
X-PUBLISHED-TTL:PT1H
BEGIN:VTIMEZONE
TZID:Europe/Paris
BEGIN:DAYLIGHT
TZOFFSETFROM:+0100
TZOFFSETTO:+0200
TZNAME:CEST
DTSTART:20230326T010000
END:DAYLIGHT
BEGIN:STANDARD
TZOFFSETFROM:+0200
TZOFFSETTO:+0100
TZNAME:CET
DTSTART:20231029T010000
END:STANDARD
END:VTIMEZONE
BEGIN:VEVENT
DTSTART;VALUE=DATE:20230904
DTEND;VALUE=DATE:20231217
DTSTAMP:20260422T140901
CREATED:20230910T174712Z
LAST-MODIFIED:20230910T174712Z
UID:5938-1693785600-1702771199@nik.uni-obuda.hu
SUMMARY:Szorgalmi időszak
DESCRIPTION:
URL:https://nik.uni-obuda.hu/event/szorgalmi-idoszak-5/
CATEGORIES:magyar
END:VEVENT
BEGIN:VEVENT
DTSTART;VALUE=DATE:20230904
DTEND;VALUE=DATE:20231217
DTSTAMP:20260422T140901
CREATED:20230911T001949Z
LAST-MODIFIED:20230911T001949Z
UID:6022-1693785600-1702771199@nik.uni-obuda.hu
SUMMARY:Lecture period
DESCRIPTION:
URL:https://nik.uni-obuda.hu/event/lecture-period-2/
CATEGORIES:angol
END:VEVENT
BEGIN:VEVENT
DTSTART;VALUE=DATE:20231103
DTEND;VALUE=DATE:20231124
DTSTAMP:20260422T140901
CREATED:20230224T181726Z
LAST-MODIFIED:20230224T181726Z
UID:5075-1698969600-1700783999@nik.uni-obuda.hu
SUMMARY:Magyar Tudomány Ünnepe 2023
DESCRIPTION:
URL:https://nik.uni-obuda.hu/event/magyar-tudomany-unnepe-2023/
CATEGORIES:magyar
END:VEVENT
BEGIN:VEVENT
DTSTART;VALUE=DATE:20231103
DTEND;VALUE=DATE:20231124
DTSTAMP:20260422T140901
CREATED:20230303T203629Z
LAST-MODIFIED:20230303T203629Z
UID:5125-1698969600-1700783999@nik.uni-obuda.hu
SUMMARY:Celebration of Hungarian Science 2023
DESCRIPTION:
URL:https://nik.uni-obuda.hu/event/celebration-of-hungarian-science-2023/
CATEGORIES:angol
END:VEVENT
BEGIN:VEVENT
DTSTART;VALUE=DATE:20231114
DTEND;VALUE=DATE:20231115
DTSTAMP:20260422T140901
CREATED:20230910T181130Z
LAST-MODIFIED:20230910T181130Z
UID:5982-1699920000-1700006399@nik.uni-obuda.hu
SUMMARY:NIK Kari kutatócsoportok bemutatkozása 2023
DESCRIPTION:A minőségi oktatási tevékenység mellett a Neumann János Informatikai Kar tudományos munka és innováció otthona is. A kutatócsoportok és kutatólaborok szoros együttműködésben dolgoznak az Egyetemi Kutató és Innovációs Központtal. A Kar széleskörű kutatási portfóliójába tartoznak az orvosi informatika\, mesterséges intelligencia\, kiberbiztonság\, beágyazott rendszerek\, drónfejlesztés\, párhuzamos és elosztott rendszerek és egyéb alkalmazott informatikai kutatások.
URL:https://nik.uni-obuda.hu/event/nik-kari-kutatocsoportok-bemutatkozasa-2023/
LOCATION:1034 Budapest\, Bécsi út 96/B. F09
CATEGORIES:magyar
END:VEVENT
END:VCALENDAR