BEGIN:VCALENDAR
VERSION:2.0
PRODID:-//Óbudai Egyetem - Neumann János Informatikai Kar - ECPv6.15.0.1//NONSGML v1.0//EN
CALSCALE:GREGORIAN
METHOD:PUBLISH
X-WR-CALNAME:Óbudai Egyetem - Neumann János Informatikai Kar
X-ORIGINAL-URL:https://nik.uni-obuda.hu
X-WR-CALDESC:Események Óbudai Egyetem - Neumann János Informatikai Kar
REFRESH-INTERVAL;VALUE=DURATION:PT1H
X-Robots-Tag:noindex
X-PUBLISHED-TTL:PT1H
BEGIN:VTIMEZONE
TZID:Europe/Paris
BEGIN:DAYLIGHT
TZOFFSETFROM:+0100
TZOFFSETTO:+0200
TZNAME:CEST
DTSTART:20240331T010000
END:DAYLIGHT
BEGIN:STANDARD
TZOFFSETFROM:+0200
TZOFFSETTO:+0100
TZNAME:CET
DTSTART:20241027T010000
END:STANDARD
END:VTIMEZONE
BEGIN:VEVENT
DTSTART;TZID=Europe/Paris:20240528T130000
DTEND;TZID=Europe/Paris:20240528T160000
DTSTAMP:20260422T034309
CREATED:20240521T101141Z
LAST-MODIFIED:20240521T101141Z
UID:17453-1716901200-1716912000@nik.uni-obuda.hu
SUMMARY:Doktorandusz szeminárium 2024 vol. 2
DESCRIPTION:Cserfalvi Annamária: Jelnyelven támogatott informatikai oktatási modellek\nKiss Dániel: Diabétesz kialakulását leíró modell paraméterbecslése keresztmetszeti adatok felhasználásával\nKrutilla Zsolt: Magyar nyelvi modellek alkalmazása a bankszektor back-office területén\nSomlyai László: Mobil robotok környezetének valósidejű térképezése
URL:https://nik.uni-obuda.hu/event/doktorandusz-szeminarium-2024-vol-2/
LOCATION:F08
CATEGORIES:magyar
END:VEVENT
END:VCALENDAR