BEGIN:VCALENDAR
VERSION:2.0
PRODID:-//Óbudai Egyetem - Neumann János Informatikai Kar - ECPv6.15.0.1//NONSGML v1.0//EN
CALSCALE:GREGORIAN
METHOD:PUBLISH
X-WR-CALNAME:Óbudai Egyetem - Neumann János Informatikai Kar
X-ORIGINAL-URL:https://nik.uni-obuda.hu
X-WR-CALDESC:Események Óbudai Egyetem - Neumann János Informatikai Kar
REFRESH-INTERVAL;VALUE=DURATION:PT1H
X-Robots-Tag:noindex
X-PUBLISHED-TTL:PT1H
BEGIN:VTIMEZONE
TZID:Europe/Paris
BEGIN:DAYLIGHT
TZOFFSETFROM:+0100
TZOFFSETTO:+0200
TZNAME:CEST
DTSTART:20240331T010000
END:DAYLIGHT
BEGIN:STANDARD
TZOFFSETFROM:+0200
TZOFFSETTO:+0100
TZNAME:CET
DTSTART:20241027T010000
END:STANDARD
END:VTIMEZONE
BEGIN:VEVENT
DTSTART;TZID=Europe/Paris:20241024T120000
DTEND;TZID=Europe/Paris:20241024T120000
DTSTAMP:20260421T213030
CREATED:20241009T124332Z
LAST-MODIFIED:20241009T124332Z
UID:27385-1729771200-1729771200@nik.uni-obuda.hu
SUMMARY:60. TDK Jelentkezési határidő
DESCRIPTION:A kari elektronikus TDK rendszerben (https://tdk.nik.uni-obuda.hu/) elkészített\, véglegesített jelentkezési anyagot a konzulensnek engedélyeznie kell ezen határidőig.
URL:https://nik.uni-obuda.hu/event/60-tdk-jelentkezesi-hatarido/
CATEGORIES:magyar
END:VEVENT
END:VCALENDAR