BEGIN:VCALENDAR
VERSION:2.0
PRODID:-//Óbudai Egyetem - Neumann János Informatikai Kar - ECPv6.15.0.1//NONSGML v1.0//EN
CALSCALE:GREGORIAN
METHOD:PUBLISH
X-WR-CALNAME:Óbudai Egyetem - Neumann János Informatikai Kar
X-ORIGINAL-URL:https://nik.uni-obuda.hu
X-WR-CALDESC:Események Óbudai Egyetem - Neumann János Informatikai Kar
REFRESH-INTERVAL;VALUE=DURATION:PT1H
X-Robots-Tag:noindex
X-PUBLISHED-TTL:PT1H
BEGIN:VTIMEZONE
TZID:Europe/Paris
BEGIN:DAYLIGHT
TZOFFSETFROM:+0100
TZOFFSETTO:+0200
TZNAME:CEST
DTSTART:20220327T010000
END:DAYLIGHT
BEGIN:STANDARD
TZOFFSETFROM:+0200
TZOFFSETTO:+0100
TZNAME:CET
DTSTART:20221030T010000
END:STANDARD
END:VTIMEZONE
BEGIN:VEVENT
DTSTART;VALUE=DATE:20220906
DTEND;VALUE=DATE:20221211
DTSTAMP:20260424T192619
CREATED:20220609T234647Z
LAST-MODIFIED:20220609T234647Z
UID:3631-1662422400-1670716799@nik.uni-obuda.hu
SUMMARY:Szorgalmi időszak
DESCRIPTION:
URL:https://nik.uni-obuda.hu/event/szorgalmi-idoszak-3/
END:VEVENT
BEGIN:VEVENT
DTSTART;TZID=Europe/Paris:20221106T080000
DTEND;TZID=Europe/Paris:20221106T170000
DTSTAMP:20260424T192619
CREATED:20221106T173105Z
LAST-MODIFIED:20221106T173105Z
UID:4459-1667721600-1667754000@nik.uni-obuda.hu
SUMMARY:Szoftver Tesztautomatizálás - Hobbiból megélhetés
DESCRIPTION:  \nKíváncsi vagy a szoftver tesztautomatizálásra? Szeretnéd tudni\, hogyan lehet ezt a szakmát elsajátítani\, vagy továbbképezni a tudásod? \nMiglécz Lóránt előadásában hallhatjátok\, hogyan is alakult karrierje egyszerű hobbiból megélhetéssé. Ezután pedig panelbeszélgetést tartunk\, paneltagjaink banki tesztautomatizálási vezetők lesznek (OTP\, K&H\, Erste Bank). \nMinden érdeklődőt vár szeretettel az UpScale csapata november 7-én az Óbudai Egyetem Neumann János Informatikai Karán az aulában! \n\nA belépés ingyenes! \n\nhttps://www.facebook.com/events/630703755425585
URL:https://nik.uni-obuda.hu/event/szoftver-tesztautomatizalas-hobbibol-megelhetes/
END:VEVENT
BEGIN:VEVENT
DTSTART;TZID=Europe/Paris:20221108T160000
DTEND;TZID=Europe/Paris:20221108T183000
DTSTAMP:20260424T192619
CREATED:20221024T183405Z
LAST-MODIFIED:20221024T183904Z
UID:4375-1667923200-1667932200@nik.uni-obuda.hu
SUMMARY:High Performance Computing minikonferencia 2022
DESCRIPTION:https://nik.uni-obuda.hu/high-performance-computing-minikonferencia-2022/
URL:https://nik.uni-obuda.hu/event/high-performance-computing-minikonferencia-2022/
CATEGORIES:magyar
END:VEVENT
BEGIN:VEVENT
DTSTART;TZID=Europe/Paris:20221109T160000
DTEND;TZID=Europe/Paris:20221109T190000
DTSTAMP:20260424T192619
CREATED:20221026T213346Z
LAST-MODIFIED:20221026T213346Z
UID:4385-1668009600-1668020400@nik.uni-obuda.hu
SUMMARY:NIK Kari kutatócsoportok bemutatkozása
DESCRIPTION:https://nik.uni-obuda.hu/kari-kutatocsoportok-bemutatkozasa-2022/
URL:https://nik.uni-obuda.hu/event/nik-kari-kutatocsoportok-bemutatkozasa/
LOCATION:F09
CATEGORIES:magyar
END:VEVENT
BEGIN:VEVENT
DTSTART;TZID=Europe/Paris:20221110T120000
DTEND;TZID=Europe/Paris:20221110T120000
DTSTAMP:20260424T192619
CREATED:20220927T115705Z
LAST-MODIFIED:20220927T115705Z
UID:4032-1668081600-1668081600@nik.uni-obuda.hu
SUMMARY:TDK dolgozat feltöltési határidő
DESCRIPTION:
URL:https://nik.uni-obuda.hu/event/tdk-dolgozat-feltoltesi-hatarido/
END:VEVENT
BEGIN:VEVENT
DTSTART;TZID=Europe/Paris:20221110T140000
DTEND;TZID=Europe/Paris:20221110T170000
DTSTAMP:20260424T192619
CREATED:20220722T160230Z
LAST-MODIFIED:20220727T210749Z
UID:3761-1668088800-1668099600@nik.uni-obuda.hu
SUMMARY:5G Hálózatok Kiberbiztonsági Kihívásai Workshop
DESCRIPTION:5G Hálózatok Kiberbiztonsági Kihívásai Workshop
URL:https://nik.uni-obuda.hu/event/5g-halozatok-kiberbiztonsagi-kihivasai-workshop-2/
END:VEVENT
BEGIN:VEVENT
DTSTART;VALUE=DATE:20221116
DTEND;VALUE=DATE:20221117
DTSTAMP:20260424T192619
CREATED:20220609T234726Z
LAST-MODIFIED:20221109T125005Z
UID:3635-1668556800-1668643199@nik.uni-obuda.hu
SUMMARY:Tudományos Diákköri Konferencia
DESCRIPTION:56. TDK Program
URL:https://nik.uni-obuda.hu/event/tudomanyos-diakkori-konferencia-3/
END:VEVENT
BEGIN:VEVENT
DTSTART;TZID=Europe/Paris:20221117T140000
DTEND;TZID=Europe/Paris:20221117T170000
DTSTAMP:20260424T192619
CREATED:20221026T213621Z
LAST-MODIFIED:20221026T213621Z
UID:4390-1668693600-1668704400@nik.uni-obuda.hu
SUMMARY:Kiberbiztonsági kutatások a SOC-ban
DESCRIPTION:https://nik.uni-obuda.hu/kiberbiztonsagi-kutatasok-a-soc-ban/
URL:https://nik.uni-obuda.hu/event/kiberbiztonsagi-kutatasok-a-soc-ban/
LOCATION:F09
CATEGORIES:magyar
END:VEVENT
BEGIN:VEVENT
DTSTART;TZID=Europe/Paris:20221118T170000
DTEND;TZID=Europe/Paris:20221118T190000
DTSTAMP:20260424T192619
CREATED:20221110T142508Z
LAST-MODIFIED:20221110T142508Z
UID:4512-1668790800-1668798000@nik.uni-obuda.hu
SUMMARY:BME-Pannon-HTE NetSkills Challenge 2022
DESCRIPTION:Regisztráció határideje: 2022. november 16.\, 12.00 óra\nOn-line forduló: 2022. november 18.\,  13.00 – 17.00 óra között\nDöntő: 2022. november 25.\, 10.00 – 13.00 óra között\nEredményhirdetés és díjátadó: 2025. november 25.\, 15.00 óra\n\nRegisztráció: https://bphns.hit.bme.hu/regisztracio/\nTovábbi információ: BME-Pannon-HTE NetSkills Challenge 2022
URL:https://nik.uni-obuda.hu/event/bme-pannon-hte-netskills-challenge-2022/
END:VEVENT
BEGIN:VEVENT
DTSTART;VALUE=DATE:20221123
DTEND;VALUE=DATE:20221124
DTSTAMP:20260424T192619
CREATED:20220609T234749Z
LAST-MODIFIED:20220609T234749Z
UID:3637-1669161600-1669247999@nik.uni-obuda.hu
SUMMARY:Egyetem napja
DESCRIPTION:
URL:https://nik.uni-obuda.hu/event/egyetem-napja/
END:VEVENT
BEGIN:VEVENT
DTSTART;TZID=Europe/Paris:20221130T170000
DTEND;TZID=Europe/Paris:20221130T190000
DTSTAMP:20260424T192619
CREATED:20220927T115749Z
LAST-MODIFIED:20220927T115749Z
UID:4034-1669827600-1669834800@nik.uni-obuda.hu
SUMMARY:TDK Ünnepélyes eredményhirdetés
DESCRIPTION:
URL:https://nik.uni-obuda.hu/event/tdk-unnepelyes-eredmenyhirdetes-3/
LOCATION:AudMax
END:VEVENT
END:VCALENDAR