BEGIN:VCALENDAR
VERSION:2.0
PRODID:-//Óbudai Egyetem - Neumann János Informatikai Kar - ECPv6.15.0.1//NONSGML v1.0//EN
CALSCALE:GREGORIAN
METHOD:PUBLISH
X-ORIGINAL-URL:https://nik.uni-obuda.hu
X-WR-CALDESC:Események Óbudai Egyetem - Neumann János Informatikai Kar
REFRESH-INTERVAL;VALUE=DURATION:PT1H
X-Robots-Tag:noindex
X-PUBLISHED-TTL:PT1H
BEGIN:VTIMEZONE
TZID:Europe/Paris
BEGIN:DAYLIGHT
TZOFFSETFROM:+0100
TZOFFSETTO:+0200
TZNAME:CEST
DTSTART:20230326T010000
END:DAYLIGHT
BEGIN:STANDARD
TZOFFSETFROM:+0200
TZOFFSETTO:+0100
TZNAME:CET
DTSTART:20231029T010000
END:STANDARD
END:VTIMEZONE
BEGIN:VEVENT
DTSTART;VALUE=DATE:20230227
DTEND;VALUE=DATE:20230604
DTSTAMP:20260423T005250
CREATED:20230224T180649Z
LAST-MODIFIED:20230224T180649Z
UID:5036-1677456000-1685836799@nik.uni-obuda.hu
SUMMARY:Szorgalmi időszak
DESCRIPTION:
URL:https://nik.uni-obuda.hu/event/szorgalmi-idoszak-4/
CATEGORIES:magyar
END:VEVENT
BEGIN:VEVENT
DTSTART;VALUE=DATE:20230227
DTEND;VALUE=DATE:20230604
DTSTAMP:20260423T005250
CREATED:20230303T203028Z
LAST-MODIFIED:20230303T203028Z
UID:5107-1677456000-1685836799@nik.uni-obuda.hu
SUMMARY:Lecture period
DESCRIPTION:
URL:https://nik.uni-obuda.hu/event/lecture-period/
CATEGORIES:angol
END:VEVENT
BEGIN:VEVENT
DTSTART;VALUE=DATE:20230406
DTEND;VALUE=DATE:20230407
DTSTAMP:20260423T005250
CREATED:20230224T181220Z
LAST-MODIFIED:20230224T181220Z
UID:5054-1680739200-1680825599@nik.uni-obuda.hu
SUMMARY:Rektori szünet
DESCRIPTION:
URL:https://nik.uni-obuda.hu/event/rektori-szunet-4/
CATEGORIES:magyar
END:VEVENT
BEGIN:VEVENT
DTSTART;VALUE=DATE:20230406
DTEND;VALUE=DATE:20230407
DTSTAMP:20260423T005250
CREATED:20230303T203215Z
LAST-MODIFIED:20230303T203215Z
UID:5114-1680739200-1680825599@nik.uni-obuda.hu
SUMMARY:Lecture break
DESCRIPTION:
URL:https://nik.uni-obuda.hu/event/lecture-break-2/
CATEGORIES:angol
END:VEVENT
BEGIN:VEVENT
DTSTART;VALUE=DATE:20230407
DTEND;VALUE=DATE:20230411
DTSTAMP:20260423T005250
CREATED:20230224T181244Z
LAST-MODIFIED:20230224T181244Z
UID:5056-1680825600-1681171199@nik.uni-obuda.hu
SUMMARY:Húsvét
DESCRIPTION:
URL:https://nik.uni-obuda.hu/event/husvet-2/
CATEGORIES:magyar
END:VEVENT
BEGIN:VEVENT
DTSTART;VALUE=DATE:20230407
DTEND;VALUE=DATE:20230411
DTSTAMP:20260423T005250
CREATED:20230303T203251Z
LAST-MODIFIED:20230303T203251Z
UID:5115-1680825600-1681171199@nik.uni-obuda.hu
SUMMARY:Easter
DESCRIPTION:
URL:https://nik.uni-obuda.hu/event/easter/
CATEGORIES:angol
END:VEVENT
BEGIN:VEVENT
DTSTART;VALUE=DATE:20230411
DTEND;VALUE=DATE:20230412
DTSTAMP:20260423T005250
CREATED:20230224T181359Z
LAST-MODIFIED:20230224T181359Z
UID:5058-1681171200-1681257599@nik.uni-obuda.hu
SUMMARY:Rektori szünet
DESCRIPTION:
URL:https://nik.uni-obuda.hu/event/rektori-szunet-5/
CATEGORIES:magyar
END:VEVENT
BEGIN:VEVENT
DTSTART;VALUE=DATE:20230411
DTEND;VALUE=DATE:20230412
DTSTAMP:20260423T005250
CREATED:20230303T203301Z
LAST-MODIFIED:20230303T203301Z
UID:5116-1681171200-1681257599@nik.uni-obuda.hu
SUMMARY:Lecture break
DESCRIPTION:
URL:https://nik.uni-obuda.hu/event/lecture-break-3/
CATEGORIES:angol
END:VEVENT
BEGIN:VEVENT
DTSTART;TZID=Europe/Paris:20230418T093000
DTEND;TZID=Europe/Paris:20230418T143000
DTSTAMP:20260423T005250
CREATED:20230224T181206Z
LAST-MODIFIED:20230224T181206Z
UID:5052-1681810200-1681828200@nik.uni-obuda.hu
SUMMARY:The first Taskforce Meeting for the taskforce Hungarian STEM platform
DESCRIPTION:
URL:https://nik.uni-obuda.hu/event/the-first-taskforce-meeting-for-the-taskforce-hungarian-stem-platform/
LOCATION:1034 Budapest\, Bécsi út 96/B.
CATEGORIES:magyar
END:VEVENT
BEGIN:VEVENT
DTSTART;TZID=Europe/Paris:20230418T093000
DTEND;TZID=Europe/Paris:20230418T143000
DTSTAMP:20260423T005250
CREATED:20230303T203235Z
LAST-MODIFIED:20230303T203235Z
UID:5117-1681810200-1681828200@nik.uni-obuda.hu
SUMMARY:The first Taskforce Meeting for the taskforce Hungarian STEM platform
DESCRIPTION:
URL:https://nik.uni-obuda.hu/event/the-first-taskforce-meeting-for-the-taskforce-hungarian-stem-platform-2/
LOCATION:1034 Budapest\, Bécsi út 96/B.
CATEGORIES:angol
END:VEVENT
BEGIN:VEVENT
DTSTART;TZID=Europe/Paris:20230426T130000
DTEND;TZID=Europe/Paris:20230426T180000
DTSTAMP:20260423T005250
CREATED:20230323T115552Z
LAST-MODIFIED:20230323T115552Z
UID:5193-1682514000-1682532000@nik.uni-obuda.hu
SUMMARY:ÓE NYÍLT NAPJA AZ EVOSOFTNÁL
DESCRIPTION:ÓE NYÍLT NAPJA AZ EVOSOFTNÁL
URL:https://nik.uni-obuda.hu/event/oe-nyilt-napja-az-evosoftnal/
LOCATION:evosoft Hungary (Infopark)\, 1117 Budapest Magyar Tudósok krt. 11.
CATEGORIES:magyar
END:VEVENT
END:VCALENDAR