BEGIN:VCALENDAR
VERSION:2.0
PRODID:-//Óbudai Egyetem - Neumann János Informatikai Kar - ECPv6.15.0.1//NONSGML v1.0//EN
CALSCALE:GREGORIAN
METHOD:PUBLISH
X-WR-CALNAME:Óbudai Egyetem - Neumann János Informatikai Kar
X-ORIGINAL-URL:https://nik.uni-obuda.hu
X-WR-CALDESC:Események Óbudai Egyetem - Neumann János Informatikai Kar
REFRESH-INTERVAL;VALUE=DURATION:PT1H
X-Robots-Tag:noindex
X-PUBLISHED-TTL:PT1H
BEGIN:VTIMEZONE
TZID:Europe/Paris
BEGIN:DAYLIGHT
TZOFFSETFROM:+0100
TZOFFSETTO:+0200
TZNAME:CEST
DTSTART:20230326T010000
END:DAYLIGHT
BEGIN:STANDARD
TZOFFSETFROM:+0200
TZOFFSETTO:+0100
TZNAME:CET
DTSTART:20231029T010000
END:STANDARD
END:VTIMEZONE
BEGIN:VEVENT
DTSTART;VALUE=DATE:20230227
DTEND;VALUE=DATE:20230604
DTSTAMP:20260422T203420
CREATED:20230224T180649Z
LAST-MODIFIED:20230224T180649Z
UID:5036-1677456000-1685836799@nik.uni-obuda.hu
SUMMARY:Szorgalmi időszak
DESCRIPTION:
URL:https://nik.uni-obuda.hu/event/szorgalmi-idoszak-4/
CATEGORIES:magyar
END:VEVENT
BEGIN:VEVENT
DTSTART;VALUE=DATE:20230227
DTEND;VALUE=DATE:20230604
DTSTAMP:20260422T203420
CREATED:20230303T203028Z
LAST-MODIFIED:20230303T203028Z
UID:5107-1677456000-1685836799@nik.uni-obuda.hu
SUMMARY:Lecture period
DESCRIPTION:
URL:https://nik.uni-obuda.hu/event/lecture-period/
CATEGORIES:angol
END:VEVENT
BEGIN:VEVENT
DTSTART;TZID=Europe/Paris:20230606T130000
DTEND;TZID=Europe/Paris:20230606T150000
DTSTAMP:20260422T203420
CREATED:20230516T123947Z
LAST-MODIFIED:20230516T123947Z
UID:5464-1686056400-1686063600@nik.uni-obuda.hu
SUMMARY:Doktorandusz szeminárium
DESCRIPTION:Dénes-Fazakas Lehel: Folyamatok modellezése\, szabályozása gépi tanulás segítségével\nFekete György: Biomechanikai mozgásvizsgálatok adatelemzése\nKovács András: Monolitikus alkalmazások fordítása elosztott mikro-szolgáltatás-alapú architektúrára\, gépi tanulás alapú erőforrás-becsléssel\nPintér Ádám: Forráskódok analízise gépi tanuláson alapuló technikával GPU-n\nSipos Miklós: Blokklánc alapú technológiák és algoritmusok kutatása kiberbiztonsági és adatintegritási alkalmazásokhoz\nSomlyai László: Mobilrobot környezetének valósidejű térképezése
URL:https://nik.uni-obuda.hu/event/doktorandusz-szeminarium-8/
LOCATION:F03
CATEGORIES:magyar
END:VEVENT
BEGIN:VEVENT
DTSTART;TZID=Europe/Paris:20230607T130000
DTEND;TZID=Europe/Paris:20230607T150000
DTSTAMP:20260422T203420
CREATED:20230516T124134Z
LAST-MODIFIED:20230516T124134Z
UID:5468-1686142800-1686150000@nik.uni-obuda.hu
SUMMARY:Doktorandusz szeminárium
DESCRIPTION:Abdallah Benhamida: Human Bio-Signal acquisition and monitoring (non-invasive)\nBringye Zsolt: Viselkedési anomáliák követése\, modellezése és elemzése informatikai eszközök segítségével\nDurczy Levente: KKV-k hálózatbiztonsági kérdései\nEmődi Márk: Felhő platformok gépi tanulásra alapozott új orkesztrációs módszerei\nFarkas Attila: Mély gépi tanulási folyamatok vizsgálata párhuzamos és elosztott környezetben
URL:https://nik.uni-obuda.hu/event/doktorandusz-szeminarium-9/
LOCATION:F03
CATEGORIES:magyar
END:VEVENT
BEGIN:VEVENT
DTSTART;TZID=Europe/Paris:20230624T160000
DTEND;TZID=Europe/Paris:20230624T220000
DTSTAMP:20260422T203420
CREATED:20230614T223316Z
LAST-MODIFIED:20230622T170239Z
UID:5611-1687622400-1687644000@nik.uni-obuda.hu
SUMMARY:Újra Múzeumok Éjszakája az ÓE-n
DESCRIPTION:További információk az Egyetem központi oldalán\, valamint a Múzeumok Éjszakája honlapján.
URL:https://nik.uni-obuda.hu/event/ujra-muzeumok-ejszakaja-az-oe-n/
LOCATION:1034 Budapest\, Bécsi út 96/B.
CATEGORIES:magyar
END:VEVENT
END:VCALENDAR