BEGIN:VCALENDAR
VERSION:2.0
PRODID:-//Óbudai Egyetem - Neumann János Informatikai Kar - ECPv6.15.0.1//NONSGML v1.0//EN
CALSCALE:GREGORIAN
METHOD:PUBLISH
X-WR-CALNAME:Óbudai Egyetem - Neumann János Informatikai Kar
X-ORIGINAL-URL:https://nik.uni-obuda.hu
X-WR-CALDESC:Események Óbudai Egyetem - Neumann János Informatikai Kar
REFRESH-INTERVAL;VALUE=DURATION:PT1H
X-Robots-Tag:noindex
X-PUBLISHED-TTL:PT1H
BEGIN:VTIMEZONE
TZID:Europe/Paris
BEGIN:DAYLIGHT
TZOFFSETFROM:+0100
TZOFFSETTO:+0200
TZNAME:CEST
DTSTART:20230326T010000
END:DAYLIGHT
BEGIN:STANDARD
TZOFFSETFROM:+0200
TZOFFSETTO:+0100
TZNAME:CET
DTSTART:20231029T010000
END:STANDARD
END:VTIMEZONE
BEGIN:VEVENT
DTSTART;VALUE=DATE:20230726
DTEND;VALUE=DATE:20230729
DTSTAMP:20260422T185746
CREATED:20230224T181632Z
LAST-MODIFIED:20230224T181632Z
UID:5069-1690329600-1690588799@nik.uni-obuda.hu
SUMMARY:27th IEEE International Conference on Intelligent Engineering Systems 2023
DESCRIPTION:
URL:https://nik.uni-obuda.hu/event/27th-ieee-international-conference-on-intelligent-engineering-systems-2023/
LOCATION:Nairobi\, Kenya
CATEGORIES:magyar
END:VEVENT
BEGIN:VEVENT
DTSTART;VALUE=DATE:20230726
DTEND;VALUE=DATE:20230729
DTSTAMP:20260422T185746
CREATED:20230303T203507Z
LAST-MODIFIED:20230303T203507Z
UID:5123-1690329600-1690588799@nik.uni-obuda.hu
SUMMARY:27th IEEE International Conference on Intelligent Engineering Systems 2023
DESCRIPTION:
URL:https://nik.uni-obuda.hu/event/27th-ieee-international-conference-on-intelligent-engineering-systems-2023-2/
LOCATION:Nairobi\, Kenya
CATEGORIES:angol
END:VEVENT
BEGIN:VEVENT
DTSTART;TZID=Europe/Paris:20230727T150000
DTEND;TZID=Europe/Paris:20230727T160000
DTSTAMP:20260422T185746
CREATED:20230714T105932Z
LAST-MODIFIED:20230714T110007Z
UID:5672-1690470000-1690473600@nik.uni-obuda.hu
SUMMARY:ChatGPT and Github Copilot as your work buddies
DESCRIPTION:Agenda: \n\n15:00 – Benefits and risks of using ChatGPT\, prompt engineering\n15:20 – Copilot hands-on demo\n15:40 – Q&A\n\nRead more: https://nik.uni-obuda.hu/en/chatgpt-and-github-copilot-as-your-work-buddies/
URL:https://nik.uni-obuda.hu/event/chatgpt-and-github-copilot-as-your-work-buddies/
LOCATION:Online Webinar
CATEGORIES:angol
END:VEVENT
BEGIN:VEVENT
DTSTART;TZID=Europe/Paris:20230727T150000
DTEND;TZID=Europe/Paris:20230727T160000
DTSTAMP:20260422T185746
CREATED:20230714T110108Z
LAST-MODIFIED:20230714T110156Z
UID:5675-1690470000-1690473600@nik.uni-obuda.hu
SUMMARY:ChatGPT és Github Copilot\, mint munkatársak
DESCRIPTION:Agenda: \n\n15:00 – Benefits and risks of using ChatGPT\, prompt engineering\n15:20 – Copilot hands-on demo\n15:40 – Q&A\n\nTovábbi információk: https://nik.uni-obuda.hu/chatgpt-es-github-copilot-mint-munkatarsak/
URL:https://nik.uni-obuda.hu/event/chatgpt-es-github-copilot-mint-munkatarsak/
LOCATION:Online Webinar
CATEGORIES:magyar
END:VEVENT
END:VCALENDAR