BEGIN:VCALENDAR
VERSION:2.0
PRODID:-//Óbudai Egyetem - Neumann János Informatikai Kar - ECPv6.15.0.1//NONSGML v1.0//EN
CALSCALE:GREGORIAN
METHOD:PUBLISH
X-WR-CALNAME:Óbudai Egyetem - Neumann János Informatikai Kar
X-ORIGINAL-URL:https://nik.uni-obuda.hu
X-WR-CALDESC:Események Óbudai Egyetem - Neumann János Informatikai Kar
REFRESH-INTERVAL;VALUE=DURATION:PT1H
X-Robots-Tag:noindex
X-PUBLISHED-TTL:PT1H
BEGIN:VTIMEZONE
TZID:Europe/Paris
BEGIN:DAYLIGHT
TZOFFSETFROM:+0100
TZOFFSETTO:+0200
TZNAME:CEST
DTSTART:20230326T010000
END:DAYLIGHT
BEGIN:STANDARD
TZOFFSETFROM:+0200
TZOFFSETTO:+0100
TZNAME:CET
DTSTART:20231029T010000
END:STANDARD
BEGIN:DAYLIGHT
TZOFFSETFROM:+0100
TZOFFSETTO:+0200
TZNAME:CEST
DTSTART:20240331T010000
END:DAYLIGHT
BEGIN:STANDARD
TZOFFSETFROM:+0200
TZOFFSETTO:+0100
TZNAME:CET
DTSTART:20241027T010000
END:STANDARD
END:VTIMEZONE
BEGIN:VEVENT
DTSTART;VALUE=DATE:20230904
DTEND;VALUE=DATE:20231217
DTSTAMP:20260422T111532
CREATED:20230910T174712Z
LAST-MODIFIED:20230910T174712Z
UID:5938-1693785600-1702771199@nik.uni-obuda.hu
SUMMARY:Szorgalmi időszak
DESCRIPTION:
URL:https://nik.uni-obuda.hu/event/szorgalmi-idoszak-5/
CATEGORIES:magyar
END:VEVENT
BEGIN:VEVENT
DTSTART;VALUE=DATE:20230904
DTEND;VALUE=DATE:20231217
DTSTAMP:20260422T111532
CREATED:20230911T001949Z
LAST-MODIFIED:20230911T001949Z
UID:6022-1693785600-1702771199@nik.uni-obuda.hu
SUMMARY:Lecture period
DESCRIPTION:
URL:https://nik.uni-obuda.hu/event/lecture-period-2/
CATEGORIES:angol
END:VEVENT
BEGIN:VEVENT
DTSTART;TZID=Europe/Paris:20231206T140000
DTEND;TZID=Europe/Paris:20231206T160000
DTSTAMP:20260422T111532
CREATED:20231121T160203Z
LAST-MODIFIED:20231121T160203Z
UID:8084-1701871200-1701878400@nik.uni-obuda.hu
SUMMARY:Doktorandusz szemináriumok 2023 őszén
DESCRIPTION:Bringye Zsolt: Viselkedési anomáliák követése\, modellezése és elemzése informatikai eszközök segítségével \nFarkas Attila: Mély gépi tanulási folyamatok vizsgálata párhuzamos és elosztott környezetben \nPintér Ádám: Forráskódok nyelvfüggetlen analízise GPU-n\, gépi tanuláson alapuló technikával \nRigó Ernő: MI orientált felhő architektúrák információbiztonsága \nSipos Miklós: Blokklánc alapú technológiák és algoritmusok kutatása kiberbiztonsági és adatintegritási alkalmazásokhoz
URL:https://nik.uni-obuda.hu/event/doktorandusz-szeminariumok-2023-oszen/
END:VEVENT
BEGIN:VEVENT
DTSTART;TZID=Europe/Paris:20231207T140000
DTEND;TZID=Europe/Paris:20231207T160000
DTSTAMP:20260422T111532
CREATED:20231121T160242Z
LAST-MODIFIED:20231121T160242Z
UID:8087-1701957600-1701964800@nik.uni-obuda.hu
SUMMARY:Doktorandusz szemináriumok 2023 őszén
DESCRIPTION:Abdallah Benhamida: Human Bio-Signal acquisition and monitoring (non-invasive) \nKiss Dániel: Szociális hatások modellezése ágensalapú megközelítéssel \nKovács András: Monolitikus alkalmazások fordítása elosztott mikro-szolgáltatás-alapú architektúrára\, gépi tanulás alapú erőforrás-becsléssel \nLégrádi Gábor: Párhuzamosság alkalmazása fordítóprogramoknál \nSomlyai László: Mobil robotok környezetének valósidejű térképezése
URL:https://nik.uni-obuda.hu/event/doktorandusz-szeminariumok-2023-oszen-2/
END:VEVENT
BEGIN:VEVENT
DTSTART;VALUE=DATE:20231218
DTEND;VALUE=DATE:20231219
DTSTAMP:20260422T111532
CREATED:20231121T160449Z
LAST-MODIFIED:20231121T160449Z
UID:8089-1702857600-1702943999@nik.uni-obuda.hu
SUMMARY:Kódolás Órája 2023
DESCRIPTION:
URL:https://nik.uni-obuda.hu/event/kodolas-oraja-2023/
END:VEVENT
BEGIN:VEVENT
DTSTART;VALUE=DATE:20231218
DTEND;VALUE=DATE:20240204
DTSTAMP:20260422T111532
CREATED:20230910T181608Z
LAST-MODIFIED:20230910T181608Z
UID:5995-1702857600-1707004799@nik.uni-obuda.hu
SUMMARY:Vizsgaidőszak
DESCRIPTION:
URL:https://nik.uni-obuda.hu/event/vizsgaidoszak-4/
CATEGORIES:magyar
END:VEVENT
BEGIN:VEVENT
DTSTART;VALUE=DATE:20231218
DTEND;VALUE=DATE:20240204
DTSTAMP:20260422T111532
CREATED:20230911T002508Z
LAST-MODIFIED:20230911T002508Z
UID:6042-1702857600-1707004799@nik.uni-obuda.hu
SUMMARY:Exam period
DESCRIPTION:
URL:https://nik.uni-obuda.hu/event/exam-period/
CATEGORIES:angol
END:VEVENT
END:VCALENDAR