BEGIN:VCALENDAR
VERSION:2.0
PRODID:-//Óbudai Egyetem - Neumann János Informatikai Kar - ECPv6.15.0.1//NONSGML v1.0//EN
CALSCALE:GREGORIAN
METHOD:PUBLISH
X-ORIGINAL-URL:https://nik.uni-obuda.hu
X-WR-CALDESC:Események Óbudai Egyetem - Neumann János Informatikai Kar
REFRESH-INTERVAL;VALUE=DURATION:PT1H
X-Robots-Tag:noindex
X-PUBLISHED-TTL:PT1H
BEGIN:VTIMEZONE
TZID:Europe/Paris
BEGIN:DAYLIGHT
TZOFFSETFROM:+0100
TZOFFSETTO:+0200
TZNAME:CEST
DTSTART:20230326T010000
END:DAYLIGHT
BEGIN:STANDARD
TZOFFSETFROM:+0200
TZOFFSETTO:+0100
TZNAME:CET
DTSTART:20231029T010000
END:STANDARD
END:VTIMEZONE
BEGIN:VEVENT
DTSTART;VALUE=DATE:20230227
DTEND;VALUE=DATE:20230604
DTSTAMP:20260424T163801
CREATED:20230224T180649Z
LAST-MODIFIED:20230224T180649Z
UID:5036-1677456000-1685836799@nik.uni-obuda.hu
SUMMARY:Szorgalmi időszak
DESCRIPTION:
URL:https://nik.uni-obuda.hu/event/szorgalmi-idoszak-4/
CATEGORIES:magyar
END:VEVENT
BEGIN:VEVENT
DTSTART;VALUE=DATE:20230227
DTEND;VALUE=DATE:20230604
DTSTAMP:20260424T163801
CREATED:20230303T203028Z
LAST-MODIFIED:20230303T203028Z
UID:5107-1677456000-1685836799@nik.uni-obuda.hu
SUMMARY:Lecture period
DESCRIPTION:
URL:https://nik.uni-obuda.hu/event/lecture-period/
CATEGORIES:angol
END:VEVENT
BEGIN:VEVENT
DTSTART;TZID=Europe/Paris:20230302T100000
DTEND;TZID=Europe/Paris:20230302T140000
DTSTAMP:20260424T163801
CREATED:20230224T180754Z
LAST-MODIFIED:20230224T180754Z
UID:5038-1677751200-1677765600@nik.uni-obuda.hu
SUMMARY:Robotika helye és szerepe a felsőoktatásban Műhelykonferencia
DESCRIPTION:
URL:https://nik.uni-obuda.hu/event/robotika-helye-es-szerepe-a-felsooktatasban-muhelykonferencia/
LOCATION:8000 Székesfehérvár\, Budai út 45.
CATEGORIES:magyar
END:VEVENT
BEGIN:VEVENT
DTSTART;TZID=Europe/Paris:20230302T100000
DTEND;TZID=Europe/Paris:20230302T140000
DTSTAMP:20260424T163801
CREATED:20230303T203044Z
LAST-MODIFIED:20230303T203044Z
UID:5108-1677751200-1677765600@nik.uni-obuda.hu
SUMMARY:Status  and role of robotics in education - Workshop conference
DESCRIPTION:
URL:https://nik.uni-obuda.hu/event/status-and-role-of-robotics-in-education-workshop-conference/
LOCATION:8000 Székesfehérvár\, Budai út 45.
CATEGORIES:angol
END:VEVENT
BEGIN:VEVENT
DTSTART;TZID=Europe/Paris:20230307T090000
DTEND;TZID=Europe/Paris:20230307T160000
DTSTAMP:20260424T163801
CREATED:20230224T180911Z
LAST-MODIFIED:20230224T180911Z
UID:5041-1678179600-1678204800@nik.uni-obuda.hu
SUMMARY:30. Óbudai Egyetem Állásbörze
DESCRIPTION:
URL:https://nik.uni-obuda.hu/event/30-obudai-egyetem-allasborze/
LOCATION:1034 Budapest\, Bécsi út 96/B.
CATEGORIES:magyar
END:VEVENT
BEGIN:VEVENT
DTSTART;TZID=Europe/Paris:20230307T090000
DTEND;TZID=Europe/Paris:20230307T160000
DTSTAMP:20260424T163801
CREATED:20230303T203111Z
LAST-MODIFIED:20230303T203111Z
UID:5109-1678179600-1678204800@nik.uni-obuda.hu
SUMMARY:30. Job Expo
DESCRIPTION:
URL:https://nik.uni-obuda.hu/event/30-job-expo/
LOCATION:1034 Budapest\, Bécsi út 96/B.
CATEGORIES:angol
END:VEVENT
BEGIN:VEVENT
DTSTART;TZID=Europe/Paris:20230308T090000
DTEND;TZID=Europe/Paris:20230308T160000
DTSTAMP:20260424T163801
CREATED:20230224T180948Z
LAST-MODIFIED:20230224T180948Z
UID:5043-1678266000-1678291200@nik.uni-obuda.hu
SUMMARY:30. Óbudai Egyetem Állásbörze
DESCRIPTION:
URL:https://nik.uni-obuda.hu/event/30-obudai-egyetem-allasborze-2/
LOCATION:1084 Budapest\, Tavaszmező u. 14-18. (G épület)
CATEGORIES:magyar
END:VEVENT
BEGIN:VEVENT
DTSTART;TZID=Europe/Paris:20230308T090000
DTEND;TZID=Europe/Paris:20230308T160000
DTSTAMP:20260424T163801
CREATED:20230303T203126Z
LAST-MODIFIED:20230303T203126Z
UID:5110-1678266000-1678291200@nik.uni-obuda.hu
SUMMARY:30. Job Expo
DESCRIPTION:
URL:https://nik.uni-obuda.hu/event/30-job-expo-2/
LOCATION:1084 Budapest\, Tavaszmező u. 14-18. (G épület)
CATEGORIES:angol
END:VEVENT
BEGIN:VEVENT
DTSTART;VALUE=DATE:20230313
DTEND;VALUE=DATE:20230315
DTSTAMP:20260424T163801
CREATED:20230224T181012Z
LAST-MODIFIED:20230224T181012Z
UID:5046-1678665600-1678838399@nik.uni-obuda.hu
SUMMARY:Rektori szünet
DESCRIPTION:
URL:https://nik.uni-obuda.hu/event/rektori-szunet-3/
CATEGORIES:magyar
END:VEVENT
BEGIN:VEVENT
DTSTART;VALUE=DATE:20230313
DTEND;VALUE=DATE:20230315
DTSTAMP:20260424T163801
CREATED:20230303T203137Z
LAST-MODIFIED:20230303T203137Z
UID:5111-1678665600-1678838399@nik.uni-obuda.hu
SUMMARY:Lecture break
DESCRIPTION:
URL:https://nik.uni-obuda.hu/event/lecture-break/
CATEGORIES:angol
END:VEVENT
BEGIN:VEVENT
DTSTART;VALUE=DATE:20230315
DTEND;VALUE=DATE:20230316
DTSTAMP:20260424T163801
CREATED:20230224T181035Z
LAST-MODIFIED:20230224T181035Z
UID:5048-1678838400-1678924799@nik.uni-obuda.hu
SUMMARY:Nemzeti ünnep
DESCRIPTION:
URL:https://nik.uni-obuda.hu/event/nemzeti-unnep-2/
CATEGORIES:magyar
END:VEVENT
BEGIN:VEVENT
DTSTART;VALUE=DATE:20230315
DTEND;VALUE=DATE:20230316
DTSTAMP:20260424T163801
CREATED:20230303T203148Z
LAST-MODIFIED:20230303T203148Z
UID:5112-1678838400-1678924799@nik.uni-obuda.hu
SUMMARY:National holiday
DESCRIPTION:
URL:https://nik.uni-obuda.hu/event/national-holiday/
CATEGORIES:angol
END:VEVENT
BEGIN:VEVENT
DTSTART;TZID=Europe/Paris:20230324T133000
DTEND;TZID=Europe/Paris:20230324T173000
DTSTAMP:20260424T163801
CREATED:20230224T181131Z
LAST-MODIFIED:20230224T181131Z
UID:5050-1679664600-1679679000@nik.uni-obuda.hu
SUMMARY:A hazai egészségügyi informatika története
DESCRIPTION:
URL:https://nik.uni-obuda.hu/event/a-hazai-egeszsegugyi-informatika-tortenete/
LOCATION:1034 Budapest\, Bécsi út 96/B.
CATEGORIES:magyar
END:VEVENT
BEGIN:VEVENT
DTSTART;TZID=Europe/Paris:20230324T133000
DTEND;TZID=Europe/Paris:20230324T173000
DTSTAMP:20260424T163801
CREATED:20230303T203201Z
LAST-MODIFIED:20230303T203201Z
UID:5113-1679664600-1679679000@nik.uni-obuda.hu
SUMMARY:History of Hungarian medical informatics
DESCRIPTION:
URL:https://nik.uni-obuda.hu/event/history-of-hungarian-medical-informatics/
LOCATION:1034 Budapest\, Bécsi út 96/B.
CATEGORIES:angol
END:VEVENT
BEGIN:VEVENT
DTSTART;VALUE=DATE:20230329
DTEND;VALUE=DATE:20230401
DTSTAMP:20260424T163801
CREATED:20230319T193738Z
LAST-MODIFIED:20230319T193813Z
UID:5177-1680048000-1680307199@nik.uni-obuda.hu
SUMMARY:EKIK Napok
DESCRIPTION:EKIK Napok – Innovációval feltöltve
URL:https://nik.uni-obuda.hu/event/ekik-napok/
LOCATION:F09
CATEGORIES:magyar
END:VEVENT
BEGIN:VEVENT
DTSTART;TZID=Europe/Paris:20230330T170000
DTEND;TZID=Europe/Paris:20230330T200000
DTSTAMP:20260424T163801
CREATED:20230319T191405Z
LAST-MODIFIED:20230319T191405Z
UID:5171-1680195600-1680206400@nik.uni-obuda.hu
SUMMARY:Gábor Dénes Díjasok Klubja előadás-sorozat
DESCRIPTION:Gábor Dénes Díjasok Klubja előadás-sorozat
URL:https://nik.uni-obuda.hu/event/gabor-denes-dijasok-klubja-eloadas-sorozat/
LOCATION:F09
CATEGORIES:magyar
END:VEVENT
BEGIN:VEVENT
DTSTART;VALUE=DATE:20230406
DTEND;VALUE=DATE:20230407
DTSTAMP:20260424T163801
CREATED:20230224T181220Z
LAST-MODIFIED:20230224T181220Z
UID:5054-1680739200-1680825599@nik.uni-obuda.hu
SUMMARY:Rektori szünet
DESCRIPTION:
URL:https://nik.uni-obuda.hu/event/rektori-szunet-4/
CATEGORIES:magyar
END:VEVENT
BEGIN:VEVENT
DTSTART;VALUE=DATE:20230406
DTEND;VALUE=DATE:20230407
DTSTAMP:20260424T163801
CREATED:20230303T203215Z
LAST-MODIFIED:20230303T203215Z
UID:5114-1680739200-1680825599@nik.uni-obuda.hu
SUMMARY:Lecture break
DESCRIPTION:
URL:https://nik.uni-obuda.hu/event/lecture-break-2/
CATEGORIES:angol
END:VEVENT
BEGIN:VEVENT
DTSTART;VALUE=DATE:20230407
DTEND;VALUE=DATE:20230411
DTSTAMP:20260424T163801
CREATED:20230224T181244Z
LAST-MODIFIED:20230224T181244Z
UID:5056-1680825600-1681171199@nik.uni-obuda.hu
SUMMARY:Húsvét
DESCRIPTION:
URL:https://nik.uni-obuda.hu/event/husvet-2/
CATEGORIES:magyar
END:VEVENT
BEGIN:VEVENT
DTSTART;VALUE=DATE:20230407
DTEND;VALUE=DATE:20230411
DTSTAMP:20260424T163801
CREATED:20230303T203251Z
LAST-MODIFIED:20230303T203251Z
UID:5115-1680825600-1681171199@nik.uni-obuda.hu
SUMMARY:Easter
DESCRIPTION:
URL:https://nik.uni-obuda.hu/event/easter/
CATEGORIES:angol
END:VEVENT
BEGIN:VEVENT
DTSTART;VALUE=DATE:20230411
DTEND;VALUE=DATE:20230412
DTSTAMP:20260424T163801
CREATED:20230224T181359Z
LAST-MODIFIED:20230224T181359Z
UID:5058-1681171200-1681257599@nik.uni-obuda.hu
SUMMARY:Rektori szünet
DESCRIPTION:
URL:https://nik.uni-obuda.hu/event/rektori-szunet-5/
CATEGORIES:magyar
END:VEVENT
BEGIN:VEVENT
DTSTART;VALUE=DATE:20230411
DTEND;VALUE=DATE:20230412
DTSTAMP:20260424T163801
CREATED:20230303T203301Z
LAST-MODIFIED:20230303T203301Z
UID:5116-1681171200-1681257599@nik.uni-obuda.hu
SUMMARY:Lecture break
DESCRIPTION:
URL:https://nik.uni-obuda.hu/event/lecture-break-3/
CATEGORIES:angol
END:VEVENT
BEGIN:VEVENT
DTSTART;TZID=Europe/Paris:20230418T093000
DTEND;TZID=Europe/Paris:20230418T143000
DTSTAMP:20260424T163801
CREATED:20230224T181206Z
LAST-MODIFIED:20230224T181206Z
UID:5052-1681810200-1681828200@nik.uni-obuda.hu
SUMMARY:The first Taskforce Meeting for the taskforce Hungarian STEM platform
DESCRIPTION:
URL:https://nik.uni-obuda.hu/event/the-first-taskforce-meeting-for-the-taskforce-hungarian-stem-platform/
LOCATION:1034 Budapest\, Bécsi út 96/B.
CATEGORIES:magyar
END:VEVENT
BEGIN:VEVENT
DTSTART;TZID=Europe/Paris:20230418T093000
DTEND;TZID=Europe/Paris:20230418T143000
DTSTAMP:20260424T163801
CREATED:20230303T203235Z
LAST-MODIFIED:20230303T203235Z
UID:5117-1681810200-1681828200@nik.uni-obuda.hu
SUMMARY:The first Taskforce Meeting for the taskforce Hungarian STEM platform
DESCRIPTION:
URL:https://nik.uni-obuda.hu/event/the-first-taskforce-meeting-for-the-taskforce-hungarian-stem-platform-2/
LOCATION:1034 Budapest\, Bécsi út 96/B.
CATEGORIES:angol
END:VEVENT
BEGIN:VEVENT
DTSTART;TZID=Europe/Paris:20230426T130000
DTEND;TZID=Europe/Paris:20230426T180000
DTSTAMP:20260424T163801
CREATED:20230323T115552Z
LAST-MODIFIED:20230323T115552Z
UID:5193-1682514000-1682532000@nik.uni-obuda.hu
SUMMARY:ÓE NYÍLT NAPJA AZ EVOSOFTNÁL
DESCRIPTION:ÓE NYÍLT NAPJA AZ EVOSOFTNÁL
URL:https://nik.uni-obuda.hu/event/oe-nyilt-napja-az-evosoftnal/
LOCATION:evosoft Hungary (Infopark)\, 1117 Budapest Magyar Tudósok krt. 11.
CATEGORIES:magyar
END:VEVENT
BEGIN:VEVENT
DTSTART;VALUE=DATE:20230510
DTEND;VALUE=DATE:20230511
DTSTAMP:20260424T163801
CREATED:20230224T181421Z
LAST-MODIFIED:20230224T181421Z
UID:5060-1683676800-1683763199@nik.uni-obuda.hu
SUMMARY:Rektori szünet
DESCRIPTION:
URL:https://nik.uni-obuda.hu/event/rektori-szunet-6/
CATEGORIES:magyar
END:VEVENT
BEGIN:VEVENT
DTSTART;VALUE=DATE:20230510
DTEND;VALUE=DATE:20230511
DTSTAMP:20260424T163801
CREATED:20230224T181442Z
LAST-MODIFIED:20230224T181442Z
UID:5062-1683676800-1683763199@nik.uni-obuda.hu
SUMMARY:Tudományos Diákköri Konferencia
DESCRIPTION:
URL:https://nik.uni-obuda.hu/event/tudomanyos-diakkori-konferencia-4/
LOCATION:1034 Budapest\, Bécsi út 96/B.
CATEGORIES:magyar
END:VEVENT
BEGIN:VEVENT
DTSTART;VALUE=DATE:20230510
DTEND;VALUE=DATE:20230511
DTSTAMP:20260424T163801
CREATED:20230303T203314Z
LAST-MODIFIED:20230303T203314Z
UID:5118-1683676800-1683763199@nik.uni-obuda.hu
SUMMARY:Lecture break
DESCRIPTION:
URL:https://nik.uni-obuda.hu/event/lecture-break-4/
CATEGORIES:angol
END:VEVENT
BEGIN:VEVENT
DTSTART;VALUE=DATE:20230510
DTEND;VALUE=DATE:20230511
DTSTAMP:20260424T163801
CREATED:20230303T203433Z
LAST-MODIFIED:20230303T203433Z
UID:5119-1683676800-1683763199@nik.uni-obuda.hu
SUMMARY:Conference of Students' Research Societies at Obuda University
DESCRIPTION:
URL:https://nik.uni-obuda.hu/event/conference-of-students-research-societies-at-obuda-university/
LOCATION:1034 Budapest\, Bécsi út 96/B.
CATEGORIES:angol
END:VEVENT
BEGIN:VEVENT
DTSTART;VALUE=DATE:20230523
DTEND;VALUE=DATE:20230527
DTSTAMP:20260424T163801
CREATED:20230224T181517Z
LAST-MODIFIED:20230224T181517Z
UID:5064-1684800000-1685145599@nik.uni-obuda.hu
SUMMARY:IEEE 17 th International Symposium on Applied Computational Intelligence and Informatics (SACI 2023)
DESCRIPTION:
URL:https://nik.uni-obuda.hu/event/ieee-17-th-international-symposium-on-applied-computational-intelligence-and-informatics-saci-2023/
LOCATION:300223 Timisoara 2\, Vasile Parvan Blvd.
CATEGORIES:magyar
END:VEVENT
END:VCALENDAR