BEGIN:VCALENDAR
VERSION:2.0
PRODID:-//Óbudai Egyetem - Neumann János Informatikai Kar - ECPv6.15.0.1//NONSGML v1.0//EN
CALSCALE:GREGORIAN
METHOD:PUBLISH
X-ORIGINAL-URL:https://nik.uni-obuda.hu
X-WR-CALDESC:Események Óbudai Egyetem - Neumann János Informatikai Kar
REFRESH-INTERVAL;VALUE=DURATION:PT1H
X-Robots-Tag:noindex
X-PUBLISHED-TTL:PT1H
BEGIN:VTIMEZONE
TZID:Europe/Paris
BEGIN:DAYLIGHT
TZOFFSETFROM:+0100
TZOFFSETTO:+0200
TZNAME:CEST
DTSTART:20230326T010000
END:DAYLIGHT
BEGIN:STANDARD
TZOFFSETFROM:+0200
TZOFFSETTO:+0100
TZNAME:CET
DTSTART:20231029T010000
END:STANDARD
BEGIN:DAYLIGHT
TZOFFSETFROM:+0100
TZOFFSETTO:+0200
TZNAME:CEST
DTSTART:20240331T010000
END:DAYLIGHT
BEGIN:STANDARD
TZOFFSETFROM:+0200
TZOFFSETTO:+0100
TZNAME:CET
DTSTART:20241027T010000
END:STANDARD
BEGIN:DAYLIGHT
TZOFFSETFROM:+0100
TZOFFSETTO:+0200
TZNAME:CEST
DTSTART:20250330T010000
END:DAYLIGHT
BEGIN:STANDARD
TZOFFSETFROM:+0200
TZOFFSETTO:+0100
TZNAME:CET
DTSTART:20251026T010000
END:STANDARD
END:VTIMEZONE
BEGIN:VEVENT
DTSTART;VALUE=DATE:20230904
DTEND;VALUE=DATE:20231217
DTSTAMP:20260422T141033
CREATED:20230910T174712Z
LAST-MODIFIED:20230910T174712Z
UID:5938-1693785600-1702771199@nik.uni-obuda.hu
SUMMARY:Szorgalmi időszak
DESCRIPTION:
URL:https://nik.uni-obuda.hu/event/szorgalmi-idoszak-5/
CATEGORIES:magyar
END:VEVENT
BEGIN:VEVENT
DTSTART;VALUE=DATE:20230904
DTEND;VALUE=DATE:20231217
DTSTAMP:20260422T141033
CREATED:20230911T001949Z
LAST-MODIFIED:20230911T001949Z
UID:6022-1693785600-1702771199@nik.uni-obuda.hu
SUMMARY:Lecture period
DESCRIPTION:
URL:https://nik.uni-obuda.hu/event/lecture-period-2/
CATEGORIES:angol
END:VEVENT
BEGIN:VEVENT
DTSTART;VALUE=DATE:20231218
DTEND;VALUE=DATE:20231219
DTSTAMP:20260422T141033
CREATED:20231121T160449Z
LAST-MODIFIED:20231121T160449Z
UID:8089-1702857600-1702943999@nik.uni-obuda.hu
SUMMARY:Kódolás Órája 2023
DESCRIPTION:
URL:https://nik.uni-obuda.hu/event/kodolas-oraja-2023/
END:VEVENT
BEGIN:VEVENT
DTSTART;VALUE=DATE:20231218
DTEND;VALUE=DATE:20240204
DTSTAMP:20260422T141033
CREATED:20230910T181608Z
LAST-MODIFIED:20230910T181608Z
UID:5995-1702857600-1707004799@nik.uni-obuda.hu
SUMMARY:Vizsgaidőszak
DESCRIPTION:
URL:https://nik.uni-obuda.hu/event/vizsgaidoszak-4/
CATEGORIES:magyar
END:VEVENT
BEGIN:VEVENT
DTSTART;VALUE=DATE:20231218
DTEND;VALUE=DATE:20240204
DTSTAMP:20260422T141033
CREATED:20230911T002508Z
LAST-MODIFIED:20230911T002508Z
UID:6042-1702857600-1707004799@nik.uni-obuda.hu
SUMMARY:Exam period
DESCRIPTION:
URL:https://nik.uni-obuda.hu/event/exam-period/
CATEGORIES:angol
END:VEVENT
BEGIN:VEVENT
DTSTART;TZID=Europe/Paris:20240118T163000
DTEND;TZID=Europe/Paris:20240118T190000
DTSTAMP:20260422T141033
CREATED:20240116T133420Z
LAST-MODIFIED:20240116T133528Z
UID:9510-1705595400-1705604400@nik.uni-obuda.hu
SUMMARY:EIVOK 42. információbiztonsági szakmai fórum
DESCRIPTION:EIVOK 42. információbiztonsági szakmai fórum
URL:https://nik.uni-obuda.hu/event/eivok-42-informaciobiztonsagi-szakmai-forum/
LOCATION:1034 Budapest\, Bécsi út 96/B. F09
CATEGORIES:magyar
END:VEVENT
BEGIN:VEVENT
DTSTART;VALUE=DATE:20240122
DTEND;VALUE=DATE:20240203
DTSTAMP:20260422T141033
CREATED:20230910T181652Z
LAST-MODIFIED:20230910T181652Z
UID:5997-1705881600-1706918399@nik.uni-obuda.hu
SUMMARY:Téli záróvizsgák
DESCRIPTION:
URL:https://nik.uni-obuda.hu/event/teli-zarovizsgak/
CATEGORIES:magyar
END:VEVENT
BEGIN:VEVENT
DTSTART;VALUE=DATE:20240122
DTEND;VALUE=DATE:20240203
DTSTAMP:20260422T141033
CREATED:20230911T002451Z
LAST-MODIFIED:20230911T002451Z
UID:6040-1705881600-1706918399@nik.uni-obuda.hu
SUMMARY:Final exams
DESCRIPTION:
URL:https://nik.uni-obuda.hu/event/final-exams/
CATEGORIES:angol
END:VEVENT
BEGIN:VEVENT
DTSTART;VALUE=DATE:20240125
DTEND;VALUE=DATE:20240128
DTSTAMP:20260422T141033
CREATED:20230910T181743Z
LAST-MODIFIED:20230910T181743Z
UID:5999-1706140800-1706399999@nik.uni-obuda.hu
SUMMARY:IEEE 22nd World Symposium on Applied Machine Intelligence and Informatics (SAMI 2024)
DESCRIPTION:
URL:https://nik.uni-obuda.hu/event/ieee-22nd-world-symposium-on-applied-machine-intelligence-and-informatics-sami-2024/
LOCATION:Szlovákia
CATEGORIES:magyar
END:VEVENT
BEGIN:VEVENT
DTSTART;VALUE=DATE:20240125
DTEND;VALUE=DATE:20240128
DTSTAMP:20260422T141033
CREATED:20230911T002500Z
LAST-MODIFIED:20230911T002500Z
UID:6041-1706140800-1706399999@nik.uni-obuda.hu
SUMMARY:IEEE 22nd World Symposium on Applied Machine Intelligence and Informatics (SAMI 2024)
DESCRIPTION:
URL:https://nik.uni-obuda.hu/event/ieee-22nd-world-symposium-on-applied-machine-intelligence-and-informatics-sami-2024-2/
LOCATION:Szlovákia
CATEGORIES:angol
END:VEVENT
BEGIN:VEVENT
DTSTART;TZID=Europe/Paris:20240201T090000
DTEND;TZID=Europe/Paris:20240201T170000
DTSTAMP:20260422T141033
CREATED:20231025T075145Z
LAST-MODIFIED:20231025T075145Z
UID:6832-1706778000-1706806800@nik.uni-obuda.hu
SUMMARY:VI. Lehetőségek és Kihívások Konferencia
DESCRIPTION:2024-ban 6. alkalommal kerül megrendezésre a Lehetőségek és Kihívások Konferencia\, melynek célja\, hogy az egészségiparban és orvostechnikában dolgozókat\, gyártókat tájékoztassa a hazai és nemzetközi innovációkról\, szabályozási környezetről\, fejlesztési forrásokról\, illetve a hatósági eljárások aktualitásairól\, azaz a területen működő szakemberek munkáját meghatározó lehetőségekről és kihívásokról. A konferenciával párhuzamosan szakmai kiállítást is rendezünk\, ahol innovatív orvostechnikai eszközöket és szolgáltatásokat ismerhet meg. \nJöjjön el 2024. február 1-én az Óbudai Egyetemen megrendezésre kerülő konferenciánkra\, és ismerje meg az iparág legfontosabb lehetőségeit és kihívásait a szakma legrangosabb hazai és nemzetközi előadóitól! \nA Lehetőségek és Kihívások 2024 konferencia a legújabb fejlesztések és innovációk iránt érdeklődő egészségipari szakembereknek és vállalatoknak nyújt egyedülálló lehetőséget a szakmai tudás bővítésére\, az új trendek megismerésére\, a személyes találkozásra és az üzleti kapcsolatok bővítésére.
URL:https://nik.uni-obuda.hu/event/vi-lehetosegek-es-kihivasok-konferencia/
LOCATION:1034 Budapest\, Bécsi út 96/B.
CATEGORIES:magyar
END:VEVENT
BEGIN:VEVENT
DTSTART;TZID=Europe/Paris:20240403T133000
DTEND;TZID=Europe/Paris:20240403T163000
DTSTAMP:20260422T141033
CREATED:20240403T041731Z
LAST-MODIFIED:20240403T041736Z
UID:14812-1712151000-1712161800@nik.uni-obuda.hu
SUMMARY:Szakkollégiumok napja
DESCRIPTION:Szakkollégiumok napja
URL:https://nik.uni-obuda.hu/event/szakkollegiumok-napja/
LOCATION:NIK AULA
CATEGORIES:magyar
END:VEVENT
BEGIN:VEVENT
DTSTART;TZID=Europe/Paris:20240514T130000
DTEND;TZID=Europe/Paris:20240514T180000
DTSTAMP:20260422T141033
CREATED:20240422T094759Z
LAST-MODIFIED:20240422T094759Z
UID:15603-1715691600-1715709600@nik.uni-obuda.hu
SUMMARY:ÓE NYÍLT NAPJA AZ EVOSOFTNÁL
DESCRIPTION:Miért is éri meg eljönnöd? \nAzon kívül\, hogy beavatunk a szoftverfejlesztés kulisszatitkaiba… \n\nizgalmas előadásokon és gyakorlati bemutatókon vehetsz részt;\nrecruiter kollégáinkat kérdezheted\, hogyan zajlik egy felvételi interjú;\negyütt pizzázhatsz korábbi óbudai egyetemi hallgatókkal\, megkérdezheted őket tapasztalataikról (és arról\, hogy milyen is nálunk dolgozni);\nminden résztvevőnek ajándékkal kedveskedünk.\n\nAz eseményre a belépés ingyenes\, de regisztrációhoz kötött\, jelentkezésedet kérlek\, ezen a felületen vagy a QR kódot használva add le. \nA rendezvény létszámlimites\, max. 100 főt tudunk fogadni. Ne habozz sokáig! \nTovábbi kérdés esetén írj nekünk bátran az evouni@evosoft.com címre. \nAddig is böngéssz weboldalunkon\, nézz körül nyitott pozícióink között https://www.evosoft.hu/open-positions. \nVárunk téged! \nÜdv\,\naz evosoft csapata
URL:https://nik.uni-obuda.hu/event/oe-nyilt-napja-az-evosoftnal-2/
LOCATION:evosoft Hungary (Infopark)\, 1117 Budapest Magyar Tudósok krt. 11.
CATEGORIES:magyar
END:VEVENT
BEGIN:VEVENT
DTSTART;TZID=Europe/Paris:20240527T130000
DTEND;TZID=Europe/Paris:20240527T160000
DTSTAMP:20260422T141033
CREATED:20240521T101111Z
LAST-MODIFIED:20240521T101111Z
UID:17445-1716814800-1716825600@nik.uni-obuda.hu
SUMMARY:Doktorandusz szeminárium 2024 vol. 1
DESCRIPTION:Abdallah Benhamida: Human Bio-Signal acquisition and monitoring (non-invasive)\nEmődi Márk: Felhő platformok gépi tanulásra alapozott új orkesztrációs módszerei\nFarkas Attila: Mély gépi tanulási folyamatok vizsgálata párhuzamos és elosztott környezetben\nLaczi Szandra: Mesterséges intelligencia alkalmazásának lehetőségei a biztonságtudatosság növelése terén\nPóra Krisztián: Autonóm rendszerek adatfolyamai perem- és felhőszámítási platformokon
URL:https://nik.uni-obuda.hu/event/doktorandusz-szeminarium-2024-vol-1/
LOCATION:F08
CATEGORIES:magyar
END:VEVENT
BEGIN:VEVENT
DTSTART;TZID=Europe/Paris:20240528T130000
DTEND;TZID=Europe/Paris:20240528T160000
DTSTAMP:20260422T141033
CREATED:20240521T101141Z
LAST-MODIFIED:20240521T101141Z
UID:17453-1716901200-1716912000@nik.uni-obuda.hu
SUMMARY:Doktorandusz szeminárium 2024 vol. 2
DESCRIPTION:Cserfalvi Annamária: Jelnyelven támogatott informatikai oktatási modellek\nKiss Dániel: Diabétesz kialakulását leíró modell paraméterbecslése keresztmetszeti adatok felhasználásával\nKrutilla Zsolt: Magyar nyelvi modellek alkalmazása a bankszektor back-office területén\nSomlyai László: Mobil robotok környezetének valósidejű térképezése
URL:https://nik.uni-obuda.hu/event/doktorandusz-szeminarium-2024-vol-2/
LOCATION:F08
CATEGORIES:magyar
END:VEVENT
BEGIN:VEVENT
DTSTART;VALUE=DATE:20240905
DTEND;VALUE=DATE:20240906
DTSTAMP:20260422T141033
CREATED:20240829T075758Z
LAST-MODIFIED:20240829T075758Z
UID:21310-1725494400-1725580799@nik.uni-obuda.hu
SUMMARY:PikNIK x KGKörtúra
DESCRIPTION:
URL:https://nik.uni-obuda.hu/event/piknik-x-kgkortura/
LOCATION:Margitsziget
CATEGORIES:magyar
END:VEVENT
BEGIN:VEVENT
DTSTART;TZID=Europe/Paris:20240917T180000
DTEND;TZID=Europe/Paris:20240917T210000
DTSTAMP:20260422T141033
CREATED:20240916T095734Z
LAST-MODIFIED:20240916T095829Z
UID:23769-1726596000-1726606800@nik.uni-obuda.hu
SUMMARY:I. INNOMEET - Óbudai Egyetem
DESCRIPTION:Az INNOMEET az Óbudai Egyetem innovációs platformja\, ahol rendszeresen prominens előadókkal és az ökoszisztéma meghatározó alakjaival találkozhatsz. \nA sorozat nyitó eseménye szeptember 17-én kerül megrendezésre az OUVC szervezésében. \nVárunk minden érdeklődőt\, aki szeretne többet megtudni: \n\naz Óbudai Egyetem innovációs ökoszisztémájáról\,\naz egyes innovációs platformok\, mint az EKIK\, az Initium Ventures vagy az OUVC munkájáról és működéséről\,\naz egyetemisták lehetőségeiről az innováció és a startupok világában!\n\nUgye Te is ott leszel? \nDresscode: Business casual \nProgram: \n\n18:00-18:15: Nyitóbeszédek és köszöntők\n18:15-18:30: Előadás az innovációs ökoszisztémáról Korányi László a Nemzeti Innováció Ügynökség vezérigazgató-helyettesétől\n18:30-19:30: Ismerd meg az ÓE innovációs szervezeteit! – panelbeszélgetés a szervezetek képviselőivel\n19:30-19:50: Előadás a startup ökoszisztémáról Jared Schrieber angyalbefektetőtől\n21 óráig: Networking
URL:https://nik.uni-obuda.hu/event/i-innomeet-obudai-egyetem/
LOCATION:ÓE Kandó Kálmán Kollégium\, Bosch terem\, 1034 Budapest\, Bécsi út 104.
CATEGORIES:magyar
END:VEVENT
BEGIN:VEVENT
DTSTART;VALUE=DATE:20240923
DTEND;VALUE=DATE:20240927
DTSTAMP:20260422T141033
CREATED:20240729T114722Z
LAST-MODIFIED:20240729T114722Z
UID:19936-1727049600-1727395199@nik.uni-obuda.hu
SUMMARY:2024 Global Start-up Design Thinking Hackathon Day
DESCRIPTION:
URL:https://nik.uni-obuda.hu/event/2024-global-start-up-design-thinking-hackathon-day/
CATEGORIES:angol,magyar
END:VEVENT
BEGIN:VEVENT
DTSTART;TZID=Europe/Paris:20240925T093000
DTEND;TZID=Europe/Paris:20240925T140000
DTSTAMP:20260422T141033
CREATED:20240911T081108Z
LAST-MODIFIED:20240911T081200Z
UID:23201-1727256600-1727272800@nik.uni-obuda.hu
SUMMARY:BoschxRichter Innovátorok Napja
DESCRIPTION:
URL:https://nik.uni-obuda.hu/event/boschxrichter-innovatorok-napja/
LOCATION:1103 Budapest\, Robert Bosch utca 14.\, 1103 Budapest\, Robert Bosch utca 14.\, Budapest\, Budapest\, 1103\, Magyarország
CATEGORIES:angol,magyar
ATTACH;FMTTYPE=image/jpeg:https://nik.uni-obuda.hu/wp-content/uploads/2024/09/1920x1080.jpg
END:VEVENT
BEGIN:VEVENT
DTSTART;TZID=Europe/Paris:20241001T153000
DTEND;TZID=Europe/Paris:20241001T170000
DTSTAMP:20260422T141033
CREATED:20240926T110917Z
LAST-MODIFIED:20240926T111124Z
UID:24552-1727796600-1727802000@nik.uni-obuda.hu
SUMMARY:Kari TDK tájékoztató
DESCRIPTION:
URL:https://nik.uni-obuda.hu/event/kari-tdk-tajekoztato/
LOCATION:4.01.
CATEGORIES:magyar
END:VEVENT
BEGIN:VEVENT
DTSTART;VALUE=DATE:20241007
DTEND;VALUE=DATE:20241009
DTSTAMP:20260422T141033
CREATED:20240829T075917Z
LAST-MODIFIED:20240829T075917Z
UID:21313-1728259200-1728431999@nik.uni-obuda.hu
SUMMARY:Analóg Napok
DESCRIPTION:
URL:https://nik.uni-obuda.hu/event/analog-napok/
LOCATION:Szoborpark/NIK belső udvar
CATEGORIES:magyar
END:VEVENT
BEGIN:VEVENT
DTSTART;TZID=Europe/Paris:20241024T120000
DTEND;TZID=Europe/Paris:20241024T120000
DTSTAMP:20260422T141033
CREATED:20241009T124332Z
LAST-MODIFIED:20241009T124332Z
UID:27385-1729771200-1729771200@nik.uni-obuda.hu
SUMMARY:60. TDK Jelentkezési határidő
DESCRIPTION:A kari elektronikus TDK rendszerben (https://tdk.nik.uni-obuda.hu/) elkészített\, véglegesített jelentkezési anyagot a konzulensnek engedélyeznie kell ezen határidőig.
URL:https://nik.uni-obuda.hu/event/60-tdk-jelentkezesi-hatarido/
CATEGORIES:magyar
END:VEVENT
BEGIN:VEVENT
DTSTART;VALUE=DATE:20241031
DTEND;VALUE=DATE:20241101
DTSTAMP:20260422T141033
CREATED:20240829T080028Z
LAST-MODIFIED:20240829T080028Z
UID:21316-1730332800-1730419199@nik.uni-obuda.hu
SUMMARY:NIK Korsóavató szakestély
DESCRIPTION:
URL:https://nik.uni-obuda.hu/event/nik-korsoavato-szakestely/
LOCATION:1034 Budapest\, Bécsi út 96/B.
CATEGORIES:magyar
END:VEVENT
BEGIN:VEVENT
DTSTART;TZID=Europe/Paris:20241107T120000
DTEND;TZID=Europe/Paris:20241107T120000
DTSTAMP:20260422T141033
CREATED:20241009T124501Z
LAST-MODIFIED:20241009T124837Z
UID:27386-1730980800-1730980800@nik.uni-obuda.hu
SUMMARY:60. TDK dolgozatfeltöltési határidő
DESCRIPTION:A TDK dolgozatokat a kari TDK rendszerbe (https://tdk.nik.uni-obuda.hu/) feltöltik a hallgatók\, ahonnan a plágiumellenőrzés is megtörténik. A kari TDT elnök továbbítja a dolgozatokat a szekciók bíráló bizottságának.
URL:https://nik.uni-obuda.hu/event/60-tdk-dolgozatfeltoltesi-hatarido/
CATEGORIES:magyar
END:VEVENT
BEGIN:VEVENT
DTSTART;VALUE=DATE:20241113
DTEND;VALUE=DATE:20241114
DTSTAMP:20260422T141033
CREATED:20241009T124749Z
LAST-MODIFIED:20241009T124749Z
UID:27410-1731456000-1731542399@nik.uni-obuda.hu
SUMMARY:60. Tudományos Diákköri Konferencia
DESCRIPTION:A Konferenciáról további információ és a jelentkezés feltételei megtalálhatók az alábbi linken.
URL:https://nik.uni-obuda.hu/event/60-tudomanyos-diakkori-konferencia/
CATEGORIES:magyar
END:VEVENT
BEGIN:VEVENT
DTSTART;TZID=Europe/Paris:20241127T170000
DTEND;TZID=Europe/Paris:20241127T170000
DTSTAMP:20260422T141033
CREATED:20241009T124528Z
LAST-MODIFIED:20241009T124528Z
UID:27387-1732726800-1732726800@nik.uni-obuda.hu
SUMMARY:60. TDK Eredményhirdetés
DESCRIPTION:
URL:https://nik.uni-obuda.hu/event/60-tdk-eredmenyhirdetes/
LOCATION:AudMax
CATEGORIES:magyar
END:VEVENT
BEGIN:VEVENT
DTSTART;TZID=Europe/Paris:20250219T130000
DTEND;TZID=Europe/Paris:20250219T170000
DTSTAMP:20260422T141033
CREATED:20250219T132409Z
LAST-MODIFIED:20250303T095156Z
UID:35219-1739970000-1739984400@nik.uni-obuda.hu
SUMMARY:evosoft nyílt nap 2025
DESCRIPTION:Jelentkezés ezen a linken. \nA belépés ingyenes\, de előzetes regisztrációhoz kötött. Jelentkezni a megadott linken tudsz 2025.03.12-ig (szerdáig). 
URL:https://nik.uni-obuda.hu/event/evosoft-nyilt-nap-2025/
LOCATION:evosoft Hungary (Infopark) 1117 Budapest Magyar Tudósok krt. 11.
CATEGORIES:magyar
END:VEVENT
BEGIN:VEVENT
DTSTART;VALUE=DATE:20250228
DTEND;VALUE=DATE:20250303
DTSTAMP:20260422T141033
CREATED:20250219T134749Z
LAST-MODIFIED:20250303T095151Z
UID:35283-1740700800-1740959999@nik.uni-obuda.hu
SUMMARY:BuildX Voovo Hackathon
DESCRIPTION:Registration deadline: February 24 \nFind the details of the challenge and available resources at this link \nFor more information\, visit the event page
URL:https://nik.uni-obuda.hu/event/buildx-voovo-hackathon/
CATEGORIES:magyar
END:VEVENT
BEGIN:VEVENT
DTSTART;TZID=Europe/Paris:20250314T150000
DTEND;TZID=Europe/Paris:20250314T170000
DTSTAMP:20260422T141033
CREATED:20250218T145845Z
LAST-MODIFIED:20250303T095140Z
UID:35170-1741964400-1741971600@nik.uni-obuda.hu
SUMMARY:NJSZT OBSZ márciusi mini szimpózium
DESCRIPTION:Az NJSZT OBSZ a tavalyihoz hasonlóan idén is az Óbudai Egyetemre szervezi az első mini szimpóziumát. \n\n\n\nA nagy nyelvi modell\, a „legsikeresebb” mesterséges intelligencia algoritmus az egészségügyben – hol is tartunk 2025 márciusában? \n\nA Neumann János Számítógép-tudományi Társaság Orvos-biológiai Szakosztályának 2025-ös első mini szimpóziuma a mesterséges intelligencia egy különösen sikeres válfajával foglalkozik\, mely (látszólag hirtelen) az orvoslás mindennapjaiba is beférkőzött: 2022 december eleje óta érhető el széles körben egy beszélgető felületen egy úgynevezett nagy nyelvi modell (LLM). Láss csodát\, akár a Star Trek sci-fi soroztaban\, csak írnunk (ma már csak szólnunk) kell: Computer! Mit is gondolnak az episztemiológusok a múlt heti holdi időjárásról? És jön a válasz….  
URL:https://nik.uni-obuda.hu/event/njszt-obsz-marciusi-mini-szimpozium/
LOCATION:1034 Budapest\, Bécsi út 96/B. F04
CATEGORIES:magyar
END:VEVENT
BEGIN:VEVENT
DTSTART;TZID=Europe/Paris:20250516T140000
DTEND;TZID=Europe/Paris:20250516T160000
DTSTAMP:20260422T141033
CREATED:20250514T123944Z
LAST-MODIFIED:20250514T124007Z
UID:42153-1747404000-1747411200@nik.uni-obuda.hu
SUMMARY:NJSZT OBSZ májusi miniszimpózium
DESCRIPTION:
URL:https://nik.uni-obuda.hu/event/njszt-obsz-majusi-miniszimpozium/
CATEGORIES:magyar
END:VEVENT
END:VCALENDAR