Workbook

Sheet BSc tanterv nappali
B3: Mérnökinformatikus alapképzési szak, nappali tagozat (érvényes: 2022.februártól)
A4: heti óraszámokkal (ea. tgy. l). ; követelményekkel (k.); kreditekkel (kr.)
B6: Kód | C6: Tantárgyak | D6: Tárgyfelelős | E6: Oktató(k) | F6: heti | G6: kredit | H6: Félévek | AR6: Előtanulmány | AT6: Előtanulmány
F7: óra | J7: 1. | O7: 2. | T7: 3. | Y7: 4. | AD7: 5. | AI7: 6. | AN7: 7.
H8: ea | I8: tgy | J8: l | K8: k | L8: kr | M8: ea | N8: tgy | O8: l | P8: k | Q8: kr | R8: ea | S8: tgy | T8: l | U8: k | V8: kr | W8: ea | X8: tgy | Y8: l | Z8: k | AA8: kr | AB8: ea | AC8: tgy | AD8: l | AE8: k | AF8: kr | AG8: ea | AH8: tgy | AI8: l | AJ8: k | AK8: kr | AL8: ea | AM8: tgy | AN8: l | AO8: k | AP8: kr
B9: Természettudományos alapismeretek összesen: | F9: =SUM(F10:F17) -> 34 | G9: =SUM(G10:G17) -> 42 | H9: =SUM(H10:H17) -> 10 | I9: =SUM(I10:I17) -> 6 | J9: =SUM(J10:J17) -> 0 | L9: =SUM(L10:L17) -> 21 | M9: =SUM(M10:M17) -> 8 | N9: =SUM(N10:N17) -> 6 | O9: =SUM(O10:O17) -> 0 | Q9: =SUM(Q10:Q17) -> 16 | R9: =SUM(R10:R17) -> 0 | S9: =SUM(S10:S17) -> 0 | T9: =SUM(T10:T17) -> 0 | V9: =SUM(V10:V17) -> 0 | W9: =SUM(W10:W17) -> 2 | X9: =SUM(X10:X17) -> 2 | Y9: =SUM(Y10:Y17) -> 0 | AA9: =SUM(AA10:AA17) -> 5 | AB9: =SUM(AB10:AB17) -> 0 | AC9: =SUM(AC10:AC17) -> 0 | AD9: =SUM(AD10:AD17) -> 0 | AF9: =SUM(AF10:AF17) -> 0 | AG9: =SUM(AG10:AG17) -> 0 | AH9: =SUM(AH10:AH17) -> 0 | AI9: =SUM(AI10:AI17) -> 0 | AK9: =SUM(AK10:AK17) -> 0 | AL9: =SUM(AL10:AL17) -> 0 | AM9: =SUM(AM10:AM17) -> 0 | AN9: =SUM(AN10:AN17) -> 0 | AP9: =SUM(AP10:AP17) -> 0
A10: 1. | B10: NMXAN1HBNE | C10: Matematika I. - Analízis I. | D10: Dr. Galántai Aurél | E10: Dr. Vajda István | F10: =SUM(H10:J10,M10:O10,R10:T10,W10:Y10,AB10:AD10,AG10:AI10,AL10:AN10) -> 6 | G10: =SUM(L10,Q10,V10,AA10,AF10,AK10,AP10) -> 6 | H10: 3 | I10: 3 | J10: 0 | K10: v | L10: 6
A11: 2. | B11: NMXAN2HBNE | C11: Analízis II. | D11: Dr. Vajda István | E11: Dr. Vajda István | F11: =SUM(H11:J11,M11:O11,R11:T11,W11:Y11,AB11:AD11,AG11:AI11,AL11:AN11) -> 6 | G11: =SUM(L11,Q11,V11,AA11,AF11,AK11,AP11) -> 6 | M11: 3 | N11: 3 | O11: 0 | P11: v | Q11: 6 | AQ11: =A10 -> 1. | AR11: =B10 -> NMXAN1HBNE
A12: 3. | B12: NMXDM1HBNE | C12: Diszkrét matematika és lineáris algebra I. | D12: Dr. Szőke Magdolna | E12: Dr. György Anna | F12: =SUM(H12:J12,M12:O12,R12:T12,W12:Y12,AB12:AD12,AG12:AI12,AL12:AN12) -> 5 | G12: =SUM(L12,Q12,V12,AA12,AF12,AK12,AP12) -> 6 | H12: 3 | I12: 2 | J12: 0 | K12: v | L12: 6
A13: 4. | B13: NMXDM2HBNE | C13: Diszkrét matematika és lineáris algebra II. | D13: Dr. Szőke Magdolna | E13: Dr. György Anna | F13: =SUM(H13:J13,M13:O13,R13:T13,W13:Y13,AB13:AD13,AG13:AI13,AL13:AN13) -> 5 | G13: =SUM(L13,Q13,V13,AA13,AF13,AK13,AP13) -> 5 | M13: 3 | N13: 2 | O13: 0 | P13: v | Q13: 5 | AQ13: =A12 -> 3. | AR13: =B12 -> NMXDM1HBNE
A14: 5. | B14: NMXVS1HBNE | C14: Valószínűségszámítás és matematikai statisztika | D14: Dr. Kárász Péter | E14: Dr. Kárász Péter | F14: =SUM(H14:J14,M14:O14,R14:T14,W14:Y14,AB14:AD14,AG14:AI14,AL14:AN14) -> 4 | G14: =SUM(L14,Q14,V14,AA14,AF14,AK14,AP14) -> 5 | W14: 2 | X14: 2 | Y14: 0 | Z14: v | AA14: 5 | AQ14: =A13 -> 4. | AR14: =B13 -> NMXDM2HBNE | AS14: =A11 -> 2. | AT14: =B11 -> NMXAN2HBNE
A15: 6. | B15: NIXBI1HBNE | C15: Bevezetés a informatikába | D15: Dr. Csink László | E15: Dr. Laufer Edit | F15: =SUM(H15:J15,M15:O15,R15:T15,W15:Y15,AB15:AD15,AG15:AI15,AL15:AN15) -> 2 | G15: =SUM(L15,Q15,V15,AA15,AF15,AK15,AP15) -> 4 | H15: 2 | I15: 0 | J15: 0 | K15: é | L15: 4
A16: 7. | B16: KVXFI1HBNE | C16: Fizika | D16: Dr. Rácz Ervin | E16: Dr. Rácz Ervin | F16: =SUM(H16:J16,M16:O16,R16:T16,W16:Y16,AB16:AD16,AG16:AI16,AL16:AN16) -> 3 | G16: =SUM(L16,Q16,V16,AA16,AF16,AK16,AP16) -> 5 | M16: 2 | N16: 1 | O16: 0 | P16: v | Q16: 5 | AQ16: =A10 -> 1. | AR16: =B10 -> NMXAN1HBNE
A17: 8. | B17: KVEVI1HBNE | C17: Villamosságtan * | D17: Dr. Kádár Péter | F17: =SUM(H17:J17,M17:O17,R17:T17,W17:Y17,AB17:AD17,AG17:AI17,AL17:AN17) -> 3 | G17: =SUM(L17,Q17,V17,AA17,AF17,AK17,AP17) -> 5 | H17: 2 | I17: 1 | J17: 0 | K17: v | L17: 5
B18: Gazdasági és Humán ismeretek összesen: | F18: =SUM(F19:F24) -> 13 | G18: =SUM(G19:G24) -> 16 | H18: =SUM(H19:H24) -> 2 | I18: =SUM(I19:I24) -> 0 | J18: =SUM(J19:J24) -> 0 | L18: =SUM(L19:L24) -> 2 | M18: =SUM(M19:M24) -> 1 | N18: =SUM(N19:N24) -> 1 | O18: =SUM(O19:O24) -> 0 | Q18: =SUM(Q19:Q24) -> 2 | R18: =SUM(R19:R24) -> 2 | S18: =SUM(S19:S24) -> 2 | T18: =SUM(T19:T24) -> 0 | V18: =SUM(V19:V24) -> 4 | W18: =SUM(W19:W24) -> 1 | X18: =SUM(X19:X24) -> 0 | Y18: =SUM(Y19:Y24) -> 0 | AA18: =SUM(AA19:AA24) -> 2 | AB18: =SUM(AB19:AB24) -> 1 | AC18: =SUM(AC19:AC24) -> 1 | AD18: =SUM(AD19:AD24) -> 0 | AF18: =SUM(AF19:AF24) -> 3 | AG18: =SUM(AG19:AG24) -> 2 | AH18: =SUM(AH19:AH24) -> 0 | AI18: =SUM(AI19:AI24) -> 0 | AK18: =SUM(AK19:AK24) -> 3 | AL18: =SUM(AL19:AL24) -> 0 | AM18: =SUM(AM19:AM24) -> 0 | AN18: =SUM(AN19:AN24) -> 0 | AP18: =SUM(AP19:AP24) -> 0
A19: 9. | B19: GGXKG1HBNE | C19: Makroökonómia | D19: Dr. Medve András | F19: =SUM(H19:J19,M19:O19,R19:T19,W19:Y19,AB19:AD19,AG19:AI19,AL19:AN19) -> 2 | G19: =SUM(L19,Q19,V19,AA19,AF19,AK19,AP19) -> 2 | H19: 2 | I19: 0 | J19: 0 | K19: é | L19: 2
A20: 10. | B20: GGXKG2HBNE | C20: Mikroökonómia | D20: Dr. Medve András | F20: =SUM(H20:J20,M20:O20,R20:T20,W20:Y20,AB20:AD20,AG20:AI20,AL20:AN20) -> 2 | G20: =SUM(L20,Q20,V20,AA20,AF20,AK20,AP20) -> 2 | M20: 1 | N20: 1 | O20: 0 | P20: é | Q20: 2
A21: 11. | B21: GSXVG0HBNE | C21: Vállalkozás gazdaságtan * | D21: Dr. Katona Ferenc | F21: =SUM(H21:J21,M21:O21,R21:T21,W21:Y21,AB21:AD21,AG21:AI21,AL21:AN21) -> 4 | G21: =SUM(L21,Q21,V21,AA21,AF21,AK21,AP21) -> 4 | R21: 2 | S21: 2 | T21: 0 | U21: é | V21: 4
A22: 12. | B22: GVXME1HBNE | C22: Menedzsment alapjai | D22: Dr. Parragh Bianka | F22: =SUM(H22:J22,M22:O22,R22:T22,W22:Y22,AB22:AD22,AG22:AI22,AL22:AN22) -> 2 | G22: =SUM(L22,Q22,V22,AA22,AF22,AK22,AP22) -> 3 | AB22: 1 | AC22: 1 | AD22: 0 | AE22: é | AF22: 3
A23: 13. | B23: GGXJA1HBNE | C23: Államigazgatási és jogi ismeretek * | D23: Dr. Kohlhoffer-Mizser Csilla | F23: =SUM(H23:J23,M23:O23,R23:T23,W23:Y23,AB23:AD23,AG23:AI23,AL23:AN23) -> 2 | G23: =SUM(L23,Q23,V23,AA23,AF23,AK23,AP23) -> 3 | AG23: 2 | AH23: 0 | AI23: 0 | AJ23: é | AK23: 3
A24: 14. | B24: NNXIK2HBNE | C24: Infokommunikációs technikák | D24: Dr. Nádai László | F24: =SUM(H24:J24,M24:O24,R24:T24,W24:Y24,AB24:AD24,AG24:AI24,AL24:AN24) -> 1 | G24: =SUM(L24,Q24,V24,AA24,AF24,AK24,AP24) -> 2 | W24: 1 | X24: 0 | Y24: 0 | Z24: é | AA24: 2
A25: * e-learning blended formában indul
B29: Kód | C29: Tantárgyak | F29: heti | G29: kredit | H29: Félévek | AR29: Előtanulmány | AT29: Előtanulmány
F30: óra | J30: 1. | O30: 2. | T30: 3. | Y30: 4. | AD30: 5. | AI30: 6. | AN30: 7.
H31: ea | I31: tgy | J31: l | K31: k | L31: kr | M31: ea | N31: tgy | O31: l | P31: k | Q31: kr | R31: ea | S31: tgy | T31: l | U31: k | V31: kr | W31: ea | X31: tgy | Y31: l | Z31: k | AA31: kr | AB31: ea | AC31: tgy | AD31: l | AE31: k | AF31: kr | AG31: ea | AH31: tgy | AI31: l | AJ31: k | AK31: kr | AL31: ea | AM31: tgy | AN31: l | AO31: k | AP31: kr | AR31: Kód | AT31: Kód
B32: Szakmai törzsanyag összesen: | F32: =SUM(F33:F57) -> 91 | G32: =SUM(G33:G57) -> 124 | H32: =SUM(H33:H57) -> 3 | I32: =SUM(I33:I57) -> 0 | J32: =SUM(J33:J57) -> 3 | L32: =SUM(L33:L57) -> 6 | M32: =SUM(M33:M57) -> 7 | N32: =SUM(N33:N57) -> 0 | O32: =SUM(O33:O57) -> 7 | Q32: =SUM(Q33:Q57) -> 14 | R32: =SUM(R33:R57) -> 8 | S32: =SUM(S33:S57) -> 1 | T32: =SUM(T33:T57) -> 12 | V32: =SUM(V33:V57) -> 27 | W32: =SUM(W33:W57) -> 9 | X32: =SUM(X33:X57) -> 0 | Y32: =SUM(Y33:Y57) -> 10 | AA32: =SUM(AA33:AA57) -> 22 | AB32: =SUM(AB33:AB57) -> 7 | AC32: =SUM(AC33:AC57) -> 0 | AD32: =SUM(AD33:AD57) -> 8 | AF32: =SUM(AF33:AF57) -> 18 | AG32: =SUM(AG33:AG57) -> 4 | AH32: =SUM(AH33:AH57) -> 0 | AI32: =SUM(AI33:AI57) -> 4 | AK32: =SUM(AK33:AK57) -> 17 | AL32: =SUM(AL33:AL57) -> 4 | AM32: =SUM(AM33:AM57) -> 0 | AN32: =SUM(AN33:AN57) -> 4 | AP32: =SUM(AP33:AP57) -> 20
A33: 15. | B33: NIXSF1HBNE | C33: Szoftvertervezés és -fejlesztés I. | D33: Dr. Sergyán Szabolcs | F33: =SUM(H33:J33,M33:O33,R33:T33,W33:Y33,AB33:AD33,AG33:AI33,AL33:AN33) -> 6 | G33: =SUM(L33,Q33,V33,AA33,AF33,AK33,AP33) -> 6 | H33: 3 | I33: 0 | J33: 3 | K33: v | L33: 6
A34: 16. | B34: NIXSF2HBNE | C34: Szoftvertervezés és -fejlesztés II. | D34: Dr. Szénási Sándor | F34: =SUM(H34:J34,M34:O34,R34:T34,W34:Y34,AB34:AD34,AG34:AI34,AL34:AN34) -> 6 | G34: =SUM(L34,Q34,V34,AA34,AF34,AK34,AP34) -> 6 | M34: 3 | N34: 0 | O34: 3 | P34: v | Q34: 6 | AQ34: =A33 -> 15. | AR34: =B33 -> NIXSF1HBNE
A35: 17. | B35: NSXHF1HBNE | C35: Haladó fejlesztési technikák | D35: Dr. Vámossy Zoltán | F35: =SUM(H35:J35,M35:O35,R35:T35,W35:Y35,AB35:AD35,AG35:AI35,AL35:AN35) -> 3 | G35: =SUM(L35,Q35,V35,AA35,AF35,AK35,AP35) -> 4 | R35: 0 | S35: 0 | T35: 3 | U35: é | V35: 4 | AQ35: =A34 -> 16. | AR35: =B34 -> NIXSF2HBNE
A36: 18. | B36: NSXJW1HBNE | C36: Java alapú webfejlesztés | F36: =SUM(H36:J36,M36:O36,R36:T36,W36:Y36,AB36:AD36,AG36:AI36,AL36:AN36) -> 2 | G36: =SUM(L36,Q36,V36,AA36,AF36,AK36,AP36) -> 3 | R36: 0 | S36: 0 | T36: 2 | U36: é | V36: 3 | AQ36: =A34 -> 16. | AR36: =B34 -> NIXSF2HBNE
A37: 19. | B37: NIXAB0HBNE | C37: Adatbázisok | D37: Dr. Fleiner Rita | F37: =SUM(H37:J37,M37:O37,R37:T37,W37:Y37,AB37:AD37,AG37:AI37,AL37:AN37) -> 4 | G37: =SUM(L37,Q37,V37,AA37,AF37,AK37,AP37) -> 5 | R37: 2 | S37: 0 | T37: 2 | U37: é | V37: 5 | AQ37: =A33 -> 15. | AR37: =B33 -> NIXSF1HBNE
A38: 20. | B38: NIXSG1HBNE | C38: Szoftvertechnológia és grafikus felhasználói interfész tervezése | D38: Dr. Tick József | F38: =SUM(H38:J38,M38:O38,R38:T38,W38:Y38,AB38:AD38,AG38:AI38,AL38:AN38) -> 5 | G38: =SUM(L38,Q38,V38,AA38,AF38,AK38,AP38) -> 5 | W38: 2 | X38: 0 | Y38: 3 | Z38: v | AA38: 5 | AQ38: =A35 -> 17. | AR38: =B35 -> NSXHF1HBNE
A39: 21. | B39: NIXRE1HBNE | C39: Rendszerelmélet | D39: Dr. Kovács Levente | F39: =SUM(H39:J39,M39:O39,R39:T39,W39:Y39,AB39:AD39,AG39:AI39,AL39:AN39) -> 3 | G39: =SUM(L39,Q39,V39,AA39,AF39,AK39,AP39) -> 5 | R39: 2 | S39: 1 | T39: 0 | U39: v | V39: 5 | AQ39: =A11 -> 2. | AR39: =B11 -> NMXAN2HBNE
A40: 22. | B40: NIEEL0HBNE | C40: Elektronika * | D40: Dr. Stojcsics Dániel | F40: =SUM(H40:J40,M40:O40,R40:T40,W40:Y40,AB40:AD40,AG40:AI40,AL40:AN40) -> 4 | G40: =SUM(L40,Q40,V40,AA40,AF40,AK40,AP40) -> 4 | M40: 2 | N40: 0 | O40: 2 | P40: é | Q40: 4
A41: 23. | B41: NIXDR0HBNE | C41: Digitális rendszerek | D41: Dr. Molnár András | F41: =SUM(H41:J41,M41:O41,R41:T41,W41:Y41,AB41:AD41,AG41:AI41,AL41:AN41) -> 4 | G41: =SUM(L41,Q41,V41,AA41,AF41,AK41,AP41) -> 5 | R41: 2 | S41: 0 | T41: 2 | U41: é | V41: 5 | AQ41: 22. | AR41: =B40 -> NIEEL0HBNE | AS41: 3. | AT41: NMXDM1HBNE
A42: 24. | B42: NIESA1HBNE | C42: Számítógép architektúrák alapjai * | D42: Dr. Sima Dezső | F42: =SUM(H42:J42,M42:O42,R42:T42,W42:Y42,AB42:AD42,AG42:AI42,AL42:AN42) -> 4 | G42: =SUM(L42,Q42,V42,AA42,AF42,AK42,AP42) -> 4 | AB42: 2 | AC42: 0 | AD42: 2 | AE42: v | AF42: 4
A43: 25. | B43: NIXKA1HBNE | C43: Korszerű számítógép architektúrák I. | D43: Dr. Sima Dezső | F43: =SUM(H43:J43,M43:O43,R43:T43,W43:Y43,AB43:AD43,AG43:AI43,AL43:AN43) -> 2 | G43: =SUM(L43,Q43,V43,AA43,AF43,AK43,AP43) -> 2 | AG43: 2 | AH43: 0 | AI43: 0 | AJ43: v | AK43: 2 | AQ43: =A42 -> 24. | AR43: =B42 -> NIESA1HBNE
A44: 26. | B44: NIXKA2HBNE | C44: Korszerű számítógép architektúrák II. | D44: Dr. Sima Dezső | F44: =SUM(H44:J44,M44:O44,R44:T44,W44:Y44,AB44:AD44,AG44:AI44,AL44:AN44) -> 2 | G44: =SUM(L44,Q44,V44,AA44,AF44,AK44,AP44) -> 2 | AL44: 2 | AM44: 0 | AN44: 0 | AO44: v | AP44: 2 | AQ44: =A43 -> 25. | AR44: =B43 -> NIXKA1HBNE
A45: 27. | B45: NIEOR1HBNE | C45: Operációs rendszerek * | D45: Dr. Rövid András | F45: =SUM(H45:J45,M45:O45,R45:T45,W45:Y45,AB45:AD45,AG45:AI45,AL45:AN45) -> 5 | G45: =SUM(L45,Q45,V45,AA45,AF45,AK45,AP45) -> 5 | R45: 2 | S45: 0 | T45: 3 | U45: v | V45: 5 | AQ45: =A46 -> 28. | AR45: =B46 -> NIXSH0HBNE
A46: 28. | B46: NIXSH0HBNE | C46: Számítógép hálózatok | D46: Dr. Rövid András | F46: =SUM(H46:J46,M46:O46,R46:T46,W46:Y46,AB46:AD46,AG46:AI46,AL46:AN46) -> 4 | G46: =SUM(L46,Q46,V46,AA46,AF46,AK46,AP46) -> 4 | M46: 2 | N46: 0 | O46: 2 | P46: v | Q46: 4 | AQ46: =A15 -> 6. | AR46: =B15 -> NIXBI1HBNE
A47: 29. | B47: NIXIR0HBNE | C47: Intelligens rendszerek | D47: Dr. Molnár András | F47: =SUM(H47:J47,M47:O47,R47:T47,W47:Y47,AB47:AD47,AG47:AI47,AL47:AN47) -> 3 | G47: =SUM(L47,Q47,V47,AA47,AF47,AK47,AP47) -> 3 | W47: 1 | X47: 0 | Y47: 2 | Z47: é | AA47: 3
A48: 30. | B48: NIXVI0HBNE | C48: Vállalati információs rendszerek | D48: Dr. Erdődi László | F48: =SUM(H48:J48,M48:O48,R48:T48,W48:Y48,AB48:AD48,AG48:AI48,AL48:AN48) -> 4 | G48: =SUM(L48,Q48,V48,AA48,AF48,AK48,AP48) -> 4 | AB48: 2 | AC48: 0 | AD48: 2 | AE48: v | AF48: 4 | AQ48: =A37 -> 19. | AR48: =B37 -> NIXAB0HBNE
A49: 31. | B49: NIEIB0HBNE | C49: Informatikai biztonság * | D49: Dr. Póser Valéria | F49: =SUM(H49:J49,M49:O49,R49:T49,W49:Y49,AB49:AD49,AG49:AI49,AL49:AN49) -> 4 | G49: =SUM(L49,Q49,V49,AA49,AF49,AK49,AP49) -> 4 | W49: 2 | X49: 0 | Y49: 2 | Z49: v | AA49: 4 | AQ49: =A45 -> 27. | AR49: =B45 -> NIEOR1HBNE
A50: 32. | B50: NIXSS1HBNE | C50: Szakmai szigorlat | D50: Dr. Kovács Levente | F50: =SUM(H50:J50,M50:O50,R50:T50,W50:Y50,AB50:AD50,AG50:AI50,AL50:AN50) -> 0 | G50: =SUM(L50,Q50,V50,AA50,AF50,AK50,AP50) -> 0 | R50: 0 | S50: 0 | T50: 0 | U50: s | V50: 0 | AQ50: =A35 -> 17. | AR50: =B35 -> NSXHF1HBNE | AS50: =A41 -> 23. | AT50: =B41 -> NIXDR0HBNE
C51: Specializáció 3 | F51: =SUM(H51:J51,M51:O51,R51:T51,W51:Y51,AB51:AD51,AG51:AI51,AL51:AN51) -> 22 | G51: =SUM(L51,Q51,V51,AA51,AF51,AK51,AP51) -> 30 | W51: 4 | X51: 0 | Y51: 2 | AA51: 8 | AB51: 3 | AC51: 0 | AD51: 3 | AF51: 8 | AG51: 2 | AH51: 0 | AI51: 3 | AK51: 7 | AL51: 2 | AM51: 0 | AN51: 3 | AP51: 7 | AQ51: =A50 -> 32. | AR51: =B50 -> NIXSS1HBNE
A52: 33. | B52: NNPPR1HBNE | C52: Projektmunka I. | D52: Dr. Csink László | F52: =SUM(H52:J52,M52:O52,R52:T52,W52:Y52,AB52:AD52,AG52:AI52,AL52:AN52) -> 1 | G52: =SUM(L52,Q52,V52,AA52,AF52,AK52,AP52) -> 2 | W52: 0 | X52: 0 | Y52: 1 | Z52: é | AA52: 2 | AQ52: =A50 -> 32. | AR52: =B50 -> NIXSS1HBNE
A53: 34. | B53: NNPPR2HBNE | C53: Projektmunka II. | F53: =SUM(H53:J53,M53:O53,R53:T53,W53:Y53,AB53:AD53,AG53:AI53,AL53:AN53) -> 1 | G53: =SUM(L53,Q53,V53,AA53,AF53,AK53,AP53) -> 2 | AB53: 0 | AC53: 0 | AD53: 1 | AE53: é | AF53: 2 | AQ53: =A52 -> 33. | AR53: =B52 -> NNPPR1HBNE
A54: 35. | B54: NNPPR3HBNE | C54: Projektmunka III. | F54: =SUM(H54:J54,M54:O54,R54:T54,W54:Y54,AB54:AD54,AG54:AI54,AL54:AN54) -> 1 | G54: =SUM(L54,Q54,V54,AA54,AF54,AK54,AP54) -> 2 | AG54: 0 | AH54: 0 | AI54: 1 | AJ54: é | AK54: 2 | AQ54: =A53 -> 34. | AR54: =B53 -> NNPPR2HBNE
A55: 36. | B55: NNPPR4HBNE | C55: Projektmunka IV. | F55: =SUM(H55:J55,M55:O55,R55:T55,W55:Y55,AB55:AD55,AG55:AI55,AL55:AN55) -> 1 | G55: =SUM(L55,Q55,V55,AA55,AF55,AK55,AP55) -> 2 | AL55: 0 | AM55: 0 | AN55: 1 | AO55: é | AP55: 2 | AQ55: =A54 -> 35. | AR55: =B54 -> NNPPR3HBNE
A56: 37. | B56: NNDSD1HBNE | C56: Szakdolgozat I. | F56: =SUM(H56:J56,M56:O56,R56:T56,W56:Y56,AB56:AD56,AG56:AI56,AL56:AN56) -> 0 | G56: =SUM(L56,Q56,V56,AA56,AF56,AK56,AP56) -> 6 | AJ56: é | AK56: 6 | AQ56: =A52 -> 33. | AR56: =B52 -> NNPPR1HBNE
A57: 38. | B57: NNDSD2HBNE | C57: Szakdolgozat II. | F57: =SUM(H57:J57,M57:O57,R57:T57,W57:Y57,AB57:AD57,AG57:AI57,AL57:AN57) -> 0 | G57: =SUM(L57,Q57,V57,AA57,AF57,AK57,AP57) -> 9 | AO57: é | AP57: 9 | AQ57: =A56 -> 37. | AR57: =B56 -> NNDSD1HBNE
A58: * e-learning blended formában indul
A60: heti óraszámokkal (ea. tgy. l). ; követelményekkel (k.); kreditekkel (kr.)
B61: Kód | C61: Tantárgyak | H61: Félévek | AR61: Előtanulmány | AT61: Előtanulmány
J62: 1. | O62: 2. | T62: 3. | Y62: 4. | AD62: 5. | AI62: 6. | AN62: 7.
H63: ea | I63: tgy | J63: l | K63: k | L63: kr | M63: ea | N63: tgy | O63: l | P63: k | Q63: kr | R63: ea | S63: tgy | T63: l | U63: k | V63: kr | W63: ea | X63: tgy | Y63: l | Z63: k | AA63: kr | AB63: ea | AC63: tgy | AD63: l | AE63: k | AF63: kr | AG63: ea | AH63: tgy | AI63: l | AJ63: k | AK63: kr | AL63: ea | AM63: tgy | AN63: l | AO63: k | AP63: kr
B64: Választható tárgyak | F64: =SUM(F65:F67) -> 22 | G64: =SUM(G65:G67) -> 28 | H64: =SUM(H65:H67) -> 0 | I64: =SUM(I65:I67) -> 0 | J64: =SUM(J65:J67) -> 0 | L64: =SUM(L65:L67) -> 0 | M64: =SUM(M65:M67) -> 0 | N64: =SUM(N65:N67) -> 0 | O64: =SUM(O65:O67) -> 0 | Q64: =SUM(Q65:Q67) -> 0 | R64: =SUM(R65:R67) -> 0 | S64: =SUM(S65:S67) -> 0 | T64: =SUM(T65:T67) -> 0 | V64: =SUM(V65:V67) -> 0 | W64: =SUM(W65:W67) -> 0 | X64: =SUM(X65:X67) -> 0 | Y64: =SUM(Y65:Y67) -> 0 | AA64: =SUM(AA65:AA67) -> 0 | AB64: =SUM(AB65:AB67) -> 6 | AC64: =SUM(AC65:AC67) -> 0 | AD64: =SUM(AD65:AD67) -> 0 | AF64: =SUM(AF65:AF67) -> 6 | AG64: =SUM(AG65:AG67) -> 8 | AH64: =SUM(AH65:AH67) -> 0 | AI64: =SUM(AI65:AI67) -> 0 | AK64: =SUM(AK65:AK67) -> 12 | AL64: =SUM(AL65:AL67) -> 8 | AM64: =SUM(AM65:AM67) -> 0 | AN64: =SUM(AN65:AN67) -> 0 | AP64: =SUM(AP65:AP67) -> 10
A65: 39. | B65: Kötelezően választható szakmai tárgyak I. 1 | F65: =SUM(H65:J65,M65:O65,R65:T65,W65:Y65,AB65:AD65,AG65:AI65,AL65:AN65) -> 10 | G65: =SUM(L65,Q65,V65,AA65,AF65,AK65,AP65) -> 12 | AB65: 4 | AF65: 4 | AL65: 6 | AP65: 8 | AQ65: =A50 -> 32. | AR65: =B50 -> NIXSS1HBNE
A66: 40. | B66: Kötelezően választható szakmai tárgyak II. 1 | F66: =SUM(H66:J66,M66:O66,R66:T66,W66:Y66,AB66:AD66,AG66:AI66,AL66:AN66) -> 4 | G66: =SUM(L66,Q66,V66,AA66,AF66,AK66,AP66) -> 6 | AG66: 4 | AK66: 6 | AQ66: =A50 -> 32. | AR66: =B50 -> NIXSS1HBNE
A67: 41. | B67: Szabadon választható tárgyak 4 | F67: =SUM(H67:J67,M67:O67,R67:T67,W67:Y67,AB67:AD67,AG67:AI67,AL67:AN67) -> 8 | G67: =SUM(L67,Q67,V67,AA67,AF67,AK67,AP67) -> 10 | AB67: 2 | AF67: 2 | AG67: 4 | AK67: 6 | AL67: 2 | AP67: 2
C68: Mindösszesen: | F68: =F9+F18+F32+F64 -> 160 | G68: =L68+Q68+V68+AA68+AF68+AK68+AP68 -> 210 | H68: =SUM(H9+H18+H32+H64) -> 15 | I68: =SUM(I9+I18+I32+I64) -> 6 | J68: =SUM(J9+J18+J32+J64) -> 3 | L68: =SUM(L9+L18+L32+L64) -> 29 | M68: =SUM(M9+M18+M32+M64) -> 16 | N68: =SUM(N9+N18+N32+N64) -> 7 | O68: =SUM(O9+O18+O32+O64) -> 7 | Q68: =SUM(Q9+Q18+Q32+Q64) -> 32 | R68: =SUM(R9+R18+R32+R64) -> 10 | S68: =SUM(S9+S18+S32+S64) -> 3 | T68: =SUM(T9+T18+T32+T64) -> 12 | V68: =SUM(V9+V18+V32+V64) -> 31 | W68: =SUM(W9+W18+W32+W64) -> 12 | X68: =SUM(X9+X18+X32+X64) -> 2 | Y68: =SUM(Y9+Y18+Y32+Y64) -> 10 | AA68: =SUM(AA9+AA18+AA32+AA64) -> 29 | AB68: =SUM(AB9+AB18+AB32+AB64) -> 14 | AC68: =SUM(AC9+AC18+AC32+AC64) -> 1 | AD68: =SUM(AD9+AD18+AD32+AD64) -> 8 | AF68: =SUM(AF9+AF18+AF32+AF64) -> 27 | AG68: =SUM(AG9+AG18+AG32+AG64) -> 14 | AH68: =SUM(AH9+AH18+AH32+AH64) -> 0 | AI68: =SUM(AI9+AI18+AI32+AI64) -> 4 | AK68: =SUM(AK9+AK18+AK32+AK64) -> 32 | AL68: =SUM(AL9+AL18+AL32+AL64) -> 12 | AM68: =SUM(AM9+AM18+AM32+AM64) -> 0 | AN68: =SUM(AN9+AN18+AN32+AN64) -> 4 | AP68: =SUM(AP9+AP18+AP32+AP64) -> 30
C69: Összes heti óra | H69: =SUM(H68,I68,J68) -> 24 | M69: =SUM(M68,N68,O68) -> 30 | R69: =SUM(R68,S68,T68) -> 25 | W69: =SUM(W68,X68,Y68) -> 24 | AB69: =SUM(AB68,AC68,AD68) -> 23 | AG69: =SUM(AG68,AH68,AI68) -> 18 | AL69: =SUM(AL68,AM68,AN68) -> 16
C70: Vizsga (v) | K70: =COUNTIF(K10:K24,"v")+COUNTIF(K33:K67,"v") -> 4 | P70: =COUNTIF(P10:P24,"v")+COUNTIF(P33:P67,"v") -> 5 | U70: =COUNTIF(U10:U24,"v")+COUNTIF(U33:U67,"v") -> 2 | Z70: =COUNTIF(Z10:Z24,"v")+COUNTIF(Z33:Z67,"v")+COUNTIF('1. sz. melléklet'!Z13:Z20,"v") -> 4 | AE70: =COUNTIF(AE10:AE24,"v")+COUNTIF(AE33:AE67,"v")+COUNTIF('1. sz. melléklet'!AE13:AE20,"v") -> 3 | AJ70: =COUNTIF(AJ10:AJ24,"v")+COUNTIF(AJ33:AJ67,"v")+COUNTIF('1. sz. melléklet'!AJ13:AJ20,"v") -> 2 | AO70: =COUNTIF(AO10:AO24,"v")+COUNTIF(AO33:AO67,"v")+COUNTIF('1. sz. melléklet'!AO13:AO20,"v") -> 2
C71: Évközi jegy (é) | K71: =COUNTIF(K10:K24,"é")+COUNTIF(K33:K67,"é") -> 2 | P71: =COUNTIF(P10:P24,"é")+COUNTIF(P33:P67,"é") -> 2 | U71: =COUNTIF(U10:U24,"é")+COUNTIF(U33:U67,"é") -> 5 | Z71: =COUNTIF(Z10:Z24,"é")+COUNTIF(Z33:Z67,"é")+COUNTIF('1. sz. melléklet'!Z13:Z20,"é") -> 4 | AE71: =COUNTIF(AE10:AE24,"é")+COUNTIF(AE33:AE67,"é")+COUNTIF('1. sz. melléklet'!AE13:AE20,"é") -> 3 | AJ71: =COUNTIF(AJ10:AJ24,"é")+COUNTIF(AJ33:AJ67,"é")+COUNTIF('1. sz. melléklet'!AJ13:AJ20,"é") -> 4 | AO71: =COUNTIF(AO10:AO24,"é")+COUNTIF(AO33:AO67,"é")+COUNTIF('1. sz. melléklet'!AO13:AO20,"é") -> 3
A72: 42. | C72: Testnevelés I. | F72: =SUM(H72:J72,M72:O72,R72:T72,W72:Y72,AB72:AD72,AG72:AI72,AL72:AN72) -> 2 | G72: =SUM(L72,Q72,V72,AA72,AF72,AK72,AP72) -> 0 | M72: 0 | N72: 2 | O72: 0 | P72: a | Q72: 0
A73: 43. | C73: Testnevelés II. | F73: =SUM(H73:J73,M73:O73,R73:T73,W73:Y73,AB73:AD73,AG73:AI73,AL73:AN73) -> 2 | G73: =SUM(L73,Q73,V73,AA73,AF73,AK73,AP73) -> 0 | R73: 0 | S73: 2 | T73: 0 | U73: a | V73: 0
A74: 44. | B74: NNXPATHBNE | C74: Patronálás I. | F74: =SUM(H74:J74,M74:O74,R74:T74,W74:Y74,AB74:AD74,AG74:AI74,AL74:AN74) -> 1 | G74: =SUM(L74,Q74,V74,AA74,AF74,AK74,AP74) -> 0 | H74: 0 | I74: 1 | J74: 0 | K74: a | L74: 0
A75: 45. | B75: NNXPA2HBNE | C75: Patronálás II. | F75: =SUM(H75:J75,M75:O75,R75:T75,W75:Y75,AB75:AD75,AG75:AI75,AL75:AN75) -> 1 | G75: =SUM(L75,Q75,V75,AA75,AF75,AK75,AP75) -> 0 | M75: 0 | N75: 1 | O75: 0 | P75: a | Q75: 0
A76: 46. | C76: Szaknyelv A | F76: =SUM(H76:J76,M76:O76,R76:T76,W76:Y76,AB76:AD76,AG76:AI76,AL76:AN76) -> 3 | G76: =SUM(L76,Q76,V76,AA76,AF76,AK76,AP76) -> 2 | R76: 0 | S76: 3 | T76: 0 | U76: é | V76: 2
A77: 47. | C77: Szaknyelv B | F77: =SUM(H77:J77,M77:O77,R77:T77,W77:Y77,AB77:AD77,AG77:AI77,AL77:AN77) -> 3 | G77: =SUM(L77,Q77,V77,AA77,AF77,AK77,AP77) -> 2 | W77: 0 | X77: 3 | Y77: 0 | Z77: é | AA77: 2
A78: 48. | C78: Kritériumtárgy I. (angol vagy német) 2 | F78: =SUM(H78:J78,M78:O78,R78:T78,W78:Y78,AB78:AD78,AG78:AI78,AL78:AN78) -> 2 | G78: =SUM(L78,Q78,V78,AA78,AF78,AK78,AP78) -> 2 | AB78: 2 | AC78: 0 | AD78: 0 | AE78: v | AF78: 2
A79: 49. | C79: Kritériumtárgy II. (angol vagy német) 2 | F79: =SUM(H79:J79,M79:O79,R79:T79,W79:Y79,AB79:AD79,AG79:AI79,AL79:AN79) -> 2 | G79: =SUM(L79,Q79,V79,AA79,AF79,AK79,AP79) -> 2 | AG79: 2 | AH79: 0 | AI79: 0 | AJ79: v | AK79: 2
A80: 1 A kötelezően választható szakmai tárgyakat a többi specializáció vagy sávok tárgyaiból lehet választani.
A81: 2 A kritériumtárgyak (ajánlott félév: 3. vagy 4.) az angol tanterv tárgyaiból választhatók, német kritériumtárgyak esetén más karok induló tárgyai a mérvadóak.
A82: 3 A specializációk tárgyait az 1. számú melléklet tartalmazza.
A83: 4 Bármilyen specializációs tárgy, ami nem kötelezőként lett választva.
A84: 5 A záróvizsga tárgyai: Számítógép architektúrák tárgycsoport és a választott specializáció tárgya.
B86: A kooperatív képzés tanterve
B88: Kód | C88: Tantárgyak | D88: Tárgyfelelős | E88: Oktató(k) | F88: heti | G88: kredit | H88: Félév(ek) | M88: Félév(ek)
F89: óra
H90: ea | I90: tgy | J90: l | K90: k | L90: kr | M90: ea | N90: tgy | O90: l | P90: k | Q90: kr
C91: Kooperatív képzés gyakorlati része I. | G91: 20 | K91: é | L91: 20
C92: Kooperatív képzés gyakorlati része II. | G92: 20 | P92: é | Q92: 20
C93: Kooperatív képzés elméleti része I. | G93: 10 | L93: 10
C94: Kooperatív képzés elméleti része II. | G94: 10 | Q94: 10
C95: Összesen: | L95: 30 | Q95: 30
B98: A mérnök informatikus alapszakon a kooperatív képzésre jelentkezés feltételei:
C99: 1. A kooperatív képzés megkezdése előtt a jelentkezőnek minimum 120 kreditpontot kell teljesítenie.
C100: 2. A jelentkezőnek felvételt kell nyernie a kooperatív partnercég által meghirdetett pozícióra.
C101: 3. A kooperatív képzés kezdése az 5., 6., vagy 7. félév lehet.
B102: A kooperatív képzés lebonyolításával kapcsolatos megjegyzések:
C103: 1. Heti 4 nap gyakorlati és 1 nap elméleti képzés esetén kapható 20, illetve 10 kredit.
C104: 2. Heti 3 nap vagy 2 nap gyakorlati képzés esetén a megszerezhető kreditek arányosan csökkennek.
C105: 3. A kooperatív kézpés elméleti része a kooperáló partnernél is teljesíthető.
C106: 4. A kooperatív képzés egy vagy két félévben valósulhat meg.

Sheet 1. sz. melléklet
B4: 1. sz. melléklet
A7: heti óraszámokkal (ea. tgy. l). ; követelményekkel (k.); kreditekkel (kr.)
B8: Kód | C8: Tantárgyak | D8: Tárgyfelelős | E8: Oktató(k) | F8: heti | G8: kredit | H8: Félévek | AR8: Előtanulmány | AT8: Előtanulmány
F9: óra | J9: 1. | O9: 2. | T9: 3. | Y9: 4. | AD9: 5. | AI9: 6. | AN9: 7.
H10: ea | I10: tgy | J10: l | K10: k | L10: kr | M10: ea | N10: tgy | O10: l | P10: k | Q10: kr | R10: ea | S10: tgy | T10: l | U10: k | V10: kr | W10: ea | X10: tgy | Y10: l | Z10: k | AA10: kr | AB10: ea | AC10: tgy | AD10: l | AE10: k | AF10: kr | AG10: ea | AH10: tgy | AI10: l | AJ10: k | AK10: kr | AL10: ea | AM10: tgy | AN10: l | AO10: k | AP10: kr | AR10: Kód | AT10: Kód
B11: Specializációk 1,2
B12: IOT, beágyazott rendszerek és robotika specializáció (I) | F12: =SUM(F13:F20) -> 22 | G12: =SUM(G13:G20) -> 30 | H12: =SUM(H13:H20) -> 0 | I12: =SUM(I13:I20) -> 0 | J12: =SUM(J13:J20) -> 0 | L12: =SUM(L13:L20) -> 0 | M12: =SUM(M13:M20) -> 0 | N12: =SUM(N13:N20) -> 0 | O12: =SUM(O13:O20) -> 0 | Q12: =SUM(Q13:Q20) -> 0 | R12: =SUM(R13:R20) -> 0 | S12: =SUM(S13:S20) -> 0 | T12: =SUM(T13:T20) -> 0 | V12: =SUM(V13:V20) -> 0 | W12: =SUM(W13:W20) -> 2 | X12: =SUM(X13:X20) -> 0 | Y12: =SUM(Y13:Y20) -> 4 | AA12: =SUM(AA13:AA20) -> 8 | AB12: =SUM(AB13:AB20) -> 3 | AC12: =SUM(AC13:AC20) -> 0 | AD12: =SUM(AD13:AD20) -> 3 | AF12: =SUM(AF13:AF20) -> 8 | AG12: =SUM(AG13:AG20) -> 2 | AH12: =SUM(AH13:AH20) -> 0 | AI12: =SUM(AI13:AI20) -> 3 | AK12: =SUM(AK13:AK20) -> 7 | AL12: =SUM(AL13:AL20) -> 2 | AM12: =SUM(AM13:AM20) -> 0 | AN12: =SUM(AN13:AN20) -> 3 | AP12: =SUM(AP13:AP20) -> 7 | AQ12: ='BSc tanterv nappali'!$A$50 -> 32. | AR12: ='BSc tanterv nappali'!$B$50 -> NIXSS1HBNE
A13: 50. | B13: NAXIT3IBNE | C13: Irányítástechnika | D13: Dr. Kovács Levente | F13: =SUM(W13:Y13,AB13:AD13,AG13:AI13,AL13:AN13) -> 3 | G13: =SUM(AA13,AF13,AK13,AP13) -> 4 | W13: 1 | X13: 0 | Y13: 2 | Z13: é | AA13: 4 | AQ13: ='BSc tanterv nappali'!A39 -> 21. | AR13: ='BSc tanterv nappali'!B39 -> NIXRE1HBNE
A14: 51. | B14: NIXBE1IBNE | C14: Beágyazott és érzékelőalapú rendszerek | D14: Dr. Molnár András | F14: =SUM(W14:Y14,AB14:AD14,AG14:AI14,AL14:AN14) -> 3 | G14: =SUM(AA14,AF14,AK14,AP14) -> 4 | W14: 1 | X14: 0 | Y14: 2 | Z14: v | AA14: 4 | AQ14: ='BSc tanterv nappali'!A41 -> 23. | AR14: ='BSc tanterv nappali'!B41 -> NIXDR0HBNE
A15: 52. | B15: NBXRT1IBNE | C15: Robottechnika alapjai | D15: Dr. Galambos Péter | F15: =SUM(W15:Y15,AB15:AD15,AG15:AI15,AL15:AN15) -> 3 | G15: =SUM(AA15,AF15,AK15,AP15) -> 4 | AB15: 3 | AC15: 0 | AD15: 0 | AE15: v | AF15: 4 | AQ15: =A13 -> 50. | AR15: =B13 -> NAXIT3IBNE
A16: 53. | B16: NIXBP1IBNE | C16: Beágyazott eszközök programozása I. | D16: Dr. Stojcsics Dániel | F16: =SUM(W16:Y16,AB16:AD16,AG16:AI16,AL16:AN16) -> 3 | G16: =SUM(AA16,AF16,AK16,AP16) -> 4 | AB16: 0 | AC16: 0 | AD16: 3 | AE16: é | AF16: 4 | AQ16: =A14 -> 51. | AR16: =B14 -> NIXBE1IBNE
A17: 54. | B17: NBXRP1IBNE | C17: Bevezetés a robot programozásba | D17: Dr. Galambos Péter | F17: =SUM(W17:Y17,AB17:AD17,AG17:AI17,AL17:AN17) -> 2 | G17: =SUM(AA17,AF17,AK17,AP17) -> 3 | AG17: 2 | AH17: 0 | AI17: 0 | AJ17: v | AK17: 3 | AQ17: =A15 -> 52. | AR17: =B15 -> NBXRT1IBNE
A18: 55. | B18: NIEBP2IBNE | C18: Beágyazott eszközök programozása II. * | D18: Dr. Stojcsics Dániel | F18: =SUM(W18:Y18,AB18:AD18,AG18:AI18,AL18:AN18) -> 3 | G18: =SUM(AA18,AF18,AK18,AP18) -> 4 | AG18: 0 | AH18: 0 | AI18: 3 | AJ18: é | AK18: 4 | AQ18: =A16 -> 53. | AR18: =B16 -> NIXBP1IBNE
A19: 56. | B19: NBERI1IBNE | C19: Robotirányítás * | D19: Dr. Haidegger Tamás | F19: =SUM(W19:Y19,AB19:AD19,AG19:AI19,AL19:AN19) -> 2 | G19: =SUM(AA19,AF19,AK19,AP19) -> 3 | AL19: 1 | AM19: 0 | AN19: 1 | AO19: é | AP19: 3 | AQ19: =A13 -> 50. | AR19: =B13 -> NAXIT3IBNE
A20: 57. | B20: NIXSI1IBNE | C20: Szenzorhálózatok, IoT rendszerek | D20: Dr. Molnár András | F20: =SUM(W20:Y20,AB20:AD20,AG20:AI20,AL20:AN20) -> 3 | G20: =SUM(AA20,AF20,AK20,AP20) -> 4 | AL20: 1 | AM20: 0 | AN20: 2 | AO20: v | AP20: 4 | AQ20: =A16 -> 53. | AR20: =B16 -> NIXBP1IBNE
B21: Big Data és üzleti intelligencia specializáció (G) | F21: =SUM(F22:F27) -> 22 | G21: =SUM(G22:G27) -> 30 | H21: =SUM(H22:H27) -> 0 | I21: =SUM(I22:I27) -> 0 | J21: =SUM(J22:J27) -> 0 | L21: =SUM(L22:L27) -> 0 | M21: =SUM(M22:M27) -> 0 | N21: =SUM(N22:N27) -> 0 | O21: =SUM(O22:O27) -> 0 | Q21: =SUM(Q22:Q27) -> 0 | R21: =SUM(R22:R27) -> 0 | S21: =SUM(S22:S27) -> 0 | T21: =SUM(T22:T27) -> 0 | V21: =SUM(V22:V27) -> 0 | W21: =SUM(W22:W27) -> 5 | X21: =SUM(X22:X27) -> 0 | Y21: =SUM(Y22:Y27) -> 2 | AA21: =SUM(AA22:AA27) -> 8 | AB21: =SUM(AB22:AB27) -> 2 | AC21: =SUM(AC22:AC27) -> 0 | AD21: =SUM(AD22:AD27) -> 3 | AF21: =SUM(AF22:AF27) -> 8 | AG21: =SUM(AG22:AG27) -> 4 | AH21: =SUM(AH22:AH27) -> 0 | AI21: =SUM(AI22:AI27) -> 2 | AK21: =SUM(AK22:AK27) -> 7 | AL21: =SUM(AL22:AL27) -> 2 | AM21: =SUM(AM22:AM27) -> 0 | AN21: =SUM(AN22:AN27) -> 2 | AP21: =SUM(AP22:AP27) -> 7 | AQ21: ='BSc tanterv nappali'!$A$50 -> 32. | AR21: ='BSc tanterv nappali'!$B$50 -> NIXSS1HBNE
A22: 58. | B22: GGXVP1GBNE | C22: Vállalkozások pénzügyei, számvitel alapjai | D22: Dr. Parragh Bianka | F22: =SUM(W22:Y22,AB22:AD22,AG22:AI22,AL22:AN22) -> 3 | G22: =SUM(AA22,AF22,AK22,AP22) -> 3 | W22: 3 | X22: 0 | Y22: 0 | Z22: é | AA22: 3
A23: 59. | B23: NIXKD1GBNE | C23: Korszerű adatbázisok | D23: Dr. Fleiner Rita | F23: =SUM(W23:Y23,AB23:AD23,AG23:AI23,AL23:AN23) -> 4 | G23: =SUM(AA23,AF23,AK23,AP23) -> 5 | W23: 2 | X23: 0 | Y23: 2 | Z23: v | AA23: 5 | AQ23: ='BSc tanterv nappali'!A37 -> 19. | AR23: ='BSc tanterv nappali'!B37 -> NIXAB0HBNE
A24: 60. | B24: NIXAT1GBNE | C24: Adattárházak és üzleti intelligencia | D24: Dr. Felde Imre | F24: =SUM(W24:Y24,AB24:AD24,AG24:AI24,AL24:AN24) -> 5 | G24: =SUM(AA24,AF24,AK24,AP24) -> 8 | AB24: 2 | AC24: 0 | AD24: 3 | AE24: v | AF24: 8 | AQ24: =A23 -> 59. | AR24: =B23 -> NIXKD1GBNE
A25: 61. | B25: NIEBD1GBNE | C25: Big data algoritmusok és programozás * | D25: Dr. Felde Imre | F25: =SUM(W25:Y25,AB25:AD25,AG25:AI25,AL25:AN25) -> 4 | G25: =SUM(AA25,AF25,AK25,AP25) -> 5 | AG25: 2 | AH25: 0 | AI25: 2 | AJ25: v | AK25: 5 | AQ25: =A23 -> 59. | AR25: =B23 -> NIXKD1GBNE
A26: 62. | B26: NIXER1GBNE | C26: ERP I. | D26: Dr. Erdődi László | F26: =SUM(W26:Y26,AB26:AD26,AG26:AI26,AL26:AN26) -> 2 | G26: =SUM(AA26,AF26,AK26,AP26) -> 2 | AG26: 2 | AH26: 0 | AI26: 0 | AJ26: é | AK26: 2 | AQ26: ='BSc tanterv nappali'!A48 -> 30. | AR26: ='BSc tanterv nappali'!B48 -> NIXVI0HBNE
A27: 63. | B27: NIEER2GBNE | C27: ERP II. * | D27: Dr. Erdődi László | F27: =SUM(W27:Y27,AB27:AD27,AG27:AI27,AL27:AN27) -> 4 | G27: =SUM(AA27,AF27,AK27,AP27) -> 7 | AL27: 2 | AM27: 0 | AN27: 2 | AO27: v | AP27: 7 | AQ27: =A26 -> 62. | AR27: =B26 -> NIXER1GBNE
A28: * e-learning blended formában indul
A29: 1 A specializáció választás feltétele a Szakmai szigorlat teljesítése.
A30: 2 A kooperatív képzésben résztvevők esetén lásd a kooperatív képzés tantervénél.
A31: heti óraszámokkal (ea. tgy. l). ; követelményekkel (k.); kreditekkel (kr.)
B32: Kód | C32: Tantárgyak | F32: heti | G32: kredit | H32: Félévek | AR32: Előtanulmány | AT32: Előtanulmány
F33: óra | J33: 1. | O33: 2. | T33: 3. | Y33: 4. | AD33: 5. | AI33: 6. | AN33: 7.
H34: ea | I34: tgy | J34: l | K34: k | L34: kr | M34: ea | N34: tgy | O34: l | P34: k | Q34: kr | R34: ea | S34: tgy | T34: l | U34: k | V34: kr | W34: ea | X34: tgy | Y34: l | Z34: k | AA34: kr | AB34: ea | AC34: tgy | AD34: l | AE34: k | AF34: kr | AG34: ea | AH34: tgy | AI34: l | AJ34: k | AK34: kr | AL34: ea | AM34: tgy | AN34: l | AO34: k | AP34: kr | AR34: Kód | AT34: Kód
B35: Felhő szolgáltatási technológiák és IT biztonság specializáció (F) | F35: =SUM(F36:F41) -> 22 | G35: =SUM(G36:G41) -> 30 | H35: =SUM(H36:H40) -> 0 | I35: =SUM(I36:I40) -> 0 | J35: =SUM(J36:J40) -> 0 | L35: =SUM(L36:L40) -> 0 | M35: =SUM(M36:M40) -> 0 | N35: =SUM(N36:N40) -> 0 | O35: =SUM(O36:O40) -> 0 | Q35: =SUM(Q36:Q40) -> 0 | R35: =SUM(R36:R40) -> 0 | S35: =SUM(S36:S40) -> 0 | T35: =SUM(T36:T40) -> 0 | V35: =SUM(V36:V40) -> 0 | W35: =SUM(W36:W40) -> 3 | X35: =SUM(X36:X40) -> 0 | Y35: =SUM(Y36:Y40) -> 2 | AA35: =SUM(AA36:AA40) -> 8 | AB35: =SUM(AB36:AB41) -> 4 | AC35: =SUM(AC36:AC46) -> 0 | AD35: =SUM(AD36:AD41) -> 2 | AF35: =SUM(AF36:AF41) -> 8 | AG35: =SUM(AG36:AG46) -> 2 | AH35: =SUM(AH36:AH46) -> 0 | AI35: =SUM(AI36:AI46) -> 4 | AK35: =SUM(AK36:AK41) -> 7 | AL35: =SUM(AL36:AL41) -> 2 | AM35: =SUM(AM36:AM46) -> 0 | AN35: =SUM(AN36:AN41) -> 3 | AP35: =SUM(AP36:AP41) -> 7 | AQ35: ='BSc tanterv nappali'!$A$50 -> 32. | AR35: ='BSc tanterv nappali'!$B$50 -> NIXSS1HBNE
A36: 64. | B36: NIXHT1FBNE | C36: Hálózati technológiák I. | D36: Dr. Kozlovszky Miklós | F36: =SUM(W36:Y36,AB36:AD36,AG36:AI36,AL36:AN36) -> 3 | G36: =SUM(AA36,AF36,AK36,AP36) -> 4 | W36: 2 | X36: 0 | Y36: 1 | Z36: v | AA36: 4 | AQ36: ='BSc tanterv nappali'!A46 -> 28. | AR36: ='BSc tanterv nappali'!B46 -> NIXSH0HBNE
A37: 65. | B37: NIXVT1FBNE | C37: Virtualizált tárolórendszerek | D37: Dr. Kozlovszky Miklós | F37: =SUM(W37:Y37,AB37:AD37,AG37:AI37,AL37:AN37) -> 2 | G37: =SUM(AA37,AF37,AK37,AP37) -> 4 | W37: 1 | X37: 0 | Y37: 1 | Z37: é | AA37: 4 | AQ37: ='BSc tanterv nappali'!A45 -> 27. | AR37: ='BSc tanterv nappali'!B45 -> NIEOR1HBNE
A38: 66. | B38: NIXFS1FBNE | C38: Felhőszolgáltatások I. | D38: Dr. Lovas Róbert | F38: =SUM(W38:Y38,AB38:AD38,AG38:AI38,AL38:AN38) -> 2 | G38: =SUM(AA38,AF38,AK38,AP38) -> 3 | AB38: 2 | AC38: 0 | AD38: 0 | AE38: é | AF38: 3 | AQ38: =A37 -> 65. | AR38: =B37 -> NIXVT1FBNE
A39: 67. | B39: NIEFS2FBNE | C39: Felhőszolgáltatások II. * | D39: Dr. Lovas Róbert | F39: =SUM(W39:Y39,AB39:AD39,AG39:AI39,AL39:AN39) -> 2 | G39: =SUM(AA39,AF39,AK39,AP39) -> 2 | AG39: 0 | AH39: 0 | AI39: 2 | AJ39: é | AK39: 2 | AQ39: =A38 -> 66. | AR39: =B38 -> NIXFS1FBNE
A40: 68. | B40: NIXSH1FBNE | C40: Számítógép hálózatok és felhők biztonsága | D40: Dr. Kozlovszky Miklós | F40: =SUM(W40:Y40,AB40:AD40,AG40:AI40,AL40:AN40) -> 4 | G40: =SUM(AA40,AF40,AK40,AP40) -> 5 | AG40: 2 | AH40: 0 | AI40: 2 | AJ40: v | AK40: 5 | AQ40: ='BSc tanterv nappali'!A49 -> 31. | AR40: ='BSc tanterv nappali'!B49 -> NIEIB0HBNE | AS40: =A36 -> 64. | AT40: =B36 -> NIXHT1FBNE
B41: Informatikai biztonság sáv | F41: =SUM(W41:Y41,AB41:AD41,AG41:AI41,AL41:AN41) -> 9 | G41: =SUM(AA41,AF41,AK41,AP41) -> 12 | W41: =SUM(W42:W43) -> 0 | X41: =SUM(X42:X43) -> 0 | Y41: =SUM(Y42:Y43) -> 0 | Z41: =SUM(Z42:Z43) -> 0 | AA41: =SUM(AA42:AA43) -> 0 | AB41: =SUM(AB42:AB43) -> 2 | AC41: =SUM(AC42:AC43) -> 0 | AD41: =SUM(AD42:AD43) -> 2 | ... AP41: =SUM(AP42:AP43) -> 7
A42: 69. | B42: NIXIS1FBNE | C42: Informatikai rendszerek és szolgáltatások biztonsága | D42: Dr. Póser Valéria | F42: =SUM(W42:Y42,AB42:AD42,AG42:AI42,AL42:AN42) -> 4 | G42: =SUM(AA42,AF42,AK42,AP42) -> 5 | AB42: 2 | AC42: 0 | AD42: 2 | AE42: v | AF42: 5 | AQ42: ='BSc tanterv nappali'!A49 -> 31. | AR42: ='BSc tanterv nappali'!B49 -> NIEIB0HBNE
A43: 70. | B43: NIEIB1FBNE | C43: Intézményi informatikai biztonság * | D43: Dr. Póser Valéria | F43: =SUM(W43:Y43,AB43:AD43,AG43:AI43,AL43:AN43) -> 5 | G43: =SUM(AA43,AF43,AK43,AP43) -> 7 | AL43: 2 | AM43: 0 | AN43: 3 | AO43: v | AP43: 7 | AQ43: =A42 -> 69. | AR43: =B42 -> NIXIS1FBNE
B44: Hálózatok sáv | F44: =SUM(W44:Y44,AB44:AD44,AG44:AI44,AL44:AN44) -> 9 | G44: =SUM(AA44,AF44,AK44,AP44) -> 12 | W44: =SUM(W45:W46) -> 0 | X44: =SUM(X45:X46) -> 0 | Y44: =SUM(Y45:Y46) -> 0 | Z44: =SUM(Z45:Z46) -> 0 | AA44: =SUM(AA45:AA46) -> 0 | AB44: =SUM(AB45:AB46) -> 2 | AC44: =SUM(AC45:AC46) -> 0 | AD44: =SUM(AD45:AD46) -> 2 | ... AP44: =SUM(AP45:AP46) -> 7
A45: 71. | B45: NIXHT2FBNE | C45: Hálózati technológiák II. | D45: Dr. Kozlovszky Miklós | F45: =SUM(W45:Y45,AB45:AD45,AG45:AI45,AL45:AN45) -> 4 | G45: =SUM(AA45,AF45,AK45,AP45) -> 5 | AB45: 2 | AC45: 0 | AD45: 2 | AE45: v | AF45: 5 | AQ45: =A36 -> 64. | AR45: =B36 -> NIXHT1FBNE
A46: 72. | B46: NIEVA1FBNE | C46: Virtuális hálózatok és adatközpontok technológiái * | D46: Dr. Rövid András | F46: =SUM(W46:Y46,AB46:AD46,AG46:AI46,AL46:AN46) -> 5 | G46: =SUM(AA46,AF46,AK46,AP46) -> 7 | AL46: 2 | AM46: 0 | AN46: 3 | AO46: v | AP46: 7 | AQ46: =A45 -> 71. | AR46: =B45 -> NIXHT2FBNE | AS46: =A38 -> 66. | AT46: =B38 -> NIXFS1FBNE
B47: Szoftvertervezés és -fejlesztés specializáció (S)3 | F47: =SUM(F48:F54) -> 23 | G47: =SUM(G48:G54) -> 30 | H47: =SUM(H48:H54) -> 0 | I47: =SUM(I48:I54) -> 0 | J47: =SUM(J48:J54) -> 0 | L47: =SUM(L48:L54) -> 0 | M47: =SUM(M48:M54) -> 0 | N47: =SUM(N48:N54) -> 0 | O47: =SUM(O48:O54) -> 0 | Q47: =SUM(Q48:Q54) -> 0 | R47: =SUM(R48:R54) -> 0 | S47: =SUM(S48:S54) -> 0 | T47: =SUM(T48:T54) -> 0 | V47: =SUM(V48:V54) -> 0 | W47: =SUM(W48:W54) -> 4 | X47: =SUM(X48:X54) -> 0 | Y47: =SUM(Y48:Y54) -> 5 | AA47: =SUM(AA48:AA54) -> 12 | AB47: =SUM(AB48:AB54) -> 4 | AC47: =SUM(AC48:AC54) -> 0 | AD47: =SUM(AD48:AD54) -> 2 | AF47: =SUM(AF48:AF54) -> 9 | AG47: =SUM(AG48:AG54) -> 2 | AH47: =SUM(AH48:AH54) -> 0 | AI47: =SUM(AI48:AI54) -> 1 | AK47: =SUM(AK48:AK54) -> 4 | AL47: =SUM(AL48:AL54) -> 2 | AM47: =SUM(AM48:AM54) -> 0 | AN47: =SUM(AN48:AN54) -> 3 | AP47: =SUM(AP49:AP54) -> 7 | AQ47: ='BSc tanterv nappali'!$A$50 -> 32. | AR47: ='BSc tanterv nappali'!$B$50 -> NIXSS1HBNE
A48: 73. | B48: NIXPP1SBNE | C48: Párhuzamos és elosztott rendszerek programozása | D48: Dr. Vámossy Zoltán | F48: =SUM(W48:Y48,AB48:AD48,AG48:AI48,AL48:AN48) -> 4 | G48: =SUM(AA48,AF48,AK48,AP48) -> 5 | W48: 2 | X48: 0 | Y48: 2 | Z48: v | AA48: 5 | AQ48: ='BSc tanterv nappali'!A35 -> 17. | AR48: ='BSc tanterv nappali'!B35 -> NSXHF1HBNE
A49: 74. | B49: NIXNR1SBNE | C49: Nagy rendszerek fejlesztésének technológiája | D49: Dr. Tick József | F49: =SUM(W49:Y49,AB49:AD49,AG49:AI49,AL49:AN49) -> 2 | G49: =SUM(AA49,AF49,AK49,AP49) -> 3 | W49: 2 | X49: 0 | Y49: 0 | Z49: é | AA49: 3 | AQ49: ='BSc tanterv nappali'!A35 -> 17. | AR49: ='BSc tanterv nappali'!B35 -> NSXHF1HBNE
A50: 75. | B50: NIXAP1SBNE | C50: Adatpárhuzamos programozás | D50: Dr. Szénási Sándor | F50: =SUM(W50:Y50,AB50:AD50,AG50:AI50,AL50:AN50) -> 2 | G50: =SUM(AA50,AF50,AK50,AP50) -> 3 | AB50: 0 | AC50: 0 | AD50: 2 | AE50: é | AF50: 3 | AQ50: =A48 -> 73. | AR50: =B48 -> NIXPP1SBNE
A51: 76. | B51: NIXST3SBNE | C51: Modern szoftvertechnológia | D51: Dr. Tick József | F51: =SUM(W51:Y51,AB51:AD51,AG51:AI51,AL51:AN51) -> 2 | G51: =SUM(AA51,AF51,AK51,AP51) -> 2 | AB51: 2 | AC51: 0 | AD51: 0 | AE51: v | AF51: 2 | AQ51: =A49 -> 74. | AR51: =B49 -> NIXNR1SBNE
A52: 77. | B52: NIEHA1SBNE | C52: Haladó algoritmusok * | D52: Dr. Szénási Sándor | F52: =SUM(W52:Y52,AB52:AD52,AG52:AI52,AL52:AN52) -> 3 | G52: =SUM(AA52,AF52,AK52,AP52) -> 4 | AG52: 2 | AH52: 0 | AI52: 1 | AJ52: v | AK52: 4 | AQ52: =A50 -> 75. | AR52: =B50 -> NIXAP1SBNE
A53: 78. | B53: NIETE1SBNE | C53: Tesztelés * | D53: Dr. Tick József | F53: =SUM(W53:Y53,AB53:AD53,AG53:AI53,AL53:AN53) -> 2 | G53: =SUM(AA53,AF53,AK53,AP53) -> 3 | AL53: 1 | AM53: 0 | AN53: 1 | AO53: é | AP53: 3 | AQ53: =A49 -> 74. | AR53: =B49 -> NIXNR1SBNE
B54: Szakirányon kötelezően választható tárgyak3 | F54: =SUM(W54:Y54,AB54:AD54,AG54:AI54,AL54:AN54) -> 8 | G54: 10 | W54: =SUM(W55:W57) -> 0 | X54: =SUM(X55:X57) -> 0 | Y54: =SUM(Y55:Y57) -> 3 | AA54: =SUM(AA55:AA57) -> 4 | AB54: =SUM(AB55:AB57) -> 2 | AC54: =SUM(AC55:AC57) -> 0 | AD54: =SUM(AD55:AD57) -> 0 | AF54: =SUM(AF55:AF57) -> 4 | AG54: =SUM(AG55:AG57) -> 0 | AH54: =SUM(AH55:AH57) -> 0 | AI54: =SUM(AI55:AI57) -> 0 | AK54: =SUM(AK55:AK57) -> 0 | AL54: =SUM(AL55:AL57) -> 1 | AM54: =SUM(AM55:AM57) -> 0 | AN54: =SUM(AN55:AN57) -> 2 | AP54: =SUM(AP55:AP57) -> 4
A55: 79. | B55: NIXCC1SBNE | C55: Hatékony C++ programozás4 | D55: Dr. Sergyán Szabolcs | F55: =SUM(W55:Y55,AB55:AD55,AG55:AI55,AL55:AN55) -> 3 | G55: =SUM(AA55,AF55,AK55,AP55) -> 4 | W55: 0 | X55: 0 | Y55: 3 | Z55: é | AA55: 4 | AQ55: ='BSc tanterv nappali'!A35 -> 17. | AR55: ='BSc tanterv nappali'!B35 -> NSXHF1HBNE
A56: 80. | B56: NIXIP1SBNE | C56: Interpreter és szkript nyelvek | D56: Dr. Sergyán Szabolcs | F56: =SUM(W56:Y56,AB56:AD56,AG56:AI56,AL56:AN56) -> 3 | G56: =SUM(AA56,AF56,AK56,AP56) -> 4 | AL56: 1 | AM56: 0 | AN56: 2 | AO56: v | AP56: 4 | AQ56: =A48 -> 73. | AR56: =B48 -> NIXPP1SBNE
A57: 81. | B57: NIXKE1SBNE | C57: Képfeldolgozás alap algoritmusai4 | D57: Dr. Sergyán Szabolcs | F57: =SUM(W57:Y57,AB57:AD57,AG57:AI57,AL57:AN57) -> 2 | G57: =SUM(AA57,AF57,AK57,AP57) -> 4 | AB57: 2 | AC57: 0 | AD57: 0 | AE57: é | AF57: 4 | AQ57: ='BSc tanterv nappali'!A35 -> 17. | AR57: ='BSc tanterv nappali'!B35 -> NSXHF1HBNE
A58: 82. | B58: NIXKH1SBNE | C58: Képfeldolgozás haladó algoritmusai | D58: Dr. Vámossy Zoltán | F58: =SUM(W58:Y58,AB58:AD58,AG58:AI58,AL58:AN58) -> 2 | G58: =SUM(AA58,AF58,AK58,AP58) -> 3 | AL58: 1 | AM58: 0 | AN58: 1 | AO58: é | AP58: 3 | AQ58: =A57 -> 81. | AR58: =B57 -> NIXKE1SBNE
A59: 83. | B59: NSVKADHBNE | C59: Android programozás Kotlin nyelven | D59: Dr. Vámossy Zoltán | F59: =SUM(W59:Y59,AB59:AD59,AG59:AI59,AL59:AN59) -> 2 | G59: =SUM(AA59,AF59,AK59,AP59) -> 3 | AB59: 0 | AC59: 0 | AD59: 2 | AE59: v | AF59: 3 | AQ59: =A48 -> 73. | AR59: =B48 -> NIXPP1SBNE
A60: 84. | B60: NIXIO1SBNE | C60: iOS alapú fejlesztés | D60: Dr. Vámossy Zoltán | F60: =SUM(W60:Y60,AB60:AD60,AG60:AI60,AL60:AN60) -> 3 | G60: =SUM(AA60,AF60,AK60,AP60) -> 4 | AL60: 1 | AM60: 0 | AN60: 2 | AO60: v | AP60: 4 | AQ60: =A48 -> 73. | AR60: =B48 -> NIXPP1SBNE
A61: 85. | B61: NIXJA1SBNE | C61: JEE fejlesztés | D61: Dr. Sergyán Szabolcs | F61: =SUM(W61:Y61,AB61:AD61,AG61:AI61,AL61:AN61) -> 3 | G61: =SUM(AA61,AF61,AK61,AP61) -> 4 | AL61: 1 | AM61: 0 | AN61: 2 | AO61: é | AP61: 4 | AQ61: =A48 -> 73. | AR61: =B48 -> NIXPP1SBNE | AS61: ='BSc tanterv nappali'!A36 -> 18. | AT61: ='BSc tanterv nappali'!B36 -> NSXJW1HBNE
A62: 86. | B62: NAIAS1SVND | C62: ASP.NET és MVC | D62: Dr. Sergyán Szabolcs | F62: =SUM(W62:Y62,AB62:AD62,AG62:AI62,AL62:AN62) -> 3 | G62: =SUM(AA62,AF62,AK62,AP62) -> 3 | AG62: 0 | AH62: 0 | AI62: 3 | AJ62: é | AK62: 3 | AQ62: ='[1]BSc tanterv nappali'!A36 -> 18. | AR62: ='[1]BSc tanterv nappali'!B36 -> NSXJW1HBNE
A63: 87. | B63: NAIWD1SVND | C63: Web development using PHP/Symfony | D63: Dr. Sergyán Szabolcs | F63: =SUM(W63:Y63,AB63:AD63,AG63:AI63,AL63:AN63) -> 4 | G63: =SUM(AA63,AF63,AK63,AP63) -> 5 | AL63: 2 | AM63: 0 | AN63: 2 | AO63: é | AP63: 5 | AQ63: =A48 -> 73. | AR63: =B48 -> NIXPP1SBNE
A64: 88. | B64: NAIDP1SVND | C64: Deep Learning I.4 | D64: Dr. Erdélyi Krisztina | F64: =SUM(W64:Y64,AB64:AD64,AG64:AI64,AL64:AN64) -> 2 | G64: =SUM(AA64,AF64,AK64,AP64) -> 3 | AB64: 0 | AC64: 0 | AD64: 2 | AE64: é | AF64: 3 | AQ64: ='BSc tanterv nappali'!A35 -> 17. | AR64: ='BSc tanterv nappali'!B35 -> NSXHF1HBNE
A65: 89. | B65: NAIDP2SVND | C65: Deep Learning II. | F65: =SUM(W65:Y65,AB65:AD65,AG65:AI65,AL65:AN65) -> 2 | G65: =SUM(AA65,AF65,AK65,AP65) -> 3 | AG65: 0 | AH65: 0 | AI65: 2 | AJ65: é | AK65: 3 | AQ65: =A64 -> 88. | AR65: =B64 -> NAIDP1SVND
A66: 90. | B66: NSVDEPHBNE | C66: Deklaratív programozás | F66: =SUM(W66:Y66,AB66:AD66,AG66:AI66,AL66:AN66) -> 2 | G66: =SUM(AA66,AF66,AK66,AP66) -> 3 | AB66: 1 | AC66: 0 | AD66: 1 | AE66: é | AF66: 3 | AQ66: =A48 -> 73. | AR66: =B48 -> NIXPP1SBNE
A67: 91. | B67: NSVNSJHBNE | C67: Nagyvállalati szoftverfejlesztés Java alapon | D67: Dr. Erdélyi Krisztina | F67: =SUM(W67:Y67,AB67:AD67,AG67:AI67,AL67:AN67) -> 4 | G67: =SUM(AA67,AF67,AK67,AP67) -> 5 | AL67: 4 | AM67: 0 | AN67: 0 | AO67: é | AP67: 5 | AQ67: =A48 -> 73. | AR67: =B48 -> NIXPP1SBNE | AS67: ='BSc tanterv nappali'!A36 -> 18. | AT67: ='BSc tanterv nappali'!B36 -> NSXJW1HBNE
A68: 92. | B68: NSTDF1SVNC | C68: Visual DataFlex programozás | D68: Dr. Erdélyi Krisztina | F68: =SUM(W68:Y68,AB68:AD68,AG68:AI68,AL68:AN68) -> 2 | G68: 3 | AB68: 1 | AC68: 0 | AD68: 1 | AE68: é | AF68: 3 | AQ68: ='BSc tanterv nappali'!$A$50 -> 32. | AR68: ='BSc tanterv nappali'!$B$50 -> NIXSS1HBNE
A69: 93. | B69: NBIJM1SVND | C69: A Java mikroszervíz projekt | F69: =SUM(W69:Y69,AB69:AD69,AG69:AI69,AL69:AN69) -> 3 | G69: 3 | AG69: 0 | AH69: 0 | AI69: 3 | AJ69: é | AK69: 3 | AQ69: ='BSc tanterv nappali'!$A$50 -> 32. | AR69: ='BSc tanterv nappali'!$B$50 -> NIXSS1HBNE
A70: 94. | B70: NSTCPVIANK | C70: C++ | F70: =SUM(W70:Y70,AB70:AD70,AG70:AI70,AL70:AN70) -> 4 | G70: 3 | AB70: 0 | AC70: 0 | AD70: 4 | AE70: v | AF70: 4 | AQ70: ='BSc tanterv nappali'!$A$50 -> 32. | AR70: ='BSc tanterv nappali'!$B$50 -> NIXSS1HBNE
A71: 95. | B71: NAIIK1SVND | C71: Infokommunikációs akadálymentesítés | F71: =SUM(W71:Y71,AB71:AD71,AG71:AI71,AL71:AN71) -> 2 | G71: 3 | AG71: 1 | AH71: 0 | AI71: 1 | AJ71: é | AK71: 2 | AQ71: ='BSc tanterv nappali'!$A$50 -> 32. | AR71: ='BSc tanterv nappali'!$B$50 -> NIXSS1HBNE
A72: 96. | B72: NBINS1SVND | C72: Nagyvállalati szoftverfejlesztés agilis módszertannal | F72: =SUM(W72:Y72,AB72:AD72,AG72:AI72,AL72:AN72) -> 4 | G72: 3 | AL72: 0 | AM72: 0 | AN72: 4 | AO72: é | AP72: 4 | AQ72: ='BSc tanterv nappali'!$A$50 -> 32. | AR72: ='BSc tanterv nappali'!$B$50 -> NIXSS1HBNE
A73: 97. | B73: NAISF1SVND | C73: Szoftverfejlesztés multinacionális vállalatoknál | F73: =SUM(W73:Y73,AB73:AD73,AG73:AI73,AL73:AN73) -> 4 | G73: 3 | AG73: 3 | AH73: 0 | AI73: 1 | AJ73: é | AK73: 4 | AQ73: ='BSc tanterv nappali'!$A$50 -> 32. | AR73: ='BSc tanterv nappali'!$B$50 -> NIXSS1HBNE
A74: 98. | B74: NAITA1SVNC | C74: Tesztautomatizálás alapjai | F74: =SUM(W74:Y74,AB74:AD74,AG74:AI74,AL74:AN74) -> 2 | G74: 3 | AL74: 0 | AM74: 0 | AN74: 2 | AO74: é | AP74: 2 | AQ74: ='BSc tanterv nappali'!$A$50 -> 32. | AR74: ='BSc tanterv nappali'!$B$50 -> NIXSS1HBNE
A75: 99. | B75: EKMTKFMOOC | C75: Tartalomkezelés a felhőben: Orchard CMS | D75: Dr. Erdélyi Krisztina | F75: =SUM(W75:Y75,AB75:AD75,AG75:AI75,AL75:AN75) -> 2 | G75: =SUM(AA75,AF75,AK75,AP75) -> 2 | W75: 0 | X75: 2 | Y75: 0 | Z75: v | AA75: 2
A76: * e-learning blended formában indul
A77: 1 A specializáció választás feltétele a Szakmai szigorlat teljesítése.
A78: 2 A kooperatív képzésben résztvevők esetén lásd a kooperatív képzés tantervénél.
A79: 3 A Szoftvertervezés és -fejlesztés specializáció hallgatóinak a specializáció kötelezően választható szakmai tárgyaiból legalább 10 kreditet kell teljesíteni.
A80: 4 Csak a Szoftvertervezés és -fejlesztés specializáció hallgatói vehetik fel.
A81: heti óraszámokkal (ea. tgy. l). ; követelményekkel (k.); kreditekkel (kr.)
B82: Kód | C82: Tantárgyak | D82: Tárgyfelelős | E82: Oktató(k) | F82: heti | G82: kredit | H82: Félévek | AR82: Előtanulmány | AT82: Előtanulmány
F83: óra | J83: 1. | O83: 2. | T83: 3. | Y83: 4. | AD83: 5. | AI83: 6. | AN83: 7.
H84: ea | I84: tgy | J84: l | K84: k | L84: kr | M84: ea | N84: tgy | O84: l | P84: k | Q84: kr | R84: ea | S84: tgy | T84: l | U84: k | V84: kr | W84: ea | X84: tgy | Y84: l | Z84: k | AA84: kr | AB84: ea | AC84: tgy | AD84: l | AE84: k | AF84: kr | AG84: ea | AH84: tgy | AI84: l | AJ84: k | AK84: kr | AL84: ea | AM84: tgy | AN84: l | AO84: k | AP84: kr | AR84: Kód | AT84: Kód
B85: Specializációk 1,2
B86: Mesterséges Intelligencia specializáció (I) | F86: =SUM(F87:F94) -> 24 | G86: =SUM(G87:G94) -> 30 | H86: =SUM(H87:H94) -> 0 | I86: =SUM(I87:I94) -> 0 | J86: =SUM(J87:J94) -> 0 | L86: =SUM(L87:L94) -> 0 | M86: =SUM(M87:M94) -> 0 | N86: =SUM(N87:N94) -> 0 | O86: =SUM(O87:O94) -> 0 | Q86: =SUM(Q87:Q94) -> 0 | R86: =SUM(R87:R94) -> 0 | S86: =SUM(S87:S94) -> 0 | T86: =SUM(T87:T94) -> 0 | V86: =SUM(V87:V94) -> 0 | W86: =SUM(W87:W94) -> 3 | X86: =SUM(X87:X94) -> 0 | Y86: =SUM(Y87:Y94) -> 3 | AA86: =SUM(AA87:AA94) -> 8 | AB86: =SUM(AB87:AB94) -> 3 | AC86: =SUM(AC87:AC94) -> 0 | AD86: =SUM(AD87:AD94) -> 3 | AF86: =SUM(AF87:AF94) -> 8 | AG86: =SUM(AG87:AG94) -> 1 | AH86: =SUM(AH87:AH94) -> 0 | AI86: =SUM(AI87:AI94) -> 5 | AK86: =SUM(AK87:AK94) -> 7 | AL86: =SUM(AL87:AL94) -> 2 | AM86: =SUM(AM87:AM94) -> 0 | AN86: =SUM(AN87:AN94) -> 4 | AP86: =SUM(AP87:AP94) -> 7
A87: 100. | B87: NAXITMHBNE | C87: Innovatív technológiák matematikai alapjai | D87: Dr. Kárász Péter | E87: Dr. Kárász Péter | F87: 3 | G87: 3 | W87: 1 | X87: 0 | Y87: 1 | Z87: v | AA87: 3 | AR87: NMXDM2HBNE
A88: 101. | B88: NKXBATHBNE | C88: Bevezetés az adattudományba | D88: Dr. Kail Eszter | E88: Dr. Kail Eszter, Piros Péter | F88: 4 | G88: 5 | W88: 2 | X88: 0 | Y88: 2 | Z88: é | AA88: 5 | AR88: NIXSS1HBNE
A89: 102. | B89: NBXBG1HBNE | C89: Bevezetés a gépi tanulásba | D89: Dr. Eigner György | E89: Dr. Eigner György, Dénes-Fazakas Lehel | F89: 3 | G89: 4 | AB89: 1 | AC89: 0 | AD89: 2 | AE89: v | AF89: 4 | AR89: NKXBATHBNE
A90: 103. | B90: NBXGL1HBNE | C90: Gépi látás és képfeldolgozás | D90: Dr. Szilágyi László | E90: Dr. Szilágyi László, Nagyné Elek Renáta | F90: 3 | G90: 4 | AB90: 2 | AC90: 0 | AD90: 1 | AE90: é | AF90: 4 | AR90: NKXBATHBNE
A91: 104. | B91: NBXFR1HBNE | C91: Robotprogramozás ROS környezetben | D91: Dr. Galambos Péter | E91: Nagy Tamás Dániel | F91: 3 | G91: 4 | AG91: 1 | AH91: 0 | AI91: 3 | AJ91: é | AK91: 4 | AR91: NAXITMHBNE
A92: 105. | B92: NSXMG1HBNE | C92: Mély gépi tanulás | D92: Dr. Kertész Gábor | E92: Dr. Kertész Gábor | F92: 2 | G92: 3 | AG92: 0 | AH92: 0 | AI92: 2 | AJ92: é | AK92: 3 | AR92: NBXBG1HBNE
A93: 106. | B93: NKXFM1HBNE | C93: Felhő alapú mesterséges intelligencia megoldások | D93: Dr. Lovas Róbert | E93: Farkas Attila | F93: 2 | G93: 2 | AL93: 0 | AM93: 0 | AN93: 2 | AO93: é | AP93: 2 | AR93: NKXBATHBNE
A94: 107. | B94: NKXBD1HBNE | C94: Big Data (BD algoritmusok és programozás) | D94: Dr. Felde Imre | E94: Fésüs Péter, Dénes-Fazakas Lehel | F94: 4 | G94: 5 | AL94: 2 | AM94: 0 | AN94: 2 | AO94: v | AP94: 5 | AR94: NSXMG1HBNE
B95: Javasolt kötelezeően választhatók
A96: 108. | C96: Bevezetés a blokklánc programozásba | D96: Dr. Lazányi Kornélia | E96: Szegő Dániel
A97: 109. | C97: Introduction to blockchain programming | D97: Dr. Szenes Katalin | E97: Dr. Szenes Katalin, Tureczki Bence
A98: 110. | C98: Solver alapú problémamegoldás | D98: Dr. Pitlik László | E98: Dr. Pitlik László
A99: 111. | C99: Képfeldolgozás alap algoritmusai | D99: Dr. Vámossy Zoltán | E99: Dr. Vámossy Zoltán
A100: 112. | C100: Képanalízis és gépi látás | D100: Dr. Vámossy Zoltán | E100: Dr. Vámossy Zoltán
A101: 113. | C101: Python for Programmers | D101: Dr. Kertész Gábor | E101: Dr. Kertész Gábor
A102: 1 A specializáció választás feltétele a Szakmai szigorlat teljesítése.
A103: 2 A kooperatív képzésben résztvevők esetén lásd a kooperatív képzés tantervénél.
