Workbook

Sheet BSc tanterv nappali
B3: Mérnökinformatikus alapképzési szak, nappali tagozat (érvényes: 2022.februártól)
A4: heti óraszámokkal (ea. tgy. l). ; követelményekkel (k.); kreditekkel (kr.)
B6: Kód | C6: Tantárgyak | D6: Tárgyfelelős | E6: Oktató(k) | F6: heti | G6: kredit | H6: Félévek | AR6: Előtanulmány | AT6: Előtanulmány
F7: óra | J7: 1. | O7: 2. | T7: 3. | Y7: 4. | AD7: 5. | AI7: 6. | AN7: 7.
H8: ea | I8: tgy | J8: l | K8: k | L8: kr | M8: ea | N8: tgy | O8: l | P8: k | Q8: kr | R8: ea | S8: tgy | T8: l | U8: k | V8: kr | W8: ea | X8: tgy | Y8: l | Z8: k | AA8: kr | AB8: ea | AC8: tgy | AD8: l | AE8: k | AF8: kr | AG8: ea | AH8: tgy | AI8: l | AJ8: k | AK8: kr | AL8: ea | AM8: tgy | AN8: l | AO8: k | AP8: kr
B9: Természettudományos alapismeretek összesen: | F9: =SUM(F10:F17) -> 34 | G9: =SUM(G10:G17) -> 42 | H9: =SUM(H10:H17) -> 10 | I9: =SUM(I10:I17) -> 6 | J9: =SUM(J10:J17) -> 0 | L9: =SUM(L10:L17) -> 21 | M9: =SUM(M10:M17) -> 8 | N9: =SUM(N10:N17) -> 6 | O9: =SUM(O10:O17) -> 0 | Q9: =SUM(Q10:Q17) -> 16 | R9: =SUM(R10:R17) -> 0 | S9: =SUM(S10:S17) -> 0 | T9: =SUM(T10:T17) -> 0 | V9: =SUM(V10:V17) -> 0 | W9: =SUM(W10:W17) -> 2 | X9: =SUM(X10:X17) -> 2 | Y9: =SUM(Y10:Y17) -> 0 | AA9: =SUM(AA10:AA17) -> 5 | AB9: =SUM(AB10:AB17) -> 0 | AC9: =SUM(AC10:AC17) -> 0 | AD9: =SUM(AD10:AD17) -> 0 | AF9: =SUM(AF10:AF17) -> 0 | AG9: =SUM(AG10:AG17) -> 0 | AH9: =SUM(AH10:AH17) -> 0 | AI9: =SUM(AI10:AI17) -> 0 | AK9: =SUM(AK10:AK17) -> 0 | AL9: =SUM(AL10:AL17) -> 0 | AM9: =SUM(AM10:AM17) -> 0 | AN9: =SUM(AN10:AN17) -> 0 | AP9: =SUM(AP10:AP17) -> 0
A10: 1. | B10: NMXAN1HBNE | C10: Matematika I. - Analízis I. | D10: Dr. Galántai Aurél | E10: Dr. Vajda István | F10: =SUM(H10:J10,M10:O10,R10:T10,W10:Y10,AB10:AD10,AG10:AI10,AL10:AN10) -> 6 | G10: =SUM(L10,Q10,V10,AA10,AF10,AK10,AP10) -> 6 | H10: 3 | I10: 3 | J10: 0 | K10: v | L10: 6
A11: 2. | B11: NMXAN2HBNE | C11: Analízis II. | D11: Dr. Vajda István | E11: Dr. Vajda István | F11: =SUM(H11:J11,M11:O11,R11:T11,W11:Y11,AB11:AD11,AG11:AI11,AL11:AN11) -> 6 | G11: =SUM(L11,Q11,V11,AA11,AF11,AK11,AP11) -> 6 | M11: 3 | N11: 3 | O11: 0 | P11: v | Q11: 6 | AQ11: =A10 -> 1. | AR11: =B10 -> NMXAN1HBNE
A12: 3. | B12: NMXDM1HBNE | C12: Diszkrét matematika és lineáris algebra I. | D12: Dr. Szőke Magdolna | E12: Dr. György Anna | F12: =SUM(H12:J12,M12:O12,R12:T12,W12:Y12,AB12:AD12,AG12:AI12,AL12:AN12) -> 5 | G12: =SUM(L12,Q12,V12,AA12,AF12,AK12,AP12) -> 6 | H12: 3 | I12: 2 | J12: 0 | K12: v | L12: 6
A13: 4. | B13: NMXDM2HBNE | C13: Diszkrét matematika és lineáris algebra II. | D13: Dr. Szőke Magdolna | E13: Dr. György Anna | F13: =SUM(H13:J13,M13:O13,R13:T13,W13:Y13,AB13:AD13,AG13:AI13,AL13:AN13) -> 5 | G13: =SUM(L13,Q13,V13,AA13,AF13,AK13,AP13) -> 5 | M13: 3 | N13: 2 | O13: 0 | P13: v | Q13: 5 | AQ13: =A12 -> 3. | AR13: =B12 -> NMXDM1HBNE
A14: 5. | B14: NMXVS1HBNE | C14: Valószínűségszámítás és matematikai statisztika | D14: Dr. Kárász Péter | E14: Dr. Kárász Péter | F14: =SUM(H14:J14,M14:O14,R14:T14,W14:Y14,AB14:AD14,AG14:AI14,AL14:AN14) -> 4 | G14: =SUM(L14,Q14,V14,AA14,AF14,AK14,AP14) -> 5 | W14: 2 | X14: 2 | Y14: 0 | Z14: v | AA14: 5 | AQ14: =A13 -> 4. | AR14: =B13 -> NMXDM2HBNE | AS14: =A11 -> 2. | AT14: =B11 -> NMXAN2HBNE
A15: 6. | B15: NIXBI1HBNE | C15: Bevezetés a informatikába | D15: Dr. Csink László | E15: Dr. Laufer Edit | F15: =SUM(H15:J15,M15:O15,R15:T15,W15:Y15,AB15:AD15,AG15:AI15,AL15:AN15) -> 2 | G15: =SUM(L15,Q15,V15,AA15,AF15,AK15,AP15) -> 4 | H15: 2 | I15: 0 | J15: 0 | K15: é | L15: 4
A16: 7. | B16: KVXFI1HBNE | C16: Fizika | D16: Dr. Rácz Ervin | E16: Dr. Rácz Ervin | F16: =SUM(H16:J16,M16:O16,R16:T16,W16:Y16,AB16:AD16,AG16:AI16,AL16:AN16) -> 3 | G16: =SUM(L16,Q16,V16,AA16,AF16,AK16,AP16) -> 5 | M16: 2 | N16: 1 | O16: 0 | P16: v | Q16: 5 | AQ16: =A10 -> 1. | AR16: =B10 -> NMXAN1HBNE
A17: 8. | B17: KVEVI1HBNE | C17: Villamosságtan * | D17: Dr. Kádár Péter | F17: =SUM(H17:J17,M17:O17,R17:T17,W17:Y17,AB17:AD17,AG17:AI17,AL17:AN17) -> 3 | G17: =SUM(L17,Q17,V17,AA17,AF17,AK17,AP17) -> 5 | H17: 2 | I17: 1 | J17: 0 | K17: v | L17: 5
B18: Gazdasági és Humán ismeretek összesen: | F18: =SUM(F19:F24) -> 13 | G18: =SUM(G19:G24) -> 16 | H18: =SUM(H19:H24) -> 2 | I18: =SUM(I19:I24) -> 0 | J18: =SUM(J19:J24) -> 0 | L18: =SUM(L19:L24) -> 2 | M18: =SUM(M19:M24) -> 1 | N18: =SUM(N19:N24) -> 1 | O18: =SUM(O19:O24) -> 0 | Q18: =SUM(Q19:Q24) -> 2 | R18: =SUM(R19:R24) -> 2 | S18: =SUM(S19:S24) -> 2 | T18: =SUM(T19:T24) -> 0 | V18: =SUM(V19:V24) -> 4 | W18: =SUM(W19:W24) -> 1 | X18: =SUM(X19:X24) -> 0 | Y18: =SUM(Y19:Y24) -> 0 | AA18: =SUM(AA19:AA24) -> 2 | AB18: =SUM(AB19:AB24) -> 1 | AC18: =SUM(AC19:AC24) -> 1 | AD18: =SUM(AD19:AD24) -> 0 | AF18: =SUM(AF19:AF24) -> 3 | AG18: =SUM(AG19:AG24) -> 2 | AH18: =SUM(AH19:AH24) -> 0 | AI18: =SUM(AI19:AI24) -> 0 | AK18: =SUM(AK19:AK24) -> 3 | AL18: =SUM(AL19:AL24) -> 0 | AM18: =SUM(AM19:AM24) -> 0 | AN18: =SUM(AN19:AN24) -> 0 | AP18: =SUM(AP19:AP24) -> 0
A19: 9. | B19: GGXKG1HBNE | C19: Makroökonómia | D19: Dr. Medve András | F19: =SUM(H19:J19,M19:O19,R19:T19,W19:Y19,AB19:AD19,AG19:AI19,AL19:AN19) -> 2 | G19: =SUM(L19,Q19,V19,AA19,AF19,AK19,AP19) -> 2 | H19: 2 | I19: 0 | J19: 0 | K19: é | L19: 2
A20: 10. | B20: GGXKG2HBNE | C20: Mikroökonómia | D20: Dr. Medve András | F20: =SUM(H20:J20,M20:O20,R20:T20,W20:Y20,AB20:AD20,AG20:AI20,AL20:AN20) -> 2 | G20: =SUM(L20,Q20,V20,AA20,AF20,AK20,AP20) -> 2 | M20: 1 | N20: 1 | O20: 0 | P20: é | Q20: 2
A21: 11. | B21: GSXVG0HBNE | C21: Vállalkozás gazdaságtan * | D21: Dr. Katona Ferenc | F21: =SUM(H21:J21,M21:O21,R21:T21,W21:Y21,AB21:AD21,AG21:AI21,AL21:AN21) -> 4 | G21: =SUM(L21,Q21,V21,AA21,AF21,AK21,AP21) -> 4 | R21: 2 | S21: 2 | T21: 0 | U21: é | V21: 4
A22: 12. | B22: GVXME1HBNE | C22: Menedzsment alapjai | D22: Dr. Parragh Bianka | F22: =SUM(H22:J22,M22:O22,R22:T22,W22:Y22,AB22:AD22,AG22:AI22,AL22:AN22) -> 2 | G22: =SUM(L22,Q22,V22,AA22,AF22,AK22,AP22) -> 3 | AB22: 1 | AC22: 1 | AD22: 0 | AE22: é | AF22: 3
A23: 13. | B23: GGXJA1HBNE | C23: Államigazgatási és jogi ismeretek * | D23: Dr. Kohlhoffer-Mizser Csilla | F23: =SUM(H23:J23,M23:O23,R23:T23,W23:Y23,AB23:AD23,AG23:AI23,AL23:AN23) -> 2 | G23: =SUM(L23,Q23,V23,AA23,AF23,AK23,AP23) -> 3 | AG23: 2 | AH23: 0 | AI23: 0 | AJ23: é | AK23: 3
A24: 14. | B24: NNXIK2HBNE | C24: Infokommunikációs technikák | D24: Dr. Nádai László | F24: =SUM(H24:J24,M24:O24,R24:T24,W24:Y24,AB24:AD24,AG24:AI24,AL24:AN24) -> 1 | G24: =SUM(L24,Q24,V24,AA24,AF24,AK24,AP24) -> 2 | W24: 1 | X24: 0 | Y24: 0 | Z24: é | AA24: 2
A25: * e-learning blended formában indul
B29: Kód | C29: Tantárgyak | F29: heti | G29: kredit | H29: Félévek | AR29: Előtanulmány | AT29: Előtanulmány
F30: óra | J30: 1. | O30: 2. | T30: 3. | Y30: 4. | AD30: 5. | AI30: 6. | AN30: 7.
H31: ea | I31: tgy | J31: l | K31: k | L31: kr | M31: ea | N31: tgy | O31: l | P31: k | Q31: kr | R31: ea | S31: tgy | T31: l | U31: k | V31: kr | W31: ea | X31: tgy | Y31: l | Z31: k | AA31: kr | AB31: ea | AC31: tgy | AD31: l | AE31: k | AF31: kr | AG31: ea | AH31: tgy | AI31: l | AJ31: k | AK31: kr | AL31: ea | AM31: tgy | AN31: l | AO31: k | AP31: kr | AR31: Kód | AT31: Kód
B32: Szakmai törzsanyag összesen: | F32: =SUM(F33:F57) -> 91 | G32: =SUM(G33:G57) -> 124 | H32: =SUM(H33:H57) -> 3 | I32: =SUM(I33:I57) -> 0 | J32: =SUM(J33:J57) -> 3 | L32: =SUM(L33:L57) -> 6 | M32: =SUM(M33:M57) -> 7 | N32: =SUM(N33:N57) -> 0 | O32: =SUM(O33:O57) -> 7 | Q32: =SUM(Q33:Q57) -> 14 | R32: =SUM(R33:R57) -> 8 | S32: =SUM(S33:S57) -> 1 | T32: =SUM(T33:T57) -> 12 | V32: =SUM(V33:V57) -> 27 | W32: =SUM(W33:W57) -> 9 | X32: =SUM(X33:X57) -> 0 | Y32: =SUM(Y33:Y57) -> 10 | AA32: =SUM(AA33:AA57) -> 22 | AB32: =SUM(AB33:AB57) -> 7 | AC32: =SUM(AC33:AC57) -> 0 | AD32: =SUM(AD33:AD57) -> 8 | AF32: =SUM(AF33:AF57) -> 18 | AG32: =SUM(AG33:AG57) -> 4 | AH32: =SUM(AH33:AH57) -> 0 | AI32: =SUM(AI33:AI57) -> 4 | AK32: =SUM(AK33:AK57) -> 17 | AL32: =SUM(AL33:AL57) -> 4 | AM32: =SUM(AM33:AM57) -> 0 | AN32: =SUM(AN33:AN57) -> 4 | AP32: =SUM(AP33:AP57) -> 20
A33: 15. | B33: NIXSF1HBNE | C33: Szoftvertervezés és -fejlesztés I. | D33: Dr. Sergyán Szabolcs | F33: =SUM(H33:J33,M33:O33,R33:T33,W33:Y33,AB33:AD33,AG33:AI33,AL33:AN33) -> 6 | G33: =SUM(L33,Q33,V33,AA33,AF33,AK33,AP33) -> 6 | H33: 3 | I33: 0 | J33: 3 | K33: v | L33: 6
A34: 16. | B34: NIXSF2HBNE | C34: Szoftvertervezés és -fejlesztés II. | D34: Dr. Szénási Sándor | F34: =SUM(H34:J34,M34:O34,R34:T34,W34:Y34,AB34:AD34,AG34:AI34,AL34:AN34) -> 6 | G34: =SUM(L34,Q34,V34,AA34,AF34,AK34,AP34) -> 6 | M34: 3 | N34: 0 | O34: 3 | P34: v | Q34: 6 | AQ34: =A33 -> 15. | AR34: =B33 -> NIXSF1HBNE
A35: 17. | B35: NSXHF1HBNE | C35: Haladó fejlesztési technikák | D35: Dr. Vámossy Zoltán | F35: =SUM(H35:J35,M35:O35,R35:T35,W35:Y35,AB35:AD35,AG35:AI35,AL35:AN35) -> 3 | G35: =SUM(L35,Q35,V35,AA35,AF35,AK35,AP35) -> 4 | R35: 0 | S35: 0 | T35: 3 | U35: é | V35: 4 | AQ35: =A34 -> 16. | AR35: =B34 -> NIXSF2HBNE
A36: 18. | B36: NSXJW1HBNE | C36: Java alapú webfejlesztés | F36: =SUM(H36:J36,M36:O36,R36:T36,W36:Y36,AB36:AD36,AG36:AI36,AL36:AN36) -> 2 | G36: =SUM(L36,Q36,V36,AA36,AF36,AK36,AP36) -> 3 | R36: 0 | S36: 0 | T36: 2 | U36: é | V36: 3 | AQ36: =A34 -> 16. | AR36: =B34 -> NIXSF2HBNE
A37: 19. | B37: NIXAB0HBNE | C37: Adatbázisok | D37: Dr. Fleiner Rita | F37: =SUM(H37:J37,M37:O37,R37:T37,W37:Y37,AB37:AD37,AG37:AI37,AL37:AN37) -> 4 | G37: =SUM(L37,Q37,V37,AA37,AF37,AK37,AP37) -> 5 | R37: 2 | S37: 0 | T37: 2 | U37: é | V37: 5 | AQ37: =A33 -> 15. | AR37: =B33 -> NIXSF1HBNE
A38: 20. | B38: NIXSG1HBNE | C38: Szoftvertechnológia és grafikus felhasználói interfész tervezése | D38: Dr. Tick József | F38: =SUM(H38:J38,M38:O38,R38:T38,W38:Y38,AB38:AD38,AG38:AI38,AL38:AN38) -> 5 | G38: =SUM(L38,Q38,V38,AA38,AF38,AK38,AP38) -> 5 | W38: 2 | X38: 0 | Y38: 3 | Z38: v | AA38: 5 | AQ38: =A35 -> 17. | AR38: =B35 -> NSXHF1HBNE
A39: 21. | B39: NIXRE1HBNE | C39: Rendszerelmélet | D39: Dr. Kovács Levente | F39: =SUM(H39:J39,M39:O39,R39:T39,W39:Y39,AB39:AD39,AG39:AI39,AL39:AN39) -> 3 | G39: =SUM(L39,Q39,V39,AA39,AF39,AK39,AP39) -> 5 | R39: 2 | S39: 1 | T39: 0 | U39: v | V39: 5 | AQ39: =A11 -> 2. | AR39: =B11 -> NMXAN2HBNE
A40: 22. | B40: NIEEL0HBNE | C40: Elektronika * | D40: Dr. Stojcsics Dániel | F40: =SUM(H40:J40,M40:O40,R40:T40,W40:Y40,AB40:AD40,AG40:AI40,AL40:AN40) -> 4 | G40: =SUM(L40,Q40,V40,AA40,AF40,AK40,AP40) -> 4 | M40: 2 | N40: 0 | O40: 2 | P40: é | Q40: 4
A41: 23. | B41: NIXDR0HBNE | C41: Digitális rendszerek | D41: Dr. Molnár András | F41: =SUM(H41:J41,M41:O41,R41:T41,W41:Y41,AB41:AD41,AG41:AI41,AL41:AN41) -> 4 | G41: =SUM(L41,Q41,V41,AA41,AF41,AK41,AP41) -> 5 | R41: 2 | S41: 0 | T41: 2 | U41: é | V41: 5 | AQ41: 22. | AR41: =B40 -> NIEEL0HBNE | AS41: 3. | AT41: NMXDM1HBNE
A42: 24. | B42: NIESA1HBNE | C42: Számítógép architektúrák alapjai * | D42: Dr. Sima Dezső | F42: =SUM(H42:J42,M42:O42,R42:T42,W42:Y42,AB42:AD42,AG42:AI42,AL42:AN42) -> 4 | G42: =SUM(L42,Q42,V42,AA42,AF42,AK42,AP42) -> 4 | AB42: 2 | AC42: 0 | AD42: 2 | AE42: v | AF42: 4
A43: 25. | B43: NIXKA1HBNE | C43: Korszerű számítógép architektúrák I. | D43: Dr. Sima Dezső | F43: =SUM(H43:J43,M43:O43,R43:T43,W43:Y43,AB43:AD43,AG43:AI43,AL43:AN43) -> 2 | G43: =SUM(L43,Q43,V43,AA43,AF43,AK43,AP43) -> 2 | AG43: 2 | AH43: 0 | AI43: 0 | AJ43: v | AK43: 2 | AQ43: =A42 -> 24. | AR43: =B42 -> NIESA1HBNE
A44: 26. | B44: NIXKA2HBNE | C44: Korszerű számítógép architektúrák II. | D44: Dr. Sima Dezső | F44: =SUM(H44:J44,M44:O44,R44:T44,W44:Y44,AB44:AD44,AG44:AI44,AL44:AN44) -> 2 | G44: =SUM(L44,Q44,V44,AA44,AF44,AK44,AP44) -> 2 | AL44: 2 | AM44: 0 | AN44: 0 | AO44: v | AP44: 2 | AQ44: =A43 -> 25. | AR44: =B43 -> NIXKA1HBNE
A45: 27. | B45: NIEOR1HBNE | C45: Operációs rendszerek * | D45: Dr. Rövid András | F45: =SUM(H45:J45,M45:O45,R45:T45,W45:Y45,AB45:AD45,AG45:AI45,AL45:AN45) -> 5 | G45: =SUM(L45,Q45,V45,AA45,AF45,AK45,AP45) -> 5 | R45: 2 | S45: 0 | T45: 3 | U45: v | V45: 5 | AQ45: =A46 -> 28. | AR45: =B46 -> NIXSH0HBNE
A46: 28. | B46: NIXSH0HBNE | C46: Számítógép hálózatok | D46: Dr. Rövid András | F46: =SUM(H46:J46,M46:O46,R46:T46,W46:Y46,AB46:AD46,AG46:AI46,AL46:AN46) -> 4 | G46: =SUM(L46,Q46,V46,AA46,AF46,AK46,AP46) -> 4 | M46: 2 | N46: 0 | O46: 2 | P46: v | Q46: 4 | AQ46: =A15 -> 6. | AR46: =B15 -> NIXBI1HBNE
...

Sheet 1. sz. melléklet
B4: 1. sz. melléklet
A7: heti óraszámokkal (ea. tgy. l). ; követelményekkel (k.); kreditekkel (kr.)
B8: Kód | C8: Tantárgyak | D8: Tárgyfelelős | E8: Oktató(k) | F8: heti | G8: kredit | H8: Félévek | AR8: Előtanulmány | AT8: Előtanulmány
F9: óra | J9: 1. | O9: 2. | T9: 3. | Y9: 4. | AD9: 5. | AI9: 6. | AN9: 7.
H10: ea | I10: tgy | J10: l | K10: k | L10: kr | M10: ea | N10: tgy | O10: l | P10: k | Q10: kr | R10: ea | S10: tgy | T10: l | U10: k | V10: kr | W10: ea | X10: tgy | Y10: l | Z10: k | AA10: kr | AB10: ea | AC10: tgy | AD10: l | AE10: k | AF10: kr | AG10: ea | AH10: tgy | AI10: l | AJ10: k | AK10: kr | AL10: ea | AM10: tgy | AN10: l | AO10: k | AP10: kr | AR10: Kód | AT10: Kód
B11: Specializációk 1,2
B12: IOT, beágyazott rendszerek és robotika specializáció (I) | F12: =SUM(F13:F20) -> 22 | G12: =SUM(G13:G20) -> 30 | H12: =SUM(H13:H20) -> 0 | I12: =SUM(I13:I20) -> 0 | J12: =SUM(J13:J20) -> 0 | L12: =SUM(L13:L20) -> 0 | M12: =SUM(M13:M20) -> 0 | N12: =SUM(N13:N20) -> 0 | O12: =SUM(O13:O20) -> 0 | Q12: =SUM(Q13:Q20) -> 0 | R12: =SUM(R13:R20) -> 0 | S12: =SUM(S13:S20) -> 0 | T12: =SUM(T13:T20) -> 0 | V12: =SUM(V13:V20) -> 0 | W12: =SUM(W13:W20) -> 2 | X12: =SUM(X13:X20) -> 0 | Y12: =SUM(Y13:Y20) -> 4 | AA12: =SUM(AA13:AA20) -> 8 | AB12: =SUM(AB13:AB20) -> 3 | AC12: =SUM(AC13:AC20) -> 0 | AD12: =SUM(AD13:AD20) -> 3 | AF12: =SUM(AF13:AF20) -> 8 | AG12: =SUM(AG13:AG20) -> 2 | AH12: =SUM(AH13:AH20) -> 0 | AI12: =SUM(AI13:AI20) -> 3 | AK12: =SUM(AK13:AK20) -> 7 | AL12: =SUM(AL13:AL20) -> 2 | AM12: =SUM(AM13:AM20) -> 0 | AN12: =SUM(AN13:AN20) -> 3 | AP12: =SUM(AP13:AP20) -> 7 | AQ12: ='BSc tanterv nappali'!$A$50 -> 32. | AR12: ='BSc tanterv nappali'!$B$50 -> NIXSS1HBNE
A13: 50. | B13: NAXIT3IBNE | C13: Irányítástechnika | D13: Dr. Kovács Levente | F13: =SUM(W13:Y13,AB13:AD13,AG13:AI13,AL13:AN13) -> 3 | G13: =SUM(AA13,AF13,AK13,AP13) -> 4 | W13: 1 | X13: 0 | Y13: 2 | Z13: é | AA13: 4 | AQ13: ='BSc tanterv nappali'!A39 -> 21. | AR13: ='BSc tanterv nappali'!B39 -> NIXRE1HBNE
A14: 51. | B14: NIXBE1IBNE | C14: Beágyazott és érzékelőalapú rendszerek | D14: Dr. Molnár András | F14: =SUM(W14:Y14,AB14:AD14,AG14:AI14,AL14:AN14) -> 3 | G14: =SUM(AA14,AF14,AK14,AP14) -> 4 | W14: 1 | X14: 0 | Y14: 2 | Z14: v | AA14: 4 | AQ14: ='BSc tanterv nappali'!A41 -> 23. | AR14: ='BSc tanterv nappali'!B41 -> NIXDR0HBNE
A15: 52. | B15: NBXRT1IBNE | C15: Robottechnika alapjai | D15: Dr. Galambos Péter | F15: =SUM(W15:Y15,AB15:AD15,AG15:AI15,AL15:AN15) -> 3 | G15: =SUM(AA15,AF15,AK15,AP15) -> 4 | AB15: 3 | AC15: 0 | AD15: 0 | AE15: v | AF15: 4 | AQ15: =A13 -> 50. | AR15: =B13 -> NAXIT3IBNE
A16: 53. | B16: NIXBP1IBNE | C16: Beágyazott eszközök programozása I. | D16: Dr. Stojcsics Dániel | F16: =SUM(W16:Y16,AB16:AD16,AG16:AI16,AL16:AN16) -> 3 | G16: =SUM(AA16,AF16,AK16,AP16) -> 4 | AB16: 0 | AC16: 0 | AD16: 3 | AE16: é | AF16: 4 | AQ16: =A14 -> 51. | AR16: =B14 -> NIXBE1IBNE
A17: 54. | B17: NBXRP1IBNE | C17: Bevezetés a robot programozásba | D17: Dr. Galambos Péter | F17: =SUM(W17:Y17,AB17:AD17,AG17:AI17,AL17:AN17) -> 2 | G17: =SUM(AA17,AF17,AK17,AP17) -> 3 | AG17: 2 | AH17: 0 | AI17: 0 | AJ17: v | AK17: 3 | AQ17: =A15 -> 52. | AR17: =B15 -> NBXRT1IBNE
A18: 55. | B18: NIEBP2IBNE | C18: Beágyazott eszközök programozása II. * | D18: Dr. Stojcsics Dániel | F18: =SUM(W18:Y18,AB18:AD18,AG18:AI18,AL18:AN18) -> 3 | G18: =SUM(AA18,AF18,AK18,AP18) -> 4 | AG18: 0 | AH18: 0 | AI18: 3 | AJ18: é | AK18: 4 | AQ18: =A16 -> 53. | AR18: =B16 -> NIXBP1IBNE
A19: 56. | B19: NBERI1IBNE | C19: Robotirányítás * | D19: Dr. Haidegger Tamás | F19: =SUM(W19:Y19,AB19:AD19,AG19:AI19,AL19:AN19) -> 2 | G19: =SUM(AA19,AF19,AK19,AP19) -> 3 | AL19: 1 | AM19: 0 | AN19: 1 | AO19: é | AP19: 3 | AQ19: =A13 -> 50. | AR19: =B13 -> NAXIT3IBNE
A20: 57. | B20: NIXSI1IBNE | C20: Szenzorhálózatok, IoT rendszerek | D20: Dr. Molnár András | F20: =SUM(W20:Y20,AB20:AD20,AG20:AI20,AL20:AN20) -> 3 | G20: =SUM(AA20,AF20,AK20,AP20) -> 4 | AL20: 1 | AM20: 0 | AN20: 2 | AO20: v | AP20: 4 | AQ20: =A16 -> 53. | AR20: =B16 -> NIXBP1IBNE
B21: Big Data és üzleti intelligencia specializáció (G) | F21: =SUM(F22:F27) -> 22 | G21: =SUM(G22:G27) -> 30 | H21: =SUM(H22:H27) -> 0 | I21: =SUM(I22:I27) -> 0 | J21: =SUM(J22:J27) -> 0 | L21: =SUM(L22:L27) -> 0 | M21: =SUM(M22:M27) -> 0 | N21: =SUM(N22:N27) -> 0 | O21: =SUM(O22:O27) -> 0 | Q21: =SUM(Q22:Q27) -> 0 | R21: =SUM(R22:R27) -> 0 | S21: =SUM(S22:S27) -> 0 | T21: =SUM(T22:T27) -> 0 | V21: =SUM(V22:V27) -> 0 | W21: =SUM(W22:W27) -> 5 | X21: =SUM(X22:X27) -> 0 | Y21: =SUM(Y22:Y27) -> 2 | AA21: =SUM(AA22:AA27) -> 8 | AB21: =SUM(AB22:AB27) -> 2 | AC21: =SUM(AC22:AC27) -> 0 | AD21: =SUM(AD22:AD27) -> 3 | AF21: =SUM(AF22:AF27) -> 8 | AG21: =SUM(AG22:AG27) -> 4 | AH21: =SUM(AH22:AH27) -> 0 | AI21: =SUM(AI22:AI27) -> 2 | AK21: =SUM(AK22:AK27) -> 7 | AL21: =SUM(AL22:AL27) -> 2 | AM21: =SUM(AM22:AM27) -> 0 | AN21: =SUM(AN22:AN27) -> 2 | AP21: =SUM(AP22:AP27) -> 7 | AQ21: ='BSc tanterv nappali'!$A$50 -> 32. | AR21: ='BSc tanterv nappali'!$B$50 -> NIXSS1HBNE
A22: 58. | B22: GGXVP1GBNE | C22: Vállalkozások pénzügyei, számvitel alapjai | D22: Dr. Parragh Bianka | F22: =SUM(W22:Y22,AB22:AD22,AG22:AI22,AL22:AN22) -> 3 | G22: =SUM(AA22,AF22,AK22,AP22) -> 3 | W22: 3 | X22: 0 | Y22: 0 | Z22: é | AA22: 3
A23: 59. | B23: NIXKD1GBNE | C23: Korszerű adatbázisok | D23: Dr. Fleiner Rita | F23: =SUM(W23:Y23,AB23:AD23,AG23:AI23,AL23:AN23) -> 4 | G23: =SUM(AA23,AF23,AK23,AP23) -> 5 | W23: 2 | X23: 0 | Y23: 2 | Z23: v | AA23: 5 | AQ23: ='BSc tanterv nappali'!A37 -> 19. | AR23: ='BSc tanterv nappali'!B37 -> NIXAB0HBNE
A24: 60. | B24: NIXAT1GBNE | C24: Adattárházak és üzleti intelligencia | D24: Dr. Felde Imre | F24: =SUM(W24:Y24,AB24:AD24,AG24:AI24,AL24:AN24) -> 5 | G24: =SUM(AA24,AF24,AK24,AP24) -> 8 | AB24: 2 | AC24: 0 | AD24: 3 | AE24: v | AF24: 8 | AQ24: =A23 -> 59. | AR24: =B23 -> NIXKD1GBNE
A25: 61. | B25: NIEBD1GBNE | C25: Big data algoritmusok és programozás * | D25: Dr. Felde Imre | F25: =SUM(W25:Y25,AB25:AD25,AG25:AI25,AL25:AN25) -> 4 | G25: =SUM(AA25,AF25,AK25,AP25) -> 5 | AG25: 2 | AH25: 0 | AI25: 2 | AJ25: v | AK25: 5 | AQ25: =A23 -> 59. | AR25: =B23 -> NIXKD1GBNE
A26: 62. | B26: NIXER1GBNE | C26: ERP I. | D26: Dr. Erdődi László | F26: =SUM(W26:Y26,AB26:AD26,AG26:AI26,AL26:AN26) -> 2 | G26: =SUM(AA26,AF26,AK26,AP26) -> 2 | AG26: 2 | AH26: 0 | AI26: 0 | AJ26: é | AK26: 2 | AQ26: ='BSc tanterv nappali'!A48 -> 30. | AR26: ='BSc tanterv nappali'!B48 -> NIXVI0HBNE
A27: 63. | B27: NIEER2GBNE | C27: ERP II. * | D27: Dr. Erdődi László | F27: =SUM(W27:Y27,AB27:AD27,AG27:AI27,AL27:AN27) -> 4 | G27: =SUM(AA27,AF27,AK27,AP27) -> 7 | AL27: 2 | AM27: 0 | AN27: 2 | AO27: v | AP27: 7 | AQ27: =A26 -> 62. | AR27: =B26 -> NIXER1GBNE
A28: * e-learning blended formában indul
A29: 1 A specializáció választás feltétele a Szakmai szigorlat teljesítése.
A30: 2 A kooperatív képzésben résztvevők esetén lásd a kooperatív képzés tantervénél.
A31: heti óraszámokkal (ea. tgy. l). ; követelményekkel (k.); kreditekkel (kr.)
B32: Kód | C32: Tantárgyak | F32: heti | G32: kredit | H32: Félévek | AR32: Előtanulmány | AT32: Előtanulmány
F33: óra | J33: 1. | O33: 2. | T33: 3. | Y33: 4. | AD33: 5. | AI33: 6. | AN33: 7.
H34: ea | I34: tgy | J34: l | K34: k | L34: kr | M34: ea | N34: tgy | O34: l | P34: k | Q34: kr | R34: ea | S34: tgy | T34: l | U34: k | V34: kr | W34: ea | X34: tgy | Y34: l | Z34: k | AA34: kr | AB34: ea | AC34: tgy | AD34: l | AE34: k | AF34: kr | AG34: ea | AH34: tgy | AI34: l | AJ34: k | AK34: kr | AL34: ea | AM34: tgy | AN34: l | AO34: k | AP34: kr | AR34: Kód | AT34: Kód
B35: Felhő szolgáltatási technológiák és IT biztonság specializáció (F) | F35: =SUM(F36:F41) -> 22 | G35: =SUM(G36:G41) -> 30 | H35: =SUM(H36:H40) -> 0 | I35: =SUM(I36:I40) -> 0 | J35: =SUM(J36:J40) -> 0 | L35: =SUM(L36:L40) -> 0 | M35: =SUM(M36:M40) -> 0 | N35: =SUM(N36:N40) -> 0 | O35: =SUM(O36:O40) -> 0 | Q35: =SUM(Q36:Q40) -> 0 | R35: =SUM(R36:R40) -> 0 | S35: =SUM(S36:S40) -> 0 | T35: =SUM(T36:T40) -> 0 | V35: =SUM(V36:V40) -> 0 | W35: =SUM(W36:W40) -> 3 | X35: =SUM(X36:X40) -> 0 | Y35: =SUM(Y36:Y40) -> 2 | AA35: =SUM(AA36:AA40) -> 8 | AB35: =SUM(AB36:AB41) -> 4 | AC35: =SUM(AC36:AC46) -> 0 | AD35: =SUM(AD36:AD41) -> 2 | AF35: =SUM(AF36:AF41) -> 8 | AG35: =SUM(AG36:AG46) -> 2 | AH35: =SUM(AH36:AH46) -> 0 | AI35: =SUM(AI36:AI46) -> 4 | AK35: =SUM(AK36:AK41) -> 7 | AL35: =SUM(AL36:AL41) -> 2 | AM35: =SUM(AM36:AM46) -> 0 | AN35: =SUM(AN36:AN41) -> 3 | AP35: =SUM(AP36:AP41) -> 7 | AQ35: ='BSc tanterv nappali'!$A$50 -> 32. | AR35: ='BSc tanterv nappali'!$B$50 -> NIXSS1HBNE
A36: 64. | B36: NIXHT1FBNE | C36: Hálózati technológiák I. | D36: Dr. Kozlovszky Miklós | F36: =SUM(W36:Y36,AB36:AD36,AG36:AI36,AL36:AN36) -> 3 | G36: =SUM(AA36,AF36,AK36,AP36) -> 4 | W36: 2 | X36: 0 | Y36: 1 | Z36: v | AA36: 4 | AQ36: ='BSc tanterv nappali'!A46 -> 28. | AR36: ='BSc tanterv nappali'!B46 -> NIXSH0HBNE
A37: 65. | B37: NIXVT1FBNE | C37: Virtualizált tárolórendszerek | D37: Dr. Kozlovszky Miklós | F37: =SUM(W37:Y37,AB37:AD37,AG37:AI37,AL37:AN37) -> 2 | G37: =SUM(AA37,AF37,AK37,AP37) -> 4 | W37: 1 | X37: 0 | Y37: 1 | Z37: é | AA37: 4 | AQ37: ='BSc tanterv nappali'!A45 -> 27. | AR37: ='BSc tanterv nappali'!B45 -> NIEOR1HBNE
A38: 66. | B38: NIXFS1FBNE | C38: Felhőszolgáltatások I. | D38: Dr. Lovas Róbert | F38: =SUM(W38:Y38,AB38:AD38,AG38:AI38,AL38:AN38) -> 2 | G38: =SUM(AA38,AF38,AK38,AP38) -> 3 | AB38: 2 | AC38: 0 | AD38: 0 | AE38: é | AF38: 3 | AQ38: =A37 -> 65. | AR38: =B37 -> NIXVT1FBNE
A39: 67. | B39: NIEFS2FBNE | C39: Felhőszolgáltatások II. * | D39: Dr. Lovas Róbert | F39: =SUM(W39:Y39,AB39:AD39,AG39:AI39,AL39:AN39) -> 2 | G39: =SUM(AA39,AF39,AK39,AP39) -> 2 | AG39: 0 | AH39: 0 | AI39: 2 | AJ39: é | AK39: 2 | AQ39: =A38 -> 66. | AR39: =B38 -> NIXFS1FBNE
A40: 68. | B40: NIXSH1FBNE | C40: Számítógép hálózatok és felhők biztonsága | D40: Dr. Kozlovszky Miklós | F40: =SUM(W40:Y40,AB40:AD40,AG40:AI40,AL40:AN40) -> 4 | G40: =SUM(AA40,AF40,AK40,AP40) -> 5 | AG40: 2 | AH40: 0 | AI40: 2 | AJ40: v | AK40: 5 | AQ40: ='BSc tanterv nappali'!A49 -> 31. | AR40: ='BSc tanterv nappali'!B49 -> NIEIB0HBNE | AS40: =A36 -> 64. | AT40: =B36 -> NIXHT1FBNE
B41: Informatikai biztonság sáv | F41: =SUM(W41:Y41,AB41:AD41,AG41:AI41,AL41:AN41) -> 9 | G41: =SUM(AA41,AF41,AK41,AP41) -> 12 | W41: =SUM(W42:W43) -> 0 | X41: =SUM(X42:X43) -> 0 | Y41: =SUM(Y42:Y43) -> 0 | Z41: =SUM(Z42:Z43) -> 0 | AA41: =SUM(AA42:AA43) -> 0 | AB41: =SUM(AB42:AB43) -> 2 | AC41: =SUM(AC42:AC43) -> 0 | AD41: =SUM(AD42:AD43) -> 2 | ... AP41: =SUM(AP42:AP43) -> 7
A42: 69. | B42: NIXIS1FBNE | C42: Informatikai rendszerek és szolgáltatások biztonsága | D42: Dr. Póser Valéria | F42: =SUM(W42:Y42,AB42:AD42,AG42:AI42,AL42:AN42) -> 4 | G42: =SUM(AA42,AF42,AK42,AP42) -> 5 | AB42: 2 | AC42: 0 | AD42: 2 | AE42: v | AF42: 5 | AQ42: ='BSc tanterv nappali'!A49 -> 31. | AR42: ='BSc tanterv nappali'!B49 -> NIEIB0HBNE
A43: 70. | B43: NIEIB1FBNE | C43: Intézményi informatikai biztonság * | D43: Dr. Póser Valéria | F43: =SUM(W43:Y43,AB43:AD43,AG43:AI43,AL43:AN43) -> 5 | G43: =SUM(AA43,AF43,AK43,AP43) -> 7 | AL43: 2 | AM43: 0 | AN43: 3 | AO43: v | AP43: 7 | AQ43: =A42 -> 69. | AR43: =B42 -> NIXIS1FBNE
B44: Hálózatok sáv | F44: =SUM(W44:Y44,AB44:AD44,AG44:AI44,AL44:AN44) -> 9 | G44: =SUM(AA44,AF44,AK44,AP44) -> 12 | W44: =SUM(W45:W46) -> 0 | X44: =SUM(X45:X46) -> 0 | Y44: =SUM(Y45:Y46) -> 0 | Z44: =SUM(Z45:Z46) -> 0 | AA44: =SUM(AA45:AA46) -> 0 | AB44: =SUM(AB45:AB46) -> 2 | AC44: =SUM(AC45:AC46) -> 0 | AD44: =SUM(AD45:AD46) -> 2 | ... AP44: =SUM(AP45:AP46) -> 7
A45: 71. | B45: NIXHT2FBNE | C45: Hálózati technológiák II. | D45: Dr. Kozlovszky Miklós | F45: =SUM(W45:Y45,AB45:AD45,AG45:AI45,AL45:AN45) -> 4 | G45: =SUM(AA45,AF45,AK45,AP45) -> 5 | AB45: 2 | AC45: 0 | AD45: 2 | AE45: v | AF45: 5 | AQ45: =A36 -> 64. | AR45: =B36 -> NIXHT1FBNE
...
